BEGIN:VCALENDAR
VERSION:2.0
PRODID:-//Afrikalinks - ECPv6.15.20//NONSGML v1.0//EN
CALSCALE:GREGORIAN
METHOD:PUBLISH
X-ORIGINAL-URL:https://afrikalinks.nl
X-WR-CALDESC:Evenementen voor Afrikalinks
REFRESH-INTERVAL;VALUE=DURATION:PT1H
X-Robots-Tag:noindex
X-PUBLISHED-TTL:PT1H
BEGIN:VTIMEZONE
TZID:Europe/Amsterdam
BEGIN:DAYLIGHT
TZOFFSETFROM:+0100
TZOFFSETTO:+0200
TZNAME:CEST
DTSTART:20250330T010000
END:DAYLIGHT
BEGIN:STANDARD
TZOFFSETFROM:+0200
TZOFFSETTO:+0100
TZNAME:CET
DTSTART:20251026T010000
END:STANDARD
BEGIN:DAYLIGHT
TZOFFSETFROM:+0100
TZOFFSETTO:+0200
TZNAME:CEST
DTSTART:20260329T010000
END:DAYLIGHT
BEGIN:STANDARD
TZOFFSETFROM:+0200
TZOFFSETTO:+0100
TZNAME:CET
DTSTART:20261025T010000
END:STANDARD
BEGIN:DAYLIGHT
TZOFFSETFROM:+0100
TZOFFSETTO:+0200
TZNAME:CEST
DTSTART:20270328T010000
END:DAYLIGHT
BEGIN:STANDARD
TZOFFSETFROM:+0200
TZOFFSETTO:+0100
TZNAME:CET
DTSTART:20271031T010000
END:STANDARD
END:VTIMEZONE
BEGIN:VEVENT
DTSTART;TZID=Europe/Amsterdam:20260220T210000
DTEND;TZID=Europe/Amsterdam:20260221T000000
DTSTAMP:20260421T101146
CREATED:20251229T140432Z
LAST-MODIFIED:20251229T140432Z
UID:379638-1771621200-1771632000@afrikalinks.nl
SUMMARY:Kin'Gongolo Kiniata
DESCRIPTION:Wooden boards\, tin cans\, empty beer crates and a few plastic bottles: that is all Kin’Gongolo Kiniata needs to magically bring the electrifying streetsound of megacity Kinshasa to GROUNDS and to make it a hell of a party! \nKin’Gongolo Kiniata stands out as a new force in Kinshasa’s vibrant music scene\, offering an innovative proposal that captures the vibrant and chaotic urban life of the Congolese capital. Fueled by the pulsating sounds of the city\, this dynamic group creates their music using instruments made from recycled objects\, exploring a wide range of sound textures. The result is a highly experimental Afropop that blends the energy of punk with electronically generated Congolese rhythms. \nKin’Gongolo Kiniata explores different themes in their music that mainly focus on hope and perseverance\, aiming to spread a positive message and encouragement among Kinshasa’s younger generation. Since their European debut at Trans Musicales 2022\, they have been illuminating stages further afield\, positively encouraging audiences in France\, Belgium\, Switzerland\, Portugal and GROUNDS onto the dancefloor. \nTickets:\nEarly bird €17.50\nRegular €20\nAt the door €22.50 \nHave a listen:\nhttps://youtu.be/oKKZMseaU9M\nhttps://youtu.be/RTbSQQLtUCQ
URL:https://afrikalinks.nl/evenementen/kingongolo-kiniata/
LOCATION:Pieter de Hoochweg 125\, 3024 BG Rotterdam\, Netherlands
CATEGORIES:Concerten
ATTACH;FMTTYPE=image/jpeg:https://afrikalinks.nl/wp-content/uploads/2025/12/KinGongolo-Kiniata-Rotterdam.jpg
ORGANIZER;CN="Podium Grounds":MAILTO:noreply@facebookmail.com
END:VEVENT
END:VCALENDAR