BEGIN:VCALENDAR
VERSION:2.0
PRODID:-//Afrikalinks - ECPv6.15.20//NONSGML v1.0//EN
CALSCALE:GREGORIAN
METHOD:PUBLISH
X-WR-CALNAME:Afrikalinks
X-ORIGINAL-URL:https://afrikalinks.nl
X-WR-CALDESC:Evenementen voor Afrikalinks
REFRESH-INTERVAL;VALUE=DURATION:PT1H
X-Robots-Tag:noindex
X-PUBLISHED-TTL:PT1H
BEGIN:VTIMEZONE
TZID:Europe/Amsterdam
BEGIN:DAYLIGHT
TZOFFSETFROM:+0100
TZOFFSETTO:+0200
TZNAME:CEST
DTSTART:20220327T010000
END:DAYLIGHT
BEGIN:STANDARD
TZOFFSETFROM:+0200
TZOFFSETTO:+0100
TZNAME:CET
DTSTART:20221030T010000
END:STANDARD
BEGIN:DAYLIGHT
TZOFFSETFROM:+0100
TZOFFSETTO:+0200
TZNAME:CEST
DTSTART:20230326T010000
END:DAYLIGHT
BEGIN:STANDARD
TZOFFSETFROM:+0200
TZOFFSETTO:+0100
TZNAME:CET
DTSTART:20231029T010000
END:STANDARD
BEGIN:DAYLIGHT
TZOFFSETFROM:+0100
TZOFFSETTO:+0200
TZNAME:CEST
DTSTART:20240331T010000
END:DAYLIGHT
BEGIN:STANDARD
TZOFFSETFROM:+0200
TZOFFSETTO:+0100
TZNAME:CET
DTSTART:20241027T010000
END:STANDARD
END:VTIMEZONE
BEGIN:VEVENT
DTSTART;TZID=Europe/Amsterdam:20230726T100000
DTEND;TZID=Europe/Amsterdam:20230730T160000
DTSTAMP:20260421T174130
CREATED:20230315T003252Z
LAST-MODIFIED:20230315T003252Z
UID:372151-1690365600-1690732800@afrikalinks.nl
SUMMARY:Sabar Summer Camp in Amsterdam
DESCRIPTION:Our Sabar Summer Camp in Amsterdam is happening from July 26-30. Join our sabar circles!\nThese 5 intensive days are focused around gaining a deeper understanding of sabar dances and rhythms.  \n*Drum class : 11 – 13 hrs\, from Wednesday to Saturday\n*Dance class: 14.30-17.30 from Wednesday to Sunday\n*Women only leumbeul class on Friday evening\n*Taneber: Saturday evening \nRegistration form & more information:\nhttps://forms.gle/zwBkLxyPEMYQReRS8 \nVenue: Veemkade 578\, Amsterdam. \nKnow more? Check the website sophie-sabar.com
URL:https://afrikalinks.nl/evenementen/sabar-summer-camp-in-amsterdam/
LOCATION:Veemkade 578\, 1019 BL Amsterdam\, Nederland
CATEGORIES:Workshops
ATTACH;FMTTYPE=image/jpeg:https://afrikalinks.nl/wp-content/uploads/2023/03/372151_image_330377614_1211133629531402_8498156082923731603_n.jpg
END:VEVENT
END:VCALENDAR