BEGIN:VCALENDAR
VERSION:2.0
PRODID:-//Afrikalinks - ECPv6.15.20//NONSGML v1.0//EN
CALSCALE:GREGORIAN
METHOD:PUBLISH
X-ORIGINAL-URL:https://afrikalinks.nl
X-WR-CALDESC:Evenementen voor Afrikalinks
REFRESH-INTERVAL;VALUE=DURATION:PT1H
X-Robots-Tag:noindex
X-PUBLISHED-TTL:PT1H
BEGIN:VTIMEZONE
TZID:Europe/Amsterdam
BEGIN:DAYLIGHT
TZOFFSETFROM:+0100
TZOFFSETTO:+0200
TZNAME:CEST
DTSTART:20220327T010000
END:DAYLIGHT
BEGIN:STANDARD
TZOFFSETFROM:+0200
TZOFFSETTO:+0100
TZNAME:CET
DTSTART:20221030T010000
END:STANDARD
BEGIN:DAYLIGHT
TZOFFSETFROM:+0100
TZOFFSETTO:+0200
TZNAME:CEST
DTSTART:20230326T010000
END:DAYLIGHT
BEGIN:STANDARD
TZOFFSETFROM:+0200
TZOFFSETTO:+0100
TZNAME:CET
DTSTART:20231029T010000
END:STANDARD
BEGIN:DAYLIGHT
TZOFFSETFROM:+0100
TZOFFSETTO:+0200
TZNAME:CEST
DTSTART:20240331T010000
END:DAYLIGHT
BEGIN:STANDARD
TZOFFSETFROM:+0200
TZOFFSETTO:+0100
TZNAME:CET
DTSTART:20241027T010000
END:STANDARD
END:VTIMEZONE
BEGIN:VEVENT
DTSTART;TZID=Europe/Amsterdam:20230720T150000
DTEND;TZID=Europe/Amsterdam:20230720T160000
DTSTAMP:20260421T222110
CREATED:20230704T100227Z
LAST-MODIFIED:20230704T100227Z
UID:372756-1689865200-1689868800@afrikalinks.nl
SUMMARY:Easy African Dansworkshop Gentse Feesten
DESCRIPTION:Afrikaanse dans is niet enkel en alleen springen en huppelen. In deze lessen dansen we Afrikaans op zijn zachtst. Met zorg voor het lichaam verfijnen we de Afrikaanse bewegingen tot alles mooi vloeit. Toch zonder de pit te verliezen die de Afrikaanse dans in zich draagt. Beide aspecten\, mannelijke en vrouwelijke energie van de dans komen aan bod. Zo ga je fris en volledig gebalanceerd naar huis. \nwww.makurah.be\nVanaf September starten de lessen op donderdag.
URL:https://afrikalinks.nl/evenementen/easy-african-dansworkshop-gentse-feesten/
LOCATION:Baudelopark
CATEGORIES:Workshops
ATTACH;FMTTYPE=image/jpeg:https://afrikalinks.nl/wp-content/uploads/2023/07/372756_image_357395007_780812950408692_3174331248882755089_n.jpg
END:VEVENT
END:VCALENDAR