BEGIN:VCALENDAR
VERSION:2.0
PRODID:-//Afrikalinks - ECPv6.15.20//NONSGML v1.0//EN
CALSCALE:GREGORIAN
METHOD:PUBLISH
X-ORIGINAL-URL:https://afrikalinks.nl
X-WR-CALDESC:Evenementen voor Afrikalinks
REFRESH-INTERVAL;VALUE=DURATION:PT1H
X-Robots-Tag:noindex
X-PUBLISHED-TTL:PT1H
BEGIN:VTIMEZONE
TZID:Europe/Amsterdam
BEGIN:DAYLIGHT
TZOFFSETFROM:+0100
TZOFFSETTO:+0200
TZNAME:CEST
DTSTART:20210328T010000
END:DAYLIGHT
BEGIN:STANDARD
TZOFFSETFROM:+0200
TZOFFSETTO:+0100
TZNAME:CET
DTSTART:20211031T010000
END:STANDARD
BEGIN:DAYLIGHT
TZOFFSETFROM:+0100
TZOFFSETTO:+0200
TZNAME:CEST
DTSTART:20220327T010000
END:DAYLIGHT
BEGIN:STANDARD
TZOFFSETFROM:+0200
TZOFFSETTO:+0100
TZNAME:CET
DTSTART:20221030T010000
END:STANDARD
BEGIN:DAYLIGHT
TZOFFSETFROM:+0100
TZOFFSETTO:+0200
TZNAME:CEST
DTSTART:20230326T010000
END:DAYLIGHT
BEGIN:STANDARD
TZOFFSETFROM:+0200
TZOFFSETTO:+0100
TZNAME:CET
DTSTART:20231029T010000
END:STANDARD
END:VTIMEZONE
BEGIN:VEVENT
DTSTART;TZID=Europe/Amsterdam:20220916T200000
DTEND;TZID=Europe/Amsterdam:20220916T200000
DTSTAMP:20260424T162853
CREATED:20220830T001432Z
LAST-MODIFIED:20220830T001432Z
UID:371131-1663358400-1663358400@afrikalinks.nl
SUMMARY:Ifriqiyya Électrique + Moribayassa + Kako Da Ne
DESCRIPTION:Ifriqiyya Électrique is een ritualistische dansgroep uit Afrika van de Maghreb tribe. Zelf noemen ze het Adorcist & Post-Industrial Ritual. Africa\, Maghreb en ze kwamen al langs op diverse Europese festivals.\nDeze avond landt het ritueel in dB’s en reken maar dat het los gaat. \nOpener komt van Moribayassa\, een traditioneel West-Afrikaans genezingsritueel op trommelmuziek.\nDe Kako Da Ne party crew neemt na afloop de zaal over dus trek die dansschoenen aan en ga helemaal beserk. Dit wordt een mooie!
URL:https://afrikalinks.nl/evenementen/ifriqiyya-electrique-moribayassa-kako-da-ne/
LOCATION:dB’s\, CAB-Rondom 100\, Utrecht\, 3534 BE\, NL
CATEGORIES:Workshops
ATTACH;FMTTYPE=image/jpeg:https://afrikalinks.nl/wp-content/uploads/2022/08/371131_image_301014428_10161013942420864_8546493354255716423_n.jpg
END:VEVENT
END:VCALENDAR