BEGIN:VCALENDAR
VERSION:2.0
PRODID:-//Afrikalinks - ECPv6.15.20//NONSGML v1.0//EN
CALSCALE:GREGORIAN
METHOD:PUBLISH
X-ORIGINAL-URL:https://afrikalinks.nl
X-WR-CALDESC:Evenementen voor Afrikalinks
REFRESH-INTERVAL;VALUE=DURATION:PT1H
X-Robots-Tag:noindex
X-PUBLISHED-TTL:PT1H
BEGIN:VTIMEZONE
TZID:Europe/Amsterdam
BEGIN:DAYLIGHT
TZOFFSETFROM:+0100
TZOFFSETTO:+0200
TZNAME:CEST
DTSTART:20210328T010000
END:DAYLIGHT
BEGIN:STANDARD
TZOFFSETFROM:+0200
TZOFFSETTO:+0100
TZNAME:CET
DTSTART:20211031T010000
END:STANDARD
BEGIN:DAYLIGHT
TZOFFSETFROM:+0100
TZOFFSETTO:+0200
TZNAME:CEST
DTSTART:20220327T010000
END:DAYLIGHT
BEGIN:STANDARD
TZOFFSETFROM:+0200
TZOFFSETTO:+0100
TZNAME:CET
DTSTART:20221030T010000
END:STANDARD
BEGIN:DAYLIGHT
TZOFFSETFROM:+0100
TZOFFSETTO:+0200
TZNAME:CEST
DTSTART:20230326T010000
END:DAYLIGHT
BEGIN:STANDARD
TZOFFSETFROM:+0200
TZOFFSETTO:+0100
TZNAME:CET
DTSTART:20231029T010000
END:STANDARD
END:VTIMEZONE
BEGIN:VEVENT
DTSTART;TZID=Europe/Amsterdam:20220901T193000
DTEND;TZID=Europe/Amsterdam:20220901T213000
DTSTAMP:20260424T162534
CREATED:20220717T110701Z
LAST-MODIFIED:20220717T110701Z
UID:370877-1662060600-1662067800@afrikalinks.nl
SUMMARY:Workshop Doundoun en djembe
DESCRIPTION:In deze workshop voor gevorderden ligt het accent op de doun-douns gaan we 1 ritme helemaal uitdiepen. Met de verschillende djembe-en doun doun partijen en ook enkele Solo frases en/of break.  \nHet Slaghuis\nVlakbij metrostation Melanchton.\nVoor auto’s vrij parkeren. \nHet Slaghuis\nVoetiusoh 38\nVlakbij metrostation Melanchton.\nVoor auto’s vrij parkeren. \nKosten €20\,–\nAanmelden\ninfo@afrikapercussie.nl
URL:https://afrikalinks.nl/evenementen/workshop-doundoun-en-djembe/
LOCATION:Het Slaghuis\, voetiushof 38\, Rotterdam\, NL
CATEGORIES:Workshops
ATTACH;FMTTYPE=image/jpeg:https://afrikalinks.nl/wp-content/uploads/2022/07/370877_image_292405188_5342158122536814_8406901897822128071_n.jpg
END:VEVENT
END:VCALENDAR