BEGIN:VCALENDAR
VERSION:2.0
PRODID:-//Afrikalinks - ECPv6.15.20//NONSGML v1.0//EN
CALSCALE:GREGORIAN
METHOD:PUBLISH
X-WR-CALNAME:Afrikalinks
X-ORIGINAL-URL:https://afrikalinks.nl
X-WR-CALDESC:Evenementen voor Afrikalinks
REFRESH-INTERVAL;VALUE=DURATION:PT1H
X-Robots-Tag:noindex
X-PUBLISHED-TTL:PT1H
BEGIN:VTIMEZONE
TZID:Europe/Amsterdam
BEGIN:DAYLIGHT
TZOFFSETFROM:+0100
TZOFFSETTO:+0200
TZNAME:CEST
DTSTART:20240331T010000
END:DAYLIGHT
BEGIN:STANDARD
TZOFFSETFROM:+0200
TZOFFSETTO:+0100
TZNAME:CET
DTSTART:20241027T010000
END:STANDARD
BEGIN:DAYLIGHT
TZOFFSETFROM:+0100
TZOFFSETTO:+0200
TZNAME:CEST
DTSTART:20250330T010000
END:DAYLIGHT
BEGIN:STANDARD
TZOFFSETFROM:+0200
TZOFFSETTO:+0100
TZNAME:CET
DTSTART:20251026T010000
END:STANDARD
BEGIN:DAYLIGHT
TZOFFSETFROM:+0100
TZOFFSETTO:+0200
TZNAME:CEST
DTSTART:20260329T010000
END:DAYLIGHT
BEGIN:STANDARD
TZOFFSETFROM:+0200
TZOFFSETTO:+0100
TZNAME:CET
DTSTART:20261025T010000
END:STANDARD
END:VTIMEZONE
BEGIN:VEVENT
DTSTART;TZID=Europe/Amsterdam:20250815T190000
DTEND;TZID=Europe/Amsterdam:20250817T160000
DTSTAMP:20260421T221623
CREATED:20250602T205204Z
LAST-MODIFIED:20250602T205342Z
UID:375150-1755284400-1755446400@afrikalinks.nl
SUMMARY:Vodoun Vibes\, discover the secret science\, weekend met workshops\, demo's\, concerten.
DESCRIPTION:Vodoun: The secret Science\, word insider..‼️ \nJe gaat Afrika op een totaal andere manier beleven. Je maakt kennis met de bron van de ritmes\, de dans en de zang. Dit weekend verbindt West Afrikaanse spiritualiteit met muzikaliteit en dans.🤎\nWe doen dit met collega experts\, muzikanten en dansers die volledig thuis zijn in de traditie. \nOnder leiding van Babalao Kossilate en ons team\, krijg je workshops dans\, percussie\, Yoruba zang. Er zijn ook concerten\, demonstraties en lezingen. \n🍲 Cuisine Africain. \n✅ Kosten: €449\,- p.p. te voldoen bij aanmelding.\nBeperkt aantal deelnemers.\nInschrijven is mogelijk tot 17 Juni. \n🎊 Ontplof je van nieuwsgierigheid?\nBel of app 06-38510432\nmail: info@jamboafrika.nl \n#djembe #percussie #afrikaansedans #afrikaansdansen #afrikaansezang #muziekworkshops #weekendvoorjezelf #metime\n#orisha #babalao #afrikaansemuziek #voorouders
URL:https://afrikalinks.nl/evenementen/vodoun-vibes-discover-the-secret-science-weekend-met-workshops-demos-concerten/
LOCATION:La Tertulia\, La Tertulia
CATEGORIES:Workshops
ATTACH;FMTTYPE=image/jpeg:https://afrikalinks.nl/wp-content/uploads/2025/06/Vodoun.jpg
END:VEVENT
BEGIN:VEVENT
DTSTART;TZID=Europe/Amsterdam:20250830T100000
DTEND;TZID=Europe/Amsterdam:20250830T130000
DTSTAMP:20260421T221623
CREATED:20250602T205301Z
LAST-MODIFIED:20250602T205301Z
UID:375153-1756548000-1756558800@afrikalinks.nl
SUMMARY:The secret science\, 5 dagen\, 10 modules\, klassikaal of solo masterclasses
DESCRIPTION:‼️ We leren over de zichtbare en onzichtbare wereld\, over spirits\, orisha’s en voorouders \nWe leren van de masters\, de wisdom keepers\, elke cultuur heeft haar eigen spirituele leiders\, haar eigen medicijnmannen\, sjamanen en priesters. Zij leven met de seizoenen\, in het moment. \nWat behandelen we o.a.tijdens deze opleiding:\n✅ Alle ins en outs van raadplegen van het Ifa orakel.\n✅ Wat kunnen jouw voorouders voor je betekenen en hoe herstel je de relatie.\n✅ Wat zijn orisha’s en hoe werken rituelen. \nSta open\, leer en ontdek met Kossilaté\, een high level Vodoun priester.\nWinti\, Santeria en Candomblé vinden allemaal hun oorsprong in Vodoun (Benin West-Afrika). \n👓\nJe kunt kiezen voor klassikale lesdagen of voor exclusieve solo masterclasses. \nAdres: De Wellenkamp 1513 6545NK Nijmegen\nAanwezig 10.00 uur\, afronden 1600 uur.\nJe krijgt bij elke module een handout. Na de opleiding krijg je je certificaat en kun je doorgaan met de gevorderden opleiding.\nJe kunt zelfs naar Benin voor een stage in Januari ’26. \n📌 De hele basisopleiding omvat 5 zaterdag.\nInvestering €1250\,- (klassikaal)\nincl. btw.\nBetaling in termijnen is niet mogelijk. \nHeb je vragen? Natuurlijk!\n📧 mail naar Mirjam@africanhealing.nl\nof app/bel ☎️ 06-3851 0432 \nOp www.africanhealing-academy.nu lees je alle details.
URL:https://afrikalinks.nl/evenementen/the-secret-science-5-dagen-10-modules-klassikaal-of-solo-masterclasses/
LOCATION:De Wellenkamp 1513\, 6545 NK Nijmegen\, Netherlands\, De Wellenkamp 1513\, 6545 NK Nijmegen\, Netherlands
CATEGORIES:Workshops
ATTACH;FMTTYPE=image/jpeg:https://afrikalinks.nl/wp-content/uploads/2025/06/The-Secret-Science.jpg
END:VEVENT
BEGIN:VEVENT
DTSTART;TZID=Europe/Amsterdam:20250830T130000
DTEND;TZID=Europe/Amsterdam:20250830T173000
DTSTAMP:20260421T221623
CREATED:20250708T122058Z
LAST-MODIFIED:20250708T122058Z
UID:375669-1756558800-1756575000@afrikalinks.nl
SUMMARY:Workshops Afrikaanse percussie met Seydouba Dos Camara
DESCRIPTION:Op zaterdag 30 augustus zijn er gegarandeerd Afrikaanse temperaturen in Kuringen! \nProgramma:\n13u00-15u00: workshop djembé – alle niveaus\n15u30-17u30: workshop douns – alle niveaus \nPrijs:\n– 25 € voor 1 workshop\n– 45 € voor 2 workshops \nLocatie:\nVan Groesbeekstraat 21\n3511 Hasselt \nIBAN: BE20 9734 1443 4756 (Mounafanyi vzw)\nBIC: ARSP BE 22 \nGelieve vóór 25 augustus in te schrijven per e-mail (info@mounafanyi.be) of telefonisch (00 32 497 42 48 19). \nSEYDOUBA Dos CAMARA is een djembé- en dununfola uit Conakry in Guinee. Hij begon met percussie in 1999 in het Ballet Nafaya van Sekouna Sylla en speelde al snel in talrijke andere balletten zoals Boca Juniors\, Guinée Percussions\, Konkouré Bamba\, Ensemble Instrumental Djahankekunda\, … . Zijn eigen groep Percussion Wontanara was een grote bron van inspiratie voor vele jongeren. Hij werkte mee aan de cd’s van Moussa N’Tanga Camara en Babara Bangoura\, is dununfola in de groep Yirikan en maakt deel uit van de multiculturele groep AfroD’ziak.\nDos is een gepassioneerde leraar die je met veel enthousiasme je eigen grenzen laat verleggen.
URL:https://afrikalinks.nl/evenementen/workshops-afrikaanse-percussie-met-seydouba-dos-camara/
LOCATION:Van Groesbeekstraat 21\, 3511 Hasselt\, België\, Van Groesbeekstraat 21\, 3511 Hasselt\, België
CATEGORIES:Workshops
ATTACH;FMTTYPE=image/jpeg:https://afrikalinks.nl/wp-content/uploads/2025/07/Workshop-Afrikaanse-percussie.jpg
END:VEVENT
END:VCALENDAR