BEGIN:VCALENDAR
VERSION:2.0
PRODID:-//Afrikalinks - ECPv6.15.20//NONSGML v1.0//EN
CALSCALE:GREGORIAN
METHOD:PUBLISH
X-WR-CALNAME:Afrikalinks
X-ORIGINAL-URL:https://afrikalinks.nl
X-WR-CALDESC:Evenementen voor Afrikalinks
REFRESH-INTERVAL;VALUE=DURATION:PT1H
X-Robots-Tag:noindex
X-PUBLISHED-TTL:PT1H
BEGIN:VTIMEZONE
TZID:Europe/Amsterdam
BEGIN:DAYLIGHT
TZOFFSETFROM:+0100
TZOFFSETTO:+0200
TZNAME:CEST
DTSTART:20220327T010000
END:DAYLIGHT
BEGIN:STANDARD
TZOFFSETFROM:+0200
TZOFFSETTO:+0100
TZNAME:CET
DTSTART:20221030T010000
END:STANDARD
BEGIN:DAYLIGHT
TZOFFSETFROM:+0100
TZOFFSETTO:+0200
TZNAME:CEST
DTSTART:20230326T010000
END:DAYLIGHT
BEGIN:STANDARD
TZOFFSETFROM:+0200
TZOFFSETTO:+0100
TZNAME:CET
DTSTART:20231029T010000
END:STANDARD
BEGIN:DAYLIGHT
TZOFFSETFROM:+0100
TZOFFSETTO:+0200
TZNAME:CEST
DTSTART:20240331T010000
END:DAYLIGHT
BEGIN:STANDARD
TZOFFSETFROM:+0200
TZOFFSETTO:+0100
TZNAME:CET
DTSTART:20241027T010000
END:STANDARD
END:VTIMEZONE
BEGIN:VEVENT
DTSTART;TZID=Europe/Amsterdam:20230120T203000
DTEND;TZID=Europe/Amsterdam:20230203T203000
DTSTAMP:20260422T043317
CREATED:20221224T011743Z
LAST-MODIFIED:20221224T011743Z
UID:371774-1674246600-1675456200@afrikalinks.nl
SUMMARY:Afrikaanse danslessen Schiedam: 20 januari - 3 maart 2023
DESCRIPTION:West-Afrikaanse danslessen door Serge Badoué en Pape Assane Sow in Schiedam. We hebben dit seizoen 1 gastdocent uitgenodigd. Samen met Serge. \nAlle lessen worden begeleid met live percussie van Sebastiaan de Vries & Michiel Moerkerk \nBLOK 1: op Vrijdag 20\, 27 januari en 3\, 10 \, 24 februari en 3 maart  \nLOCATIE\nHorizon/Gelinckschool (gymzaal)\nADRES: Schiedamseweg 155 Schiedam\nParkeren is gratis \nCARPOOLEN\nVind je het leuk om samen te reizen?\nVanaf Rotterdam Centraal met Michiel of Sebastiaan.\nVanaf Utrecht kun je meerijden met Serge.  \nTIJD\n20.30 – 22.00 uur\nPRIJZEN\n6 lessen = €90\,-\n1 losse les = €20\,- \nAANMELDEN VOOR DANSLESSEN/CARPOOLEN SCHIEDAM\nUitsluitend via e-mail naar stichtingzaouli@gmail.com\nBETALEN\nJe kunt het bedrag overmaken aan Triodos rekeningnummer:\nNL41 TRIO 019.83.11.532 t.n.v. Stichting Zaouli in Bilthoven.\nVermeld hierbij: jouw voor- en achternaam\, woonplaats\, DATUM van de dansles en welk BLOK. \nWIL JE MEER INFORMATIE?\nBel dan even naar Serge: 06 – 84 46 20 69\nCheck ook onze website voor meer danslessen elders in Nederland\, dansreizen en workshops:\nwww.zaouli.nl \n#afrikaansdansen #lekkerfit #livepercussie #djembé #kora
URL:https://afrikalinks.nl/evenementen/afrikaanse-danslessen-schiedam-20-januari-3-maart-2023/
LOCATION:Schiedamseweg 155\, 3121 JG Schiedam\, Nederland
CATEGORIES:Workshops
ATTACH;FMTTYPE=image/jpeg:https://afrikalinks.nl/wp-content/uploads/2022/12/371774_image_321617900_484790133561957_6797742860767166558_n.jpg
END:VEVENT
END:VCALENDAR