BEGIN:VCALENDAR
VERSION:2.0
PRODID:-//Afrikalinks - ECPv6.15.20//NONSGML v1.0//EN
CALSCALE:GREGORIAN
METHOD:PUBLISH
X-WR-CALNAME:Afrikalinks
X-ORIGINAL-URL:https://afrikalinks.nl
X-WR-CALDESC:Evenementen voor Afrikalinks
REFRESH-INTERVAL;VALUE=DURATION:PT1H
X-Robots-Tag:noindex
X-PUBLISHED-TTL:PT1H
BEGIN:VTIMEZONE
TZID:Europe/Amsterdam
BEGIN:DAYLIGHT
TZOFFSETFROM:+0100
TZOFFSETTO:+0200
TZNAME:CEST
DTSTART:20220327T010000
END:DAYLIGHT
BEGIN:STANDARD
TZOFFSETFROM:+0200
TZOFFSETTO:+0100
TZNAME:CET
DTSTART:20221030T010000
END:STANDARD
BEGIN:DAYLIGHT
TZOFFSETFROM:+0100
TZOFFSETTO:+0200
TZNAME:CEST
DTSTART:20230326T010000
END:DAYLIGHT
BEGIN:STANDARD
TZOFFSETFROM:+0200
TZOFFSETTO:+0100
TZNAME:CET
DTSTART:20231029T010000
END:STANDARD
BEGIN:DAYLIGHT
TZOFFSETFROM:+0100
TZOFFSETTO:+0200
TZNAME:CEST
DTSTART:20240331T010000
END:DAYLIGHT
BEGIN:STANDARD
TZOFFSETFROM:+0200
TZOFFSETTO:+0100
TZNAME:CET
DTSTART:20241027T010000
END:STANDARD
END:VTIMEZONE
BEGIN:VEVENT
DTSTART;TZID=Europe/Amsterdam:20230508T120000
DTEND;TZID=Europe/Amsterdam:20230508T140000
DTSTAMP:20260422T014023
CREATED:20230507T221111Z
LAST-MODIFIED:20230507T221111Z
UID:372500-1683547200-1683554400@afrikalinks.nl
SUMMARY:Russia in Africa
DESCRIPTION:This LUCIR lecture will focus on Samuel Ramani’s recently published book Russia in Africa. In this book he challenges Western depictions of Moscow’s post-Cold War Africa policy considers both African and Russian decisionmakers. He recounts how Russia Russia has transformed from a fringe player to a resurgent great power in Africa\, three decades after the Soviet Union’s collapse.
URL:https://afrikalinks.nl/evenementen/russia-in-africa/
LOCATION:Anna van Buerenplein\, 2595 Den Haag\, Nederland
CATEGORIES:Seminars
ATTACH;FMTTYPE=image/jpeg:https://afrikalinks.nl/wp-content/uploads/2023/05/372500_image_344712629_625713809043080_1825381733688772148_n.jpg
END:VEVENT
BEGIN:VEVENT
DTSTART;TZID=Europe/Amsterdam:20230526T180000
DTEND;TZID=Europe/Amsterdam:20230526T180000
DTSTAMP:20260422T014023
CREATED:20230507T221112Z
LAST-MODIFIED:20230507T221112Z
UID:372503-1685124000-1685124000@afrikalinks.nl
SUMMARY:Made in Africa - Reclaiming the Narrative Through Hip Hop and Legacy
DESCRIPTION:“A people without knowledge of their past history\, origin and culture is like a tree without roots” – Marcus Garvey \nTake a trip to ancient Kemet with us and explore the connection between ancient Kemet and the African diaspora. We will discuss the impact of African history on our present and the importance of placing Kemet (back) in Africa. This event is focused on shedding a light on Africa’s contributions to the world – in the past\, the present\, and the future. \nJoin us for a thought-provoking panel conversation on the significance of knowing Africa’s history from a decolonial perspective and the powerful role that hip hop played in re-imagining ancient Kemet. We will delve into how our ideas of ‘Africa’ have been shaped in the past and what it means to truly reclaim the narrative. During this event will focus perspectives from the African diaspora and discuss the importance of deconstructing eurocentrism and including African voices in historical narratives. \nOur panelists unique perspectives will guide us in understanding the importance of and celebrating Africa’s rich and diverse history\, and its impact on our sense of self and belonging in the diaspora. Through an engaging and interactive conversation\, we will explore how the African diaspora is reshaping the way we view (ancient) Africa and how this can positively impact our communities and future generations. \nDon’t miss out on this opportunity to learn from our amazing panelists! \nBut that’s not all\, the fun continues with some games and a celebration: toasting to 50 years of Hip Hop music with DJ Stereo Bam. \nPANELISTS\nBeylula Yosef – Co-founder Afrispectives\, Community organiser \nSamatar (Sam) Botan – Archeologist\, PhD researcher on the ancient Aksumite Empire \nBamba Al Mansour – DJ\, music producer\, curator and creative director. \nMODERATOR\nMichael Ghebreab – Co-founder Afrispectives\, Project Manager \nG﻿et your tickets and join us for an interesting talk\, networking\, and an afterparty!
URL:https://afrikalinks.nl/evenementen/made-in-africa-reclaiming-the-narrative-through-hip-hop-and-legacy/
LOCATION:Rijksmuseum van Oudheden\, Rapenburg 28\, Leiden\, 2311 EW\, NL
CATEGORIES:Seminars
ATTACH;FMTTYPE=image/jpeg:https://afrikalinks.nl/wp-content/uploads/2023/05/372503_image_343292514_559447919693273_3811248690372629794_n.jpg
END:VEVENT
BEGIN:VEVENT
DTSTART;TZID=Europe/Amsterdam:20230530T190000
DTEND;TZID=Europe/Amsterdam:20230530T190000
DTSTAMP:20260422T014023
CREATED:20230510T092535Z
LAST-MODIFIED:20230510T092535Z
UID:372507-1685473200-1685473200@afrikalinks.nl
SUMMARY:Lezing: Moeders in Afrika
DESCRIPTION:Kom naar de lezing over “Moeders in Afrika”. Dit gebracht door Sabine Van de Vyver\, hoofdvroedvrouw aan de materniteit Sint-Vincentius in Deinze. Laat je inspireren door haar verhalen over de krachtige en inspirerende moeders die elke dag weer vechten voor hun gezinnen en gemeenschappen. Leer over hun uitdagingen en overwinningen in haar verhaal tussen hoop en wanhoop. Zij brengt dit ondersteund door muziek en beeld…  \nGRATIS TOEGANG!\nWaar: Eetzaal – Vrije Basisschool Sint-Hendrik Petegem\nWanneer: 30 mei 2023 – 20u. \nGratis inschrijven via:\nhttps://docs.google.com/forms/d/e/1FAIpQLSeYo62HCKaXFuoLrrQihE2SXxu0OCHAz-RFhEEKZmMKTHQNlw/viewform?fbclid=IwAR33eSaFxzg8z0Yc0RzHlDiapkF0WaYd9EQCpJQQpIhJNPmO3YzCeVsrFC4 \nPhoto by Annie Spratt on Unsplash
URL:https://afrikalinks.nl/evenementen/lezing-moeders-in-afrika/
LOCATION:Basisschool Sint-Hendrik Petegem\, Oostkouterlaan 7\, Deinze\, 9800\, BE
CATEGORIES:Seminars
ATTACH;FMTTYPE=image/jpeg:https://afrikalinks.nl/wp-content/uploads/2023/05/372507_image_345464381_788447529138643_5917593335947713902_n.jpg
END:VEVENT
BEGIN:VEVENT
DTSTART;TZID=Europe/Amsterdam:20230929T190000
DTEND;TZID=Europe/Amsterdam:20230929T190000
DTSTAMP:20260422T014024
CREATED:20230817T052212Z
LAST-MODIFIED:20230817T052212Z
UID:372943-1696014000-1696014000@afrikalinks.nl
SUMMARY:Buiten Beeld: 66 jaar onafhankelijkheid Afrika
DESCRIPTION:Op 6 maart 1957 won Goudkust de vrijheidsstrijd tegen zijn laatste kolonisator Groot-Brittannië – en zo werd het huidige Ghana het eerste onafhankelijke land van Sub-Sahara-Afrika. Daarna volgde de rest van het continent in rap tempo. Nu\, 66 jaar later\, lopen deze landen in veel opzichten nog altijd achter\, of lopen ze aan de leiband van de oude kolonisator. \nIn hoeverre is Afrika na 66 jaar echt onafhankelijk? Wat ligt ten grondslag aan de Afrikaans-Westerse en Afrikaans-Oosterse betrekkingen? We ontrafelen de patronen en zoeken naar echte uitwegen in dit speciale drieluik van Buiten Beeld.
URL:https://afrikalinks.nl/evenementen/buiten-beeld-66-jaar-onafhankelijkheid-afrika/
LOCATION:Rode Hoed\, Keizersgracht 102\, Amsterdam\, 1015 CV\, NL
CATEGORIES:Seminars
ATTACH;FMTTYPE=image/jpeg:https://afrikalinks.nl/wp-content/uploads/2023/08/372943_image_359829367_249718241148806_4039457248579901023_n.jpg
END:VEVENT
BEGIN:VEVENT
DTSTART;TZID=Europe/Amsterdam:20231020T090000
DTEND;TZID=Europe/Amsterdam:20231022T170000
DTSTAMP:20260422T014024
CREATED:20230704T100206Z
LAST-MODIFIED:20230704T100206Z
UID:372752-1697792400-1697994000@afrikalinks.nl
SUMMARY:7th African Diaspora Agrofood Forum
DESCRIPTION:The African Diaspora Agrofood Forum is dedicated to the promotion of agrofood entrepreneurship in Africa and its diaspora.  \nThe theme of this 7th edition is From Local To Global; Strategizing For Growth In Agrofood Entrepreneurship.  \nRegistration link : https://www.eventbrite.com/e/7th-african-diaspora-agrofood-forum-tickets-662976680097 \nParticipants at the forum will have 3 days of exploring African food trends\, exciting culinary discoveries  and inspirational entrepreneurial experiences.   \nT﻿his year’s event is in collaboration with Sankaa vzw\, FAO\, EUDiF\, Entrepreneurs for Entrepreneurs (OVO)\, Coverpoint\, Soliris. Brussels\, Caribbean Chamber of commerce in Europe and oter partners.
URL:https://afrikalinks.nl/evenementen/7th-african-diaspora-agrofood-forum/
LOCATION:Tour & Taxis\, Avenue du Port\, 88\, Brussels\, 1000\, BE
CATEGORIES:Seminars
ATTACH;FMTTYPE=image/jpeg:https://afrikalinks.nl/wp-content/uploads/2023/07/372752_image_355019919_642412497928209_7403059380755293166_n-scaled.jpg
END:VEVENT
BEGIN:VEVENT
DTSTART;TZID=Europe/Amsterdam:20231118T100000
DTEND;TZID=Europe/Amsterdam:20231118T100000
DTSTAMP:20260422T014024
CREATED:20231024T131738Z
LAST-MODIFIED:20231024T131738Z
UID:373152-1700301600-1700301600@afrikalinks.nl
SUMMARY:AFRIKADAG 2023
DESCRIPTION:Zaterdag 18 november is de jaarlijkse Afrikadag terug! Al 25 jaar is dit hét event over Afrika in Nederland. Een dag vol workshops\, debatten\, lezingen\, literatuur\, films\, muziek\, een modeshow\, en nog veel meer! Bestel nu je kaarten! \nDit jaar staat er één thema centraal op de Afrikadag: klimaatrechtvaardigheid. Overal ter wereld worstelen mensen met klimaatverandering\, de grootste uitdaging van onze tijd. Maar nergens is de uitdaging zo groot als in Afrikaanse landen\, terwijl zij geen grote veroorzaker zijn. Een brede beweging eist daarom rechtvaardig klimaatbeleid.
URL:https://afrikalinks.nl/evenementen/afrikadag-2023/
LOCATION:Pakhuis de Zwijger\, Piet Heinkade 179\, Amsterdam\, 1019 HC\, NL
CATEGORIES:Seminars
ATTACH;FMTTYPE=image/jpeg:https://afrikalinks.nl/wp-content/uploads/2023/10/373152_image_394596624_726217999533084_3043072723005173335_n.jpg
END:VEVENT
END:VCALENDAR