BEGIN:VCALENDAR
VERSION:2.0
PRODID:-//Afrikalinks - ECPv6.15.20//NONSGML v1.0//EN
CALSCALE:GREGORIAN
METHOD:PUBLISH
X-ORIGINAL-URL:https://afrikalinks.nl
X-WR-CALDESC:Evenementen voor Afrikalinks
REFRESH-INTERVAL;VALUE=DURATION:PT1H
X-Robots-Tag:noindex
X-PUBLISHED-TTL:PT1H
BEGIN:VTIMEZONE
TZID:Europe/Amsterdam
BEGIN:DAYLIGHT
TZOFFSETFROM:+0100
TZOFFSETTO:+0200
TZNAME:CEST
DTSTART:20220327T010000
END:DAYLIGHT
BEGIN:STANDARD
TZOFFSETFROM:+0200
TZOFFSETTO:+0100
TZNAME:CET
DTSTART:20221030T010000
END:STANDARD
BEGIN:DAYLIGHT
TZOFFSETFROM:+0100
TZOFFSETTO:+0200
TZNAME:CEST
DTSTART:20230326T010000
END:DAYLIGHT
BEGIN:STANDARD
TZOFFSETFROM:+0200
TZOFFSETTO:+0100
TZNAME:CET
DTSTART:20231029T010000
END:STANDARD
BEGIN:DAYLIGHT
TZOFFSETFROM:+0100
TZOFFSETTO:+0200
TZNAME:CEST
DTSTART:20240331T010000
END:DAYLIGHT
BEGIN:STANDARD
TZOFFSETFROM:+0200
TZOFFSETTO:+0100
TZNAME:CET
DTSTART:20241027T010000
END:STANDARD
END:VTIMEZONE
BEGIN:VEVENT
DTSTART;TZID=Europe/Amsterdam:20230508T120000
DTEND;TZID=Europe/Amsterdam:20230508T140000
DTSTAMP:20260422T031233
CREATED:20230507T221111Z
LAST-MODIFIED:20230507T221111Z
UID:372500-1683547200-1683554400@afrikalinks.nl
SUMMARY:Russia in Africa
DESCRIPTION:This LUCIR lecture will focus on Samuel Ramani’s recently published book Russia in Africa. In this book he challenges Western depictions of Moscow’s post-Cold War Africa policy considers both African and Russian decisionmakers. He recounts how Russia Russia has transformed from a fringe player to a resurgent great power in Africa\, three decades after the Soviet Union’s collapse.
URL:https://afrikalinks.nl/evenementen/russia-in-africa/
LOCATION:Anna van Buerenplein\, 2595 Den Haag\, Nederland
CATEGORIES:Seminars
ATTACH;FMTTYPE=image/jpeg:https://afrikalinks.nl/wp-content/uploads/2023/05/372500_image_344712629_625713809043080_1825381733688772148_n.jpg
END:VEVENT
END:VCALENDAR