BEGIN:VCALENDAR
VERSION:2.0
PRODID:-//Afrikalinks - ECPv6.15.20//NONSGML v1.0//EN
CALSCALE:GREGORIAN
METHOD:PUBLISH
X-WR-CALNAME:Afrikalinks
X-ORIGINAL-URL:https://afrikalinks.nl
X-WR-CALDESC:Evenementen voor Afrikalinks
REFRESH-INTERVAL;VALUE=DURATION:PT1H
X-Robots-Tag:noindex
X-PUBLISHED-TTL:PT1H
BEGIN:VTIMEZONE
TZID:Europe/Amsterdam
BEGIN:DAYLIGHT
TZOFFSETFROM:+0100
TZOFFSETTO:+0200
TZNAME:CEST
DTSTART:20250330T010000
END:DAYLIGHT
BEGIN:STANDARD
TZOFFSETFROM:+0200
TZOFFSETTO:+0100
TZNAME:CET
DTSTART:20251026T010000
END:STANDARD
BEGIN:DAYLIGHT
TZOFFSETFROM:+0100
TZOFFSETTO:+0200
TZNAME:CEST
DTSTART:20260329T010000
END:DAYLIGHT
BEGIN:STANDARD
TZOFFSETFROM:+0200
TZOFFSETTO:+0100
TZNAME:CET
DTSTART:20261025T010000
END:STANDARD
BEGIN:DAYLIGHT
TZOFFSETFROM:+0100
TZOFFSETTO:+0200
TZNAME:CEST
DTSTART:20270328T010000
END:DAYLIGHT
BEGIN:STANDARD
TZOFFSETFROM:+0200
TZOFFSETTO:+0100
TZNAME:CET
DTSTART:20271031T010000
END:STANDARD
END:VTIMEZONE
BEGIN:VEVENT
DTSTART;TZID=Europe/Amsterdam:20260207T193000
DTEND;TZID=Europe/Amsterdam:20260207T233000
DTSTAMP:20260421T174241
CREATED:20251229T142506Z
LAST-MODIFIED:20251229T142506Z
UID:379626-1770492600-1770507000@afrikalinks.nl
SUMMARY:Amazigh Nieuwjaar 2976-2026
DESCRIPTION:Amazigh Nieuwjaar 2976 – 2026 \nBades viert Yennayer in Theater Zuidplein\, Rotterdam – zaterdag 7 februari 2026 \nDe viering van Amazigh Yennayer belooft een muzikale avond vol gezelligheid en een unieke gelegenheid om te genieten van authentiek Amazigh cultureel erfgoed. De Amazigh taal en cultuur staan centraal en komen ruimschoots aan bod. \nProgramma | \nYennayerviering van Bades zal dit jaar extra feestelijk zijn. Zo zijn er gerenoveerde groepen aanwezig om de muziek te verzorgen. Onder begeleiding van Bades Band\, een belangrijk onderdeel van deze viering\, zullen de Band een centrale rol spelen in de begeleiding van onze gasten tijdens de editie van Yennayer 2976. \nDe programmering bestaat uit een variatie van muzikale artiesten die hun sporen hebben verdiend in de hedendaagse Rif-pop en de traditionele Amazigh folkrock uit de Rif. De line up wordt gevormd door:\n– Ithran Band. De groep verzorgen het hoofdprogramma.\n– Er zal een hommage aan de bekende groep Twattoun plaatsvinden.\n– Het muzikale programma wordt gecompleteerd door Silya\, de geëngageerde zangeres en actrice met een krachtige Amazigh Riffijnse stem. \nDaarnaast is er ruimte voor poëzie met Mimoun Essahraoui. Mimoun leest voor uit en vertelt over zijn nieuwe dichtbundel ‘De Grijze Zon’. die speciaal voor deze gelegenheid officieel zal worden gepresenteerd. De dichtbundel is mede mogelijk gemaakt door Bades. \nIn de foyer kunnen bezoekers bovendien rondstruinen langs kraampjes met boeken en uiteenlopende Amazigh items\, waardoor de culturele beleving compleet wordt. \nVerder wordt Bades Award uitgereikt aan een bijzondere organisatie of persoon. \nKaartverkoop | Voorverkoop (online via Theater Zuidplein of aan de kassa): €25\,-\nAan de deur op zaterdag 7 februari: €30\,- (als de tickets nog beschikbaar zijn) \nKortingsactie (tot en met 31 januari 2026 via bades.foundation@gmail.com): \nBij bestelling van 4 kaarten of meer: €22\,50 per kaart \nKinderen t/m 15 jaar: €10 \nPraktische informatie \nDatum: zaterdag 7 februari 2026\nLocatie: Theater Zuidplein\, Rotterdam \nMeer informatie: \nhttps://www.facebook.com/AmazighNieuwjaar/\nhttps://www.facebook.com/BadesFoundation\nEmail: bades.foundation@gmail.com \nReserveer je kaarten tijdig\, want de ervaring leert dat Amazigh Yennayer in Rotterdam ieder jaar volledig uitverkocht raakt.
URL:https://afrikalinks.nl/evenementen/amazigh-nieuwjaar-2976-2026/
LOCATION:Theater Zuidplein
CATEGORIES:Concerten,Kunst & cultuur
ATTACH;FMTTYPE=image/jpeg:https://afrikalinks.nl/wp-content/uploads/2025/12/Amazigh-Nieuwjaar-2976-–-2026.jpg
END:VEVENT
BEGIN:VEVENT
DTSTART;TZID=Europe/Amsterdam:20260529T180000
DTEND;TZID=Europe/Amsterdam:20260529T213000
DTSTAMP:20260421T174241
CREATED:20260220T150042Z
LAST-MODIFIED:20260220T150042Z
UID:381728-1780077600-1780090200@afrikalinks.nl
SUMMARY:Afrikadagavond
DESCRIPTION:Verkenning van Cultuur en Literatuur \nKom op 29ste mei naar de Bibliotheek Hilversum voor een onvergetelijke avond vol muziek\, poëzie en inspirerende dialogue! \nGeniet van live muziek die je meeneemt op een muzikale reis door Afrika. Laat je betoveren door de woorden van onze speciale gast\, een beruchte diaspora schrijver uit Liberia\, die zijn passie en verhalen met ons deelt. \nDeze intieme setting biedt een unieke kans om in gesprek te gaan over literatuur en cultuur\, en om te luisteren naar prachtige gedichten die de diversiteit en rijkdom van de Afrikaanse geschiedenis en hedendaagse ervaringen vieren. \n📅 Datum: 29 mei 2026\n🕖 Tijd: 18:00 t/m 21:30\n📍 Locatie: Bibliotheek Hilversum \nMis deze kans niet om te verbinden met anderen\, te genieten van cultuur en je horizon te verbreden. \nTickets zullen binnenkort online verkrijgbaar zijn. \nTot dan! 🎶📚
URL:https://afrikalinks.nl/evenementen/afrikadagavond/
LOCATION:Bibliotheek Hilversum\, Bibliotheek Hilversum
CATEGORIES:Kunst & cultuur
ATTACH;FMTTYPE=image/jpeg:https://afrikalinks.nl/wp-content/uploads/2026/02/Afrikaavond-Hilversum.jpg
ORGANIZER;CN="Afrikadag Festival":MAILTO:noreply@facebookmail.com
END:VEVENT
BEGIN:VEVENT
DTSTART;TZID=Europe/Amsterdam:20260726T120000
DTEND;TZID=Europe/Amsterdam:20260801T120000
DTSTAMP:20260421T174241
CREATED:20251229T125706Z
LAST-MODIFIED:20251229T125706Z
UID:379679-1785067200-1785585600@afrikalinks.nl
SUMMARY:Akwaba Afrikaanse dans-muziekreis I zomer 2026 in België
DESCRIPTION:Wij nodigen je van harte uit voor een supergezellige en inspirerende week vol muziek\, dans en fantastische optredens van onze docenten.\nIn een groene\, rustgevende omgeving voel je je meteen welkom en ontspannen. Deze intensieve workshopweek biedt je de mogelijkheid om per dag tot wel 10 uur les te volgen in verschillende workshoprondes.\n’s Avonds is het tijd voor jamsessies\, spetterende docentenoptredens en swingende Afrikaanse muziek\nWees er snel bij\, want het aantal plaatsen is beperkt! Naast de deelnemers van Stichting Zaouli\, verwelkomen we ook leerlingen van onze docenten uit België\, Italië en Frankrijk. \nDANS › Traditionele Djembé-dans › Afro Contemporaine › AfroDance\nMUZIEK › Djembé › Doundoun › Kring \nDansdocenten\n› Simone Gomis › geeft traditionele dans en Afro-contemporaine dans uit Senegal\n› Serge Badoué › geeft AfroDance en traditionele dans uit Ivoorkust en Mali\n› Byshara Shokolate› geeft traditionele dans uit Guinee \nMuziekdocenten\n› Thomas Gueï › geeft Djembé en kring\n› Badri Dembele › geeft Doundoun\n› Jean Louis Degre › geeft Djembé en Doundoun\n› Dartagnan Camara › geeft Djembé en Doundoun \nLessen\n› Op het aanmeldformulier kies de lessen die je wilt volgen:\n4 uur dans en/of 4 djembé/Doundoun en/of 2 uur Kring\n› Het exacte tijdschema per dag wordt nader bepaald\, we zijn nog druk aan het plannen! \nPrijzen*\nJe kiest voor een verblijf op de camping of in de bungalow.\n› Camping: 1 week €499\,- voor: workshops\, maaltijden + verblijf\n› Bungalow: 1 week €599\,- voor: workshops\, maaltijden + verblijf \nOp 1 kamer zijn 3 bedden aanwezig.\n› Partner en/of kinderen vanaf 10 jaar: 1 week €350\,- voor: maaltijden + verblijf per persoon \n➡️Deelnemer zonder accomodatie: 1 week €250\,- voor workshops + 3 maaltijden \nJe ontvangt €90\,- KORTING als je bent aangemeld en hebt betaald vóór 21 juni 2026. \n*De prijzen zijn inclusief 3 maaltijden per dag en wijn bij het avondeten.\nDe prijzen zijn exclusief vervoer van en naar de locatie en overige dranken.\n› Losse lessen: €35\,- per les\n› Warme lunch en/of diner : €15\,- per maaltijd\, inclusief wijn bij het avondeten \nLocatie Gite de Thiryfays SPRL\nAdres THIRIFAYS 2\, 6810 CHINY IN BELGIË.\nVervoer\nHet is vlak bij de grens van Luxemburg en Frankrijk.\nIndien je met de trein reist\, dan kunnen wij jou ophalen vanaf het station in Florenville\nInteresse & aanmelden?\n> Aanmelden kan uitsluitend via een inschrijfformulier\, dat je HIER kunt openen en invullen. https://forms.gle/dk1XteE4VjM2XvPUA\n> Zodra de betaling binnen is\, is de boeking definitief. \nBetalen\nJe kunt het bedrag overmaken aan Triodos rekeningnummer:\nNL41 TRIO 019.83.11.532 t.n.v Stichting Zaouli in Bilthoven.\nVermeld hierbij: Afrikaanse dans- en muziekreis 2026 en jouw voor- en achternaam. \nWil je meer informatie?\nBel dan naar Serge: 06 – 84 46 20 69
URL:https://afrikalinks.nl/evenementen/akwaba-afrikaanse-dans-muziekreis-i-zomer-2026-in-belgie/
LOCATION:Gîte de Thiryfays sprl\, Thirifays 2\, 6810 Chiny\, België\, Gîte de Thiryfays sprl\, Thirifays 2\, 6810 Chiny\, België
CATEGORIES:Kunst & cultuur,Workshops
ATTACH;FMTTYPE=image/jpeg:https://afrikalinks.nl/wp-content/uploads/2025/12/Akwaba-Afrikaanse-dans-muziekreis-I-zomer-2026-in-Belgie.jpg
END:VEVENT
END:VCALENDAR