BEGIN:VCALENDAR
VERSION:2.0
PRODID:-//Afrikalinks - ECPv6.15.20//NONSGML v1.0//EN
CALSCALE:GREGORIAN
METHOD:PUBLISH
X-WR-CALNAME:Afrikalinks
X-ORIGINAL-URL:https://afrikalinks.nl
X-WR-CALDESC:Evenementen voor Afrikalinks
REFRESH-INTERVAL;VALUE=DURATION:PT1H
X-Robots-Tag:noindex
X-PUBLISHED-TTL:PT1H
BEGIN:VTIMEZONE
TZID:Europe/Amsterdam
BEGIN:DAYLIGHT
TZOFFSETFROM:+0100
TZOFFSETTO:+0200
TZNAME:CEST
DTSTART:20240331T010000
END:DAYLIGHT
BEGIN:STANDARD
TZOFFSETFROM:+0200
TZOFFSETTO:+0100
TZNAME:CET
DTSTART:20241027T010000
END:STANDARD
BEGIN:DAYLIGHT
TZOFFSETFROM:+0100
TZOFFSETTO:+0200
TZNAME:CEST
DTSTART:20250330T010000
END:DAYLIGHT
BEGIN:STANDARD
TZOFFSETFROM:+0200
TZOFFSETTO:+0100
TZNAME:CET
DTSTART:20251026T010000
END:STANDARD
BEGIN:DAYLIGHT
TZOFFSETFROM:+0100
TZOFFSETTO:+0200
TZNAME:CEST
DTSTART:20260329T010000
END:DAYLIGHT
BEGIN:STANDARD
TZOFFSETFROM:+0200
TZOFFSETTO:+0100
TZNAME:CET
DTSTART:20261025T010000
END:STANDARD
END:VTIMEZONE
BEGIN:VEVENT
DTSTART;TZID=Europe/Amsterdam:20250810T120000
DTEND;TZID=Europe/Amsterdam:20250810T170000
DTSTAMP:20260421T185741
CREATED:20250708T122537Z
LAST-MODIFIED:20250708T122537Z
UID:375664-1754827200-1754845200@afrikalinks.nl
SUMMARY:5de Editie VZW TOGO CHILD BBQ VOOR HET GOEDE DOEL
DESCRIPTION:🔥 GROTE SOLIDARITEITS-BBQ – 10 AUGUSTUS 2025 🔥\n🍗 Kom gezellig genieten met familie en vrienden! \n📅 Wanneer?\nZondag 10 augustus 2025 van 12:00 tot 17:00 uur \n📍 Galvestonstraat 37\,9000 GENT \nDit evenement wordt georganiseerd ten voordele van onze vereniging VZW TOGO CHILD\, ter ondersteuning van het goede doel . \n🍽️ Wat mag je verwachten?\n✅ Heerlijke gegrilde gerechten\n✅ Verfrissende drankjes\n✅ Sfeervolle muziek\n✅ Activiteiten voor jong en oud \n➡️ Info & reservaties:\n📞\n0483 43 22 46 of https://www.vzwtogochild.be/nieuws/taste-the-change-bbq-voor-het-goede-doel-1\n📧\ninfo@vzwtogochild.be\nOf stuur ons een privébericht! \n📢 Nodig je familie en vrienden uit en kom samen genieten voor het goede doel. Alvast bedankt om dit bericht te delen! 🙏 \n#SolidariteitsBBQ #Evenement #Vereniging #10Augustus2025 #WeesErbij
URL:https://afrikalinks.nl/evenementen/5de-editie-vzw-togo-child-bbq-voor-het-goede-doel/
LOCATION:Galvestonstraat 37  9000 Gent\, België\, Galvestonstraat 37 9000 Gent\, België
CATEGORIES:Kunst & cultuur
ATTACH;FMTTYPE=image/jpeg:https://afrikalinks.nl/wp-content/uploads/2025/07/TOGO-CHILD.jpg
END:VEVENT
END:VCALENDAR