BEGIN:VCALENDAR
VERSION:2.0
PRODID:-//Afrikalinks - ECPv6.15.20//NONSGML v1.0//EN
CALSCALE:GREGORIAN
METHOD:PUBLISH
X-WR-CALNAME:Afrikalinks
X-ORIGINAL-URL:https://afrikalinks.nl
X-WR-CALDESC:Evenementen voor Afrikalinks
REFRESH-INTERVAL;VALUE=DURATION:PT1H
X-Robots-Tag:noindex
X-PUBLISHED-TTL:PT1H
BEGIN:VTIMEZONE
TZID:Europe/Amsterdam
BEGIN:DAYLIGHT
TZOFFSETFROM:+0100
TZOFFSETTO:+0200
TZNAME:CEST
DTSTART:20230326T010000
END:DAYLIGHT
BEGIN:STANDARD
TZOFFSETFROM:+0200
TZOFFSETTO:+0100
TZNAME:CET
DTSTART:20231029T010000
END:STANDARD
BEGIN:DAYLIGHT
TZOFFSETFROM:+0100
TZOFFSETTO:+0200
TZNAME:CEST
DTSTART:20240331T010000
END:DAYLIGHT
BEGIN:STANDARD
TZOFFSETFROM:+0200
TZOFFSETTO:+0100
TZNAME:CET
DTSTART:20241027T010000
END:STANDARD
BEGIN:DAYLIGHT
TZOFFSETFROM:+0100
TZOFFSETTO:+0200
TZNAME:CEST
DTSTART:20250330T010000
END:DAYLIGHT
BEGIN:STANDARD
TZOFFSETFROM:+0200
TZOFFSETTO:+0100
TZNAME:CET
DTSTART:20251026T010000
END:STANDARD
END:VTIMEZONE
BEGIN:VEVENT
DTSTART;TZID=Europe/Amsterdam:20240210T130000
DTEND;TZID=Europe/Amsterdam:20240210T130000
DTSTAMP:20260425T041904
CREATED:20240207T105425Z
LAST-MODIFIED:20240207T105425Z
UID:373616-1707570000-1707570000@afrikalinks.nl
SUMMARY:Afro haven expo 24
DESCRIPTION:You are invited to participate in the Afro Haven Expo 2024. \nWith only 52 days left until #Afrohavenexpo24\, the excitement is at its peak! An extraordinary weekend of exhibitions\, fun\, music\, sales\, culture\, food\, fashion and many more 🔥 \nWhere: Lier Antwerp\nWhen: 10 February 2024 \nThis is your last chance to secure your place at AfroHaven’s biggest expo 💥
URL:https://afrikalinks.nl/evenementen/afro-haven-expo-24/
LOCATION:Lier\, Belgium
CATEGORIES:Kunst & cultuur
ATTACH;FMTTYPE=image/jpeg:https://afrikalinks.nl/wp-content/uploads/2024/02/373616_image_412861477_852543196870815_5404479476189877123_n.jpg
END:VEVENT
END:VCALENDAR