BEGIN:VCALENDAR
VERSION:2.0
PRODID:-//Afrikalinks - ECPv6.15.20//NONSGML v1.0//EN
CALSCALE:GREGORIAN
METHOD:PUBLISH
X-WR-CALNAME:Afrikalinks
X-ORIGINAL-URL:https://afrikalinks.nl
X-WR-CALDESC:Evenementen voor Afrikalinks
REFRESH-INTERVAL;VALUE=DURATION:PT1H
X-Robots-Tag:noindex
X-PUBLISHED-TTL:PT1H
BEGIN:VTIMEZONE
TZID:Europe/Amsterdam
BEGIN:DAYLIGHT
TZOFFSETFROM:+0100
TZOFFSETTO:+0200
TZNAME:CEST
DTSTART:20230326T010000
END:DAYLIGHT
BEGIN:STANDARD
TZOFFSETFROM:+0200
TZOFFSETTO:+0100
TZNAME:CET
DTSTART:20231029T010000
END:STANDARD
BEGIN:DAYLIGHT
TZOFFSETFROM:+0100
TZOFFSETTO:+0200
TZNAME:CEST
DTSTART:20240331T010000
END:DAYLIGHT
BEGIN:STANDARD
TZOFFSETFROM:+0200
TZOFFSETTO:+0100
TZNAME:CET
DTSTART:20241027T010000
END:STANDARD
BEGIN:DAYLIGHT
TZOFFSETFROM:+0100
TZOFFSETTO:+0200
TZNAME:CEST
DTSTART:20250330T010000
END:DAYLIGHT
BEGIN:STANDARD
TZOFFSETFROM:+0200
TZOFFSETTO:+0100
TZNAME:CET
DTSTART:20251026T010000
END:STANDARD
END:VTIMEZONE
BEGIN:VEVENT
DTSTART;TZID=Europe/Amsterdam:20240126T120000
DTEND;TZID=Europe/Amsterdam:20240208T150000
DTSTAMP:20260425T041908
CREATED:20231104T222636Z
LAST-MODIFIED:20231104T222636Z
UID:373211-1706270400-1707404400@afrikalinks.nl
SUMMARY:Jambo muziekreis\, dans zang en percussie in Benin West Afrika\, word insider!
DESCRIPTION:Wat maakt deze reis helemaal anders dan alle andere dans en muziekreizen naar Afrika?\nJe wordt insider! \nWat betekent dit? \n* Je leert over de bron van de muziek\, de ritmes\, de dans en de zang via inspirerende lezingen verzorgt door Kossilate (Yoruba priester) \n* Je leert over je voorouders\, je roots en de krachten uit de natuur (orisha’s) \n* Je krijgt workshops op je eigen niveau\, beginners of gevorderden \n* Je kunt steeds kiezen waar je aan mee wilt doen: dans zang of percussie \n* Je krijgt les van ons Jambo toppers met wie we al meer dan 20 jaar samenwerken: Salia Traore\, Kodjo Agbodjalou en Alfred Quenum. \n* Je ervaart tijdens de workshops de vibes van de lokale mensen die met ons mee doen\, er is veel verbinding interactie en       communicatie. \n* Je verblijft op onze eigen compound in comfortabele 1 of 2 persoonskamers met eigen badkamer. \n* Je maakt kennis met geheime genootschappen en je gaat regelmatig bijzondere dagtrips maken \nInvestering: €1750\,- bij een 1 persoonskamer\, €1500\,- bij een twee persoonskamer is inclusief:\n– alle transfers: luchthaven en excursies\n– alle overnachtingen\n– alle maaltijden\n– alle uitjes en excursies\n– alle workshops zang dans en percussie en alle lezingen \n Exclusief:\n– ticket (advies Brussel Airlines) tussen €500\,- en €750\,-\n– visum (e visum)\n– vaccinaties (zo nodig) \n📣 Neem je iemand mee dan krijg jij €100\,- korting\nINFORMATIEMIDDAG: 25 NOV IN NIJMEGEN\nOntplof je van nieuwsgierigheid? app 06-38510432
URL:https://afrikalinks.nl/evenementen/jambo-muziekreis-dans-zang-en-percussie-in-benin-west-afrika-word-insider/
LOCATION:Attogon (Allada)
CATEGORIES:Kunst & cultuur
ATTACH;FMTTYPE=image/jpeg:https://afrikalinks.nl/wp-content/uploads/2023/11/373211_image_386250349_822128149914098_3490238654904787589_n.jpg
END:VEVENT
END:VCALENDAR