BEGIN:VCALENDAR
VERSION:2.0
PRODID:-//Afrikalinks - ECPv6.15.20//NONSGML v1.0//EN
CALSCALE:GREGORIAN
METHOD:PUBLISH
X-ORIGINAL-URL:https://afrikalinks.nl
X-WR-CALDESC:Evenementen voor Afrikalinks
REFRESH-INTERVAL;VALUE=DURATION:PT1H
X-Robots-Tag:noindex
X-PUBLISHED-TTL:PT1H
BEGIN:VTIMEZONE
TZID:Europe/Amsterdam
BEGIN:DAYLIGHT
TZOFFSETFROM:+0100
TZOFFSETTO:+0200
TZNAME:CEST
DTSTART:20220327T010000
END:DAYLIGHT
BEGIN:STANDARD
TZOFFSETFROM:+0200
TZOFFSETTO:+0100
TZNAME:CET
DTSTART:20221030T010000
END:STANDARD
BEGIN:DAYLIGHT
TZOFFSETFROM:+0100
TZOFFSETTO:+0200
TZNAME:CEST
DTSTART:20230326T010000
END:DAYLIGHT
BEGIN:STANDARD
TZOFFSETFROM:+0200
TZOFFSETTO:+0100
TZNAME:CET
DTSTART:20231029T010000
END:STANDARD
BEGIN:DAYLIGHT
TZOFFSETFROM:+0100
TZOFFSETTO:+0200
TZNAME:CEST
DTSTART:20240331T010000
END:DAYLIGHT
BEGIN:STANDARD
TZOFFSETFROM:+0200
TZOFFSETTO:+0100
TZNAME:CET
DTSTART:20241027T010000
END:STANDARD
END:VTIMEZONE
BEGIN:VEVENT
DTSTART;TZID=Europe/Amsterdam:20231014T170000
DTEND;TZID=Europe/Amsterdam:20231014T170000
DTSTAMP:20260425T122612
CREATED:20230813T112345Z
LAST-MODIFIED:20230813T112345Z
UID:372914-1697302800-1697302800@afrikalinks.nl
SUMMARY:MISS AFRICA BELGIUM - Cirque Royal - Koninklijk Circus
DESCRIPTION:FR | SAVE THE DATE – 14 OCTOBRE 2023. \nMiss Africa Belgium fête ses 10 ans!\nPour célébrer ces dix années de concours mais surtout de rencontres\, de challenges et d’aventures nous avons l’honneur de vous convier au Cirque Royal\, lieu mythique qui célèbre la culture en plein cœur de Bruxelles pour marquer cette étape qui a demander tant de persévérance!  \nUn show de qualité\, des artistes et des surprises vous attendent alors prenez vos places sans plus tarder et venez souffler les bougies avec nous!  \nNL | SAVE THE DATE 14 OKTOBER 2023. \nMiss Africa Belgium viert haar 10de verjaardag!\nOm tien jaar optocht\, maar vooral ontmoetingen\, uitdagingen en avonturen te vieren\, hebben we de eer om jullie uit te nodigen in het Koninklijk Circus\, een legendarische cultuurlocatie in hartje Brussel\, om deze mijlpaal te vieren die zoveel doorzettingsvermogen heeft gevergd! \nEen topshow\, artiesten en verrassingen wachten op je\, dus koop nu je tickets en kom samen met ons de kaarsjes uitblazen! \nReserveer nu uw tickets! \nhttps://missafricabelgium.ticketlive.be/
URL:https://afrikalinks.nl/evenementen/miss-africa-belgium-cirque-royal-koninklijk-circus/
LOCATION:Cirque Royal Bruxelles\, Rue de l'enseignement 81\, Brussels\, 1000\, BE
CATEGORIES:Kunst & cultuur
ATTACH;FMTTYPE=image/jpeg:https://afrikalinks.nl/wp-content/uploads/2023/08/372914_image_363768813_665937648892124_8807754853379369832_n.jpg
END:VEVENT
END:VCALENDAR