BEGIN:VCALENDAR
VERSION:2.0
PRODID:-//Afrikalinks - ECPv6.15.20//NONSGML v1.0//EN
CALSCALE:GREGORIAN
METHOD:PUBLISH
X-WR-CALNAME:Afrikalinks
X-ORIGINAL-URL:https://afrikalinks.nl
X-WR-CALDESC:Evenementen voor Afrikalinks
REFRESH-INTERVAL;VALUE=DURATION:PT1H
X-Robots-Tag:noindex
X-PUBLISHED-TTL:PT1H
BEGIN:VTIMEZONE
TZID:Europe/Amsterdam
BEGIN:DAYLIGHT
TZOFFSETFROM:+0100
TZOFFSETTO:+0200
TZNAME:CEST
DTSTART:20220327T010000
END:DAYLIGHT
BEGIN:STANDARD
TZOFFSETFROM:+0200
TZOFFSETTO:+0100
TZNAME:CET
DTSTART:20221030T010000
END:STANDARD
BEGIN:DAYLIGHT
TZOFFSETFROM:+0100
TZOFFSETTO:+0200
TZNAME:CEST
DTSTART:20230326T010000
END:DAYLIGHT
BEGIN:STANDARD
TZOFFSETFROM:+0200
TZOFFSETTO:+0100
TZNAME:CET
DTSTART:20231029T010000
END:STANDARD
BEGIN:DAYLIGHT
TZOFFSETFROM:+0100
TZOFFSETTO:+0200
TZNAME:CEST
DTSTART:20240331T010000
END:DAYLIGHT
BEGIN:STANDARD
TZOFFSETFROM:+0200
TZOFFSETTO:+0100
TZNAME:CET
DTSTART:20241027T010000
END:STANDARD
END:VTIMEZONE
BEGIN:VEVENT
DTSTART;TZID=Europe/Amsterdam:20230923T110000
DTEND;TZID=Europe/Amsterdam:20230923T170000
DTSTAMP:20260425T151635
CREATED:20230823T164307Z
LAST-MODIFIED:20230823T164307Z
UID:372964-1695466800-1695488400@afrikalinks.nl
SUMMARY:Beautiful Africa Day Celebration
DESCRIPTION:Calling on all vendors for beautiful Africa day Celebration \nIn celebration of this year’s international day for people of #African descent. This holiday was created by the United Nations to celebrate the diverse heritage and several contributions of people of African descent.  \nObserved on 31 August of every year. \nOn this day\, we will celebrate and proudly showcase everything that is beautiful about Africa including #food\, #dance\, #fashion\, #tourism and #business.  Come showcase your services\, sell your merchandise\, meet like minded entrepreneurs and create meaningful and lasting partnerships.
URL:https://afrikalinks.nl/evenementen/beautiful-africa-day-celebration/
LOCATION:Amare Cultural Centre\, The Hague
CATEGORIES:Kunst & cultuur
ATTACH;FMTTYPE=image/jpeg:https://afrikalinks.nl/wp-content/uploads/2023/08/372964_image_366380980_604211535251403_5762520776612356737_n.jpg
END:VEVENT
END:VCALENDAR