BEGIN:VCALENDAR
VERSION:2.0
PRODID:-//Afrikalinks - ECPv6.15.20//NONSGML v1.0//EN
CALSCALE:GREGORIAN
METHOD:PUBLISH
X-WR-CALNAME:Afrikalinks
X-ORIGINAL-URL:https://afrikalinks.nl
X-WR-CALDESC:Evenementen voor Afrikalinks
REFRESH-INTERVAL;VALUE=DURATION:PT1H
X-Robots-Tag:noindex
X-PUBLISHED-TTL:PT1H
BEGIN:VTIMEZONE
TZID:Europe/Amsterdam
BEGIN:DAYLIGHT
TZOFFSETFROM:+0100
TZOFFSETTO:+0200
TZNAME:CEST
DTSTART:20220327T010000
END:DAYLIGHT
BEGIN:STANDARD
TZOFFSETFROM:+0200
TZOFFSETTO:+0100
TZNAME:CET
DTSTART:20221030T010000
END:STANDARD
BEGIN:DAYLIGHT
TZOFFSETFROM:+0100
TZOFFSETTO:+0200
TZNAME:CEST
DTSTART:20230326T010000
END:DAYLIGHT
BEGIN:STANDARD
TZOFFSETFROM:+0200
TZOFFSETTO:+0100
TZNAME:CET
DTSTART:20231029T010000
END:STANDARD
BEGIN:DAYLIGHT
TZOFFSETFROM:+0100
TZOFFSETTO:+0200
TZNAME:CEST
DTSTART:20240331T010000
END:DAYLIGHT
BEGIN:STANDARD
TZOFFSETFROM:+0200
TZOFFSETTO:+0100
TZNAME:CET
DTSTART:20241027T010000
END:STANDARD
END:VTIMEZONE
BEGIN:VEVENT
DTSTART;TZID=Europe/Amsterdam:20230715T170000
DTEND;TZID=Europe/Amsterdam:20230716T020000
DTSTAMP:20260425T180756
CREATED:20230704T100108Z
LAST-MODIFIED:20230704T100108Z
UID:372742-1689440400-1689472800@afrikalinks.nl
SUMMARY:AFRICAN WALKING DINNER
DESCRIPTION:Welcome to our African buffet à volonté !\nWe and restaurant O’Saveurs Oostende are excited to share with you some of the most delicious and flavorful street fingerfood from Sénégal to Kongo through Ivory coast…\n We hope you enjoy this culinary journey through the diverse and delicious flavors of Africa !\nReservations before 20/06/2023 : 0489/692107—0466/425513\n Bon appétit !\nGet then ready to dance the night away\, We’re bringing the heat with the latest and greatest in Afrobeat /Afrohouse music\, so get ready to move your feet to the infectious rhythms
URL:https://afrikalinks.nl/evenementen/african-walking-dinner/
LOCATION:In ’t Vrije
CATEGORIES:Kunst & cultuur
ATTACH;FMTTYPE=image/jpeg:https://afrikalinks.nl/wp-content/uploads/2023/07/372742_image_349523176_885313396363445_2316681616859284980_n.jpg
END:VEVENT
END:VCALENDAR