BEGIN:VCALENDAR
VERSION:2.0
PRODID:-//Afrikalinks - ECPv6.15.20//NONSGML v1.0//EN
CALSCALE:GREGORIAN
METHOD:PUBLISH
X-ORIGINAL-URL:https://afrikalinks.nl
X-WR-CALDESC:Evenementen voor Afrikalinks
REFRESH-INTERVAL;VALUE=DURATION:PT1H
X-Robots-Tag:noindex
X-PUBLISHED-TTL:PT1H
BEGIN:VTIMEZONE
TZID:Europe/Amsterdam
BEGIN:DAYLIGHT
TZOFFSETFROM:+0100
TZOFFSETTO:+0200
TZNAME:CEST
DTSTART:20220327T010000
END:DAYLIGHT
BEGIN:STANDARD
TZOFFSETFROM:+0200
TZOFFSETTO:+0100
TZNAME:CET
DTSTART:20221030T010000
END:STANDARD
BEGIN:DAYLIGHT
TZOFFSETFROM:+0100
TZOFFSETTO:+0200
TZNAME:CEST
DTSTART:20230326T010000
END:DAYLIGHT
BEGIN:STANDARD
TZOFFSETFROM:+0200
TZOFFSETTO:+0100
TZNAME:CET
DTSTART:20231029T010000
END:STANDARD
BEGIN:DAYLIGHT
TZOFFSETFROM:+0100
TZOFFSETTO:+0200
TZNAME:CEST
DTSTART:20240331T010000
END:DAYLIGHT
BEGIN:STANDARD
TZOFFSETFROM:+0200
TZOFFSETTO:+0100
TZNAME:CET
DTSTART:20241027T010000
END:STANDARD
END:VTIMEZONE
BEGIN:VEVENT
DTSTART;TZID=Europe/Amsterdam:20230618T130000
DTEND;TZID=Europe/Amsterdam:20230618T190000
DTSTAMP:20260425T194311
CREATED:20230603T111741Z
LAST-MODIFIED:20230603T111741Z
UID:372607-1687093200-1687114800@afrikalinks.nl
SUMMARY:African market at 3Stones Kenyan Restaurant
DESCRIPTION:The sun is out and we can welcome the summer with joy. Join us for The African market at 3Stones Kenyan restaurant.\nWith free entry\, you will enjoy food tasting\, browse through and shop from a range of African goods and merchandise by several businesses\, while the kids enjoy their time in the kids corner. There will be great music and a great opportunity to network with others.\nMark your calenadar and be sure to come because it will be fun for the whole family! \nDate: Sunday 18 June 2023\nTime: 14:00-20:00\nAddress: Laan van Meerdervoort 46 a\, 2517 AM Den Haag (free parking in the neighbourhood) \nContact us for more information. 0652447347 \nAre you a vendor and want to book a stand? Contact us as soon as possible \n#africanmarket\n#Africanfood\n#Africanheritage
URL:https://afrikalinks.nl/evenementen/african-market-at-3stones-kenyan-restaurant/
LOCATION:3Stones Kenyan Restaurant\, Laan van Meerdervoort 46A\, The Hague\, 2517AM\, NL
CATEGORIES:Kunst & cultuur
ATTACH;FMTTYPE=image/jpeg:https://afrikalinks.nl/wp-content/uploads/2023/06/372607_image_350534791_117971544641270_2098526628774963063_n.jpg
END:VEVENT
END:VCALENDAR