BEGIN:VCALENDAR
VERSION:2.0
PRODID:-//Afrikalinks - ECPv6.15.20//NONSGML v1.0//EN
CALSCALE:GREGORIAN
METHOD:PUBLISH
X-WR-CALNAME:Afrikalinks
X-ORIGINAL-URL:https://afrikalinks.nl
X-WR-CALDESC:Evenementen voor Afrikalinks
REFRESH-INTERVAL;VALUE=DURATION:PT1H
X-Robots-Tag:noindex
X-PUBLISHED-TTL:PT1H
BEGIN:VTIMEZONE
TZID:Europe/Amsterdam
BEGIN:DAYLIGHT
TZOFFSETFROM:+0100
TZOFFSETTO:+0200
TZNAME:CEST
DTSTART:20240331T010000
END:DAYLIGHT
BEGIN:STANDARD
TZOFFSETFROM:+0200
TZOFFSETTO:+0100
TZNAME:CET
DTSTART:20241027T010000
END:STANDARD
BEGIN:DAYLIGHT
TZOFFSETFROM:+0100
TZOFFSETTO:+0200
TZNAME:CEST
DTSTART:20250330T010000
END:DAYLIGHT
BEGIN:STANDARD
TZOFFSETFROM:+0200
TZOFFSETTO:+0100
TZNAME:CET
DTSTART:20251026T010000
END:STANDARD
BEGIN:DAYLIGHT
TZOFFSETFROM:+0100
TZOFFSETTO:+0200
TZNAME:CEST
DTSTART:20260329T010000
END:DAYLIGHT
BEGIN:STANDARD
TZOFFSETFROM:+0200
TZOFFSETTO:+0100
TZNAME:CET
DTSTART:20261025T010000
END:STANDARD
END:VTIMEZONE
BEGIN:VEVENT
DTSTART;TZID=Europe/Amsterdam:20250706T160000
DTEND;TZID=Europe/Amsterdam:20250706T190000
DTSTAMP:20260421T185707
CREATED:20250602T204938Z
LAST-MODIFIED:20250602T204938Z
UID:375146-1751817600-1751828400@afrikalinks.nl
SUMMARY:Expo Opening Joel Biza - kunstschilder uit Zuid-Afrika
DESCRIPTION:In 2020\, vlak voor de coronapandemie\, hebben wij\, Bert & Marie Nijland\, in Zuid-Afrika Joel Biza leren kennen op een kunstenaarsmarktje in Franschhoek. Na onze terugkeer in Nederland\, tijdens de coronapandemie\, bleven wij in contact met Joel. In deze periode lag het toerisme in Zuid-Afrika stil\, wat ook de inkomsten van Joel aanzienlijk verminderde. Wij besloten Joels kunst vanuit Giethoorn te verkopen om zo Joel en zijn familie te helpen deze moeilijke tijd door te komen. Dit initiatief is in de loop van de tijd gegroeid. Inmiddels hebben we een kleine kunstgalerie in Giethoorn\, waar uitsluitend het werk van Joel wordt geëxposeerd. De opbrengsten van de verkopen gaan rechtstreeks naar Joel. \nDat het werk van Joel bijzonder is\, blijkt wel uit het feit dat Lia Gurowitsch\, kunstcoördinator van het Kulturhus\, ons heeft gevraagd of zij een expositie mocht organiseren met zijn werken. Ook is in de verschillende media al de nodige aandacht voor de kunst van Joel geweest. Zowel in kranten als op televisie. \nU bent van harte uitgenodigd voor de opening van deze expositie op zondag 6 juli 2025\, van 16.00 tot 18.00 uur. De tentoonstelling wordt geopend door de wethouder van Kunst en Cultuur van de gemeente Steenwijkerland\, mevrouw Trijn Jongman. \nBert & Marie Nijland – Kunstgalerie Afrika
URL:https://afrikalinks.nl/evenementen/expo-opening-joel-biza-kunstschilder-uit-zuid-afrika/
LOCATION:Eendrachtsplein 1\, 8355 DL Giethoorn\, Netherlands\, Eendrachtsplein 1\, 8355 DL Giethoorn\, Netherlands
CATEGORIES:Kunst & cultuur
ATTACH;FMTTYPE=image/jpeg:https://afrikalinks.nl/wp-content/uploads/2025/06/Joel-Biza.jpg
END:VEVENT
BEGIN:VEVENT
DTSTART;TZID=Europe/Amsterdam:20250725T170000
DTEND;TZID=Europe/Amsterdam:20250725T230000
DTSTAMP:20260421T185707
CREATED:20250718T183609Z
LAST-MODIFIED:20250718T183609Z
UID:376495-1753462800-1753484400@afrikalinks.nl
SUMMARY:Habibis World presents - Habibis Café Summer Hangout
DESCRIPTION:The Arabic summer Hangout of Rotterdam. \nAfter our last club edition on may 3th\, we are back with a cultural event at Cafe Dox on Friday\, July 25th! Habibis World comes alive in Habibis Café: Celebrate togetherness and the rich North African and MENA traditions with Food\, music\, spoken word\, art and Comedy. There will also be a Mini- SOUK ( Market) present where\, creative people can offer their products and there is a Kids area present where children (of all ages) can let loose! \nHabibis Café is brought to you to experience the rich culture of North Africa and MENA Region. We from Habibis World believe that you bring people from different nationalities together through food\, music and art and because of this we would love to invite you to our third edition at Café Dox! \nFrom beats to bites\, laughs to love – this is the Habibis experience you’ve been waiting for. \nDeejays 😍\nZouflebouf | rogyne | DJ Marindos | Ajabbs \nComedy 😍\nRida Abouhayan \nLive Acts 😍\nKarim el Rayanni | Razeen | Amber Ruby | Don Papiton | Shaza | #Yasslines | Sarah & Emad Al Kaissi \nSouk 😍\nHabibis World Merch | Dkrypted | Saarbandjes | By Aureliana | Stenengewijs \nBody Art 😍\n7gems | Hennatazierah \nFood 😍\nPichtache Halab | Ma3lish Food | Taqueria Josey Maria | Ne3 Ne3 Bar \nHosted by Sherita 😍 \nAlso present:\nHabibis Cinema • Habibis Lounge • Game Area for Kids \nFREE ENTRY FOR EVERYONE – NO TICKETS NEEDED\nFrom 17:00 to 23:00 – filled with music\, food and love. \nCome early\, eat well\, stay late.\nGather your Habibis – we’ll take care of the rest.
URL:https://afrikalinks.nl/evenementen/habibis-world-presents-habibis-cafe-summer-hangout/
LOCATION:Café Dox\, Café Dox
CATEGORIES:Kunst & cultuur
ATTACH;FMTTYPE=image/jpeg:https://afrikalinks.nl/wp-content/uploads/2025/07/Habibis-World.jpg
END:VEVENT
BEGIN:VEVENT
DTSTART;TZID=Europe/Amsterdam:20250727T160000
DTEND;TZID=Europe/Amsterdam:20250727T220000
DTSTAMP:20260421T185707
CREATED:20250628T175628Z
LAST-MODIFIED:20250708T121744Z
UID:375283-1753632000-1753653600@afrikalinks.nl
SUMMARY:Afrobeats ‘N Bites - Rotterdam
DESCRIPTION:Afrobeats ‘N Bites Sundays; where community vibes meet summer sunshine. A community driven initiative by @jollove.events & @africanfoodfestival \nKick off your week the right way\, join us on a sunny Sunday afternoon for the ultimate chill session filled with good music\, delicious food\, tropical cocktails\, and classic games. It’s all happening in a vibrant Afro-community atmosphere surrounded by beautiful people and positive energy. \n📍 Location:\nBar Stroom Rotterdam — a hidden gem with a stunning terrace overlooking the city skyline and waterways. A perfect escape right in the heart of Rotterdam. \n🎶 Afrobeats All Day:\nGet ready for non-stop rhythms from the motherland. From Afrobeats to Amapiano\, our lineup of community DJs will take you on a musical journey that feels just like home. \n🍴 Tasty Bites:\nEach edition brings you flavors from two different African countries. Come hungry and treat yourself to authentic bites that showcase the richness of African culture. \n🎲 Games & Good Vibes:\nUnwind and connect over your favorite games; the perfect way to relax\, laugh\, and make memories before the new week begins. \n⏱️TIME: Get in 16:00 | Start 15:00 – 22:00 \n💃🏿UPCOMING EDITIONS:\nSun July 27th\nSun August 10th\nsun August 24th\nSun August 31st \n🌞 Bring your crew\, wear your brightest smile\, and let’s make this a summer to remember. \n🎟️ Tickets are now live! Tap the link below..\nhttps://eventix.shop/cxet4gxd \n🎨 : @artlebouf \n#jollove #africafoodfestival #fortheculture
URL:https://afrikalinks.nl/evenementen/afrobeats-n-bites-rotterdam/
LOCATION:Bar Stroom\, Bar Stroom
CATEGORIES:Kunst & cultuur
ATTACH;FMTTYPE=image/jpeg:https://afrikalinks.nl/wp-content/uploads/2025/06/Afrobeats-‘N-Bites-Sundays.jpg
ORGANIZER;CN="Jollove Events":MAILTO:noreply@facebookmail.com
END:VEVENT
END:VCALENDAR