BEGIN:VCALENDAR
VERSION:2.0
PRODID:-//Afrikalinks - ECPv6.15.20//NONSGML v1.0//EN
CALSCALE:GREGORIAN
METHOD:PUBLISH
X-ORIGINAL-URL:https://afrikalinks.nl
X-WR-CALDESC:Evenementen voor Afrikalinks
REFRESH-INTERVAL;VALUE=DURATION:PT1H
X-Robots-Tag:noindex
X-PUBLISHED-TTL:PT1H
BEGIN:VTIMEZONE
TZID:Europe/Amsterdam
BEGIN:DAYLIGHT
TZOFFSETFROM:+0100
TZOFFSETTO:+0200
TZNAME:CEST
DTSTART:20230326T010000
END:DAYLIGHT
BEGIN:STANDARD
TZOFFSETFROM:+0200
TZOFFSETTO:+0100
TZNAME:CET
DTSTART:20231029T010000
END:STANDARD
BEGIN:DAYLIGHT
TZOFFSETFROM:+0100
TZOFFSETTO:+0200
TZNAME:CEST
DTSTART:20240331T010000
END:DAYLIGHT
BEGIN:STANDARD
TZOFFSETFROM:+0200
TZOFFSETTO:+0100
TZNAME:CET
DTSTART:20241027T010000
END:STANDARD
BEGIN:DAYLIGHT
TZOFFSETFROM:+0100
TZOFFSETTO:+0200
TZNAME:CEST
DTSTART:20250330T010000
END:DAYLIGHT
BEGIN:STANDARD
TZOFFSETFROM:+0200
TZOFFSETTO:+0100
TZNAME:CET
DTSTART:20251026T010000
END:STANDARD
END:VTIMEZONE
BEGIN:VEVENT
DTSTART;TZID=Europe/Amsterdam:20240126T120000
DTEND;TZID=Europe/Amsterdam:20240208T150000
DTSTAMP:20260425T023519
CREATED:20231104T222636Z
LAST-MODIFIED:20231104T222636Z
UID:373211-1706270400-1707404400@afrikalinks.nl
SUMMARY:Jambo muziekreis\, dans zang en percussie in Benin West Afrika\, word insider!
DESCRIPTION:Wat maakt deze reis helemaal anders dan alle andere dans en muziekreizen naar Afrika?\nJe wordt insider! \nWat betekent dit? \n* Je leert over de bron van de muziek\, de ritmes\, de dans en de zang via inspirerende lezingen verzorgt door Kossilate (Yoruba priester) \n* Je leert over je voorouders\, je roots en de krachten uit de natuur (orisha’s) \n* Je krijgt workshops op je eigen niveau\, beginners of gevorderden \n* Je kunt steeds kiezen waar je aan mee wilt doen: dans zang of percussie \n* Je krijgt les van ons Jambo toppers met wie we al meer dan 20 jaar samenwerken: Salia Traore\, Kodjo Agbodjalou en Alfred Quenum. \n* Je ervaart tijdens de workshops de vibes van de lokale mensen die met ons mee doen\, er is veel verbinding interactie en       communicatie. \n* Je verblijft op onze eigen compound in comfortabele 1 of 2 persoonskamers met eigen badkamer. \n* Je maakt kennis met geheime genootschappen en je gaat regelmatig bijzondere dagtrips maken \nInvestering: €1750\,- bij een 1 persoonskamer\, €1500\,- bij een twee persoonskamer is inclusief:\n– alle transfers: luchthaven en excursies\n– alle overnachtingen\n– alle maaltijden\n– alle uitjes en excursies\n– alle workshops zang dans en percussie en alle lezingen \n Exclusief:\n– ticket (advies Brussel Airlines) tussen €500\,- en €750\,-\n– visum (e visum)\n– vaccinaties (zo nodig) \n📣 Neem je iemand mee dan krijg jij €100\,- korting\nINFORMATIEMIDDAG: 25 NOV IN NIJMEGEN\nOntplof je van nieuwsgierigheid? app 06-38510432
URL:https://afrikalinks.nl/evenementen/jambo-muziekreis-dans-zang-en-percussie-in-benin-west-afrika-word-insider/
LOCATION:Attogon (Allada)
CATEGORIES:Kunst & cultuur
ATTACH;FMTTYPE=image/jpeg:https://afrikalinks.nl/wp-content/uploads/2023/11/373211_image_386250349_822128149914098_3490238654904787589_n.jpg
END:VEVENT
BEGIN:VEVENT
DTSTART;TZID=Europe/Amsterdam:20240201T201500
DTEND;TZID=Europe/Amsterdam:20240201T201500
DTSTAMP:20260425T023519
CREATED:20231108T003635Z
LAST-MODIFIED:20231108T003635Z
UID:373234-1706818500-1706818500@afrikalinks.nl
SUMMARY:Jawad Es Soufi - Harira
DESCRIPTION:In deze show laat Jawad Es Soufi op een bijzonder hilarische manier zien hoe verschillend de mensen in Nederland zijn. Hij vertelt op geheel eigen wijze hoe hij zich in alledaagse bezigheden verhoudt tot deze diverse zielen. Zijn observaties laten je versteld staan over Nederland. En laten je naar ons land kijken zoals je er hoogstwaarschijnlijk nog nooit naar gekeken hebt.   \nHij kruipt haarfijn in de typetjes die een heerlijke afspiegeling vormen van de maatschappij.   \nAl die fascinerende mensen vormen\, volgens Jawad\, samen dé ingrediënten voor de beste soep van de wereld: Nederland.  \nJawad Es Soufi\nJawad Es Soufi is geboren en getogen in Rotterdam-Zuid. Op zijn tweeëntwintigste begon Jawad met het geven van Nederlandse les op het VMBO in Rotterdam. Dag in dag uit haalt hij ontzettend veel voldoening uit alle lessen die hij verzorgt.  \nAl op zijn achttiende begonnen zijn kriebels voor het theater. Na twee jaar actief te zijn geweest in toneelgroep The Brothers uit Rotterdam\, besloot hij verder te gaan met de groep De Borrelnootjez. Daar kreeg hij de ruimte om te experimenteren en originele sketches te maken. Op 20 februari 2020 speelde Jawad zijn debuutshow als Sloegie in Theater Rotterdam\, met 850 bezette zitplaatsen was zijn première stijf uitverkocht. Vele uitverkochte voorstellingen volgden. Harira is zijn vierde avondvullende voorstelling.
URL:https://afrikalinks.nl/evenementen/jawad-es-soufi-harira/
LOCATION:Theater aan de Schie\, Stadserf 1\, Schiedam\, 3112 DZ\, NL
CATEGORIES:Kunst & cultuur
ATTACH;FMTTYPE=image/jpeg:https://afrikalinks.nl/wp-content/uploads/2023/11/373234_image_353807541_829042701984153_5845106831918051131_n.jpg
END:VEVENT
BEGIN:VEVENT
DTSTART;TZID=Europe/Amsterdam:20240202T203000
DTEND;TZID=Europe/Amsterdam:20240202T203000
DTSTAMP:20260425T023519
CREATED:20231124T193451Z
LAST-MODIFIED:20231124T193451Z
UID:373304-1706905800-1706905800@afrikalinks.nl
SUMMARY:Ik\, Malik — Malik Mohammed
DESCRIPTION:IK\, MALIK — MALIK MOHAMMED\nMalik Mohammed kwam op zijn 8 met z’n moeder en zus van Kenya naar België. Hij moest zijn land\, thuis\, taal\, school en vrienden achterlaten en hier van nul opnieuw beginnen.\n‘Ik\, Malik’ is zijn verhaal: in tekst\, spoken word en dans. In het Nederlands en Engels. Hoe hij profvoetballer wilde worden\, uiteindelijk profdanser werd en ‘So You Think You Can Dance’ won.\nHoe hij trouw blijft aan zijn roots én trouw wil zijn aan zijn nieuwe land. Hoe hij met vallen en opstaan\, maar vooral met een onverwoestbaar optimisme\, zijn dromen waarmaakt.\n“You can’t love anyone else\, if you don’t love yourself\,” – Maya Angelou. \nTickets\n€ 16\n€ 13 (-26 jaar & studenten) \nTimings zijn steeds onder voorbehoud.
URL:https://afrikalinks.nl/evenementen/ik-malik-malik-mohammed/
LOCATION:Arenberg\, Arenbergstraat 28\, Antwerp\, 2000\, BE
CATEGORIES:Kunst & cultuur
ATTACH;FMTTYPE=image/jpeg:https://afrikalinks.nl/wp-content/uploads/2023/11/373304_image_395230581_719487743546288_6685274910020130557_n.jpg
END:VEVENT
BEGIN:VEVENT
DTSTART;TZID=Europe/Amsterdam:20240203T103000
DTEND;TZID=Europe/Amsterdam:20240203T103000
DTSTAMP:20260425T023519
CREATED:20240118T231938Z
LAST-MODIFIED:20240118T231938Z
UID:373489-1706956200-1706956200@afrikalinks.nl
SUMMARY:Verdiepingsdag Afrika
DESCRIPTION:Welkom lieve dansers\,\nbij een zalige\, verdiepende dansdag\, met enkel Afrikaanse klanken\, geïnspireerd door mijn twee maanden verblijf in Uganda. \nIn 2022 werd ik gevraagd door de stichting Biodanzareizen om 3 weken in Uganda Biodanza te geven. Ik vond het fantastisch! Het land\, de mensen\, de cultuur… geweldig! Dit jaar mocht ik het weer doen en besloot ik samen met Oda (mijn Vlaamse Biodanza vriendin) om ons verblijf daar te verlengen. We verbleven 5 weken in een Ugandees gezin te midden van de lokale gemeenschap. \nDeze dansdag wil ik iets van mijn inspiratie en liefde voor Afrika met jullie delen. Positiviteit\, levenslust\, vrolijkheid… Uganda bruist! Ubuntu\, de cultuur waarin het ‘wij’ voorop staat en waar ‘ik’ ondergeschikt is\, waar mzungu’s (witte mensen) zo hartelijk worden verwelkomd\, waar God leeft\, waar dans en ritme een belangrijke rol hebben\, waar samen delen vanzelfsprekend is\, waar armoede met geld te maken heeft en rijkdom met levenshouding. \nWil jij je ook even een dag in Afrika wanen? Dans je mee op prachtige Afrikaanse muziek? Van harte welkom. \nEen deel van de opbrengst gaat naar mijn vrienden in Uganda om hen te ondersteunen in hun dagelijks leven. \nDans je mee? Stuur dan even een mailtje terug (of via FB). Welkom!  \nPraktische info: \nLocatie de Bremerpoort\, Bernardusstraat 17 te Ulicoten (iets onder Breda) \nKosten: 70\,- graag bij aanmelding overschrijven naar IBAN NL76INGB0684439964 t.n.v. A.J. Woertman \ninfo voor annulering:  \nAnnuleringvoorwaarden
URL:https://afrikalinks.nl/evenementen/verdiepingsdag-afrika/
LOCATION:Bremerpoort\, Bernardusstraat 17\, Ulicoten\, 5113 TG\, NL
CATEGORIES:Kunst & cultuur
ATTACH;FMTTYPE=image/jpeg:https://afrikalinks.nl/wp-content/uploads/2024/01/373489_image_416093931_761187339361487_4625340482519336793_n.jpg
END:VEVENT
BEGIN:VEVENT
DTSTART;TZID=Europe/Amsterdam:20240203T183000
DTEND;TZID=Europe/Amsterdam:20240203T183000
DTSTAMP:20260425T023519
CREATED:20240118T231939Z
LAST-MODIFIED:20240118T231939Z
UID:373491-1706985000-1706985000@afrikalinks.nl
SUMMARY:Amazigh Nieuwjaar 2974 - 2024
DESCRIPTION:KAARTVERKOOP ||\nVoorverkoop online via Theater Zuidplein of aan de kassa: €25\,- | Op 3 februari (aan de deur) €30\,-.\nKortingsactie | bij 4 kaarten of meer €20/kaart. Kaarten van de kortingsactie zijn enkel via bades.foundation@gmail.com verkrijgbaar tot en met 31 januari 2024 te bestellen.\nKinderen tot 15 jaar: €10\,-. \nTheater | 18.30 uur open.\nProgramma | start (stipt) om 19.30. Afsluiting | 23.00uur.  \nPROGRAMMA ||\nBades viert het Amazigh Nieuwjaar 2974 – 2024 (traditioneel) in Theater Zuidplein op 3 februari a.s. \nDe viering van Amazigh Yennayer is een muzikale avond\, vol gezelligheid\, en een gelegenheid om van authentieke Amazigh cultureel erfgoed te proeven. De Amazigh taal- en cultuur komen ruimschoots aan bod.  \nKoop alvast je kaarten\, Amazigh Yennayer Rotterdam is elk jaar (steeds eerder) uitverkocht! \nHet belooft wederom een mooie avond te worden. Op veler verzoek zijn Agraf Band en Syphax Band op herhaling\, na de onvergetelijke avond van de Yennayerviering van afgelopen jaar. Mimoun Rafrouā zal zijn klassiekers ‘Yemma Inu’ en ‘Tathbirt Tachemratch’ ten gehore brengen.\nDe moderne muziekstijlen\, in combinatie met traditionele teksten van de izran- Riffijnse gezongen poëtische liederen\, spreken grote groepen muziekliefhebbers aan. \nVerder zijn er workshops handambachten van Ouardani Aissa en wordt de Bades Award aan een zeer bijzondere gast uitgereikt. In de foyer zijn er kraampjes voor o.a. boeken en Amazigh items. \nDe sfeer zal opperbest zijn met een boekenmarkt en Amazigh items in de foyer. \nLaten we het Amazigh Nieuwjaar 2974 groots inluiden! \nMEER INFORMATIE ||\nhttps://facebook.com/BadesFoundation/. https://facebook.com/Amazighnieuwjaar/\nEmail: bades.foundation@gmail.com.
URL:https://afrikalinks.nl/evenementen/amazigh-nieuwjaar-2974-2024/
LOCATION:Theater Zuidplein
CATEGORIES:Kunst & cultuur
ATTACH;FMTTYPE=image/jpeg:https://afrikalinks.nl/wp-content/uploads/2024/01/373491_image_410856997_762050162628415_1029183256124871918_n.jpg
END:VEVENT
BEGIN:VEVENT
DTSTART;TZID=Europe/Amsterdam:20240210T130000
DTEND;TZID=Europe/Amsterdam:20240210T130000
DTSTAMP:20260425T023519
CREATED:20240207T105425Z
LAST-MODIFIED:20240207T105425Z
UID:373616-1707570000-1707570000@afrikalinks.nl
SUMMARY:Afro haven expo 24
DESCRIPTION:You are invited to participate in the Afro Haven Expo 2024. \nWith only 52 days left until #Afrohavenexpo24\, the excitement is at its peak! An extraordinary weekend of exhibitions\, fun\, music\, sales\, culture\, food\, fashion and many more 🔥 \nWhere: Lier Antwerp\nWhen: 10 February 2024 \nThis is your last chance to secure your place at AfroHaven’s biggest expo 💥
URL:https://afrikalinks.nl/evenementen/afro-haven-expo-24/
LOCATION:Lier\, Belgium
CATEGORIES:Kunst & cultuur
ATTACH;FMTTYPE=image/jpeg:https://afrikalinks.nl/wp-content/uploads/2024/02/373616_image_412861477_852543196870815_5404479476189877123_n.jpg
END:VEVENT
END:VCALENDAR