BEGIN:VCALENDAR
VERSION:2.0
PRODID:-//Afrikalinks - ECPv6.15.20//NONSGML v1.0//EN
CALSCALE:GREGORIAN
METHOD:PUBLISH
X-ORIGINAL-URL:https://afrikalinks.nl
X-WR-CALDESC:Evenementen voor Afrikalinks
REFRESH-INTERVAL;VALUE=DURATION:PT1H
X-Robots-Tag:noindex
X-PUBLISHED-TTL:PT1H
BEGIN:VTIMEZONE
TZID:Europe/Amsterdam
BEGIN:DAYLIGHT
TZOFFSETFROM:+0100
TZOFFSETTO:+0200
TZNAME:CEST
DTSTART:20220327T010000
END:DAYLIGHT
BEGIN:STANDARD
TZOFFSETFROM:+0200
TZOFFSETTO:+0100
TZNAME:CET
DTSTART:20221030T010000
END:STANDARD
BEGIN:DAYLIGHT
TZOFFSETFROM:+0100
TZOFFSETTO:+0200
TZNAME:CEST
DTSTART:20230326T010000
END:DAYLIGHT
BEGIN:STANDARD
TZOFFSETFROM:+0200
TZOFFSETTO:+0100
TZNAME:CET
DTSTART:20231029T010000
END:STANDARD
BEGIN:DAYLIGHT
TZOFFSETFROM:+0100
TZOFFSETTO:+0200
TZNAME:CEST
DTSTART:20240331T010000
END:DAYLIGHT
BEGIN:STANDARD
TZOFFSETFROM:+0200
TZOFFSETTO:+0100
TZNAME:CET
DTSTART:20241027T010000
END:STANDARD
END:VTIMEZONE
BEGIN:VEVENT
DTSTART;TZID=Europe/Amsterdam:20230821T130000
DTEND;TZID=Europe/Amsterdam:20230825T200000
DTSTAMP:20260425T150055
CREATED:20230817T052148Z
LAST-MODIFIED:20230817T052148Z
UID:372939-1692622800-1692993600@afrikalinks.nl
SUMMARY:AFRICA GO
DESCRIPTION:Ladies\, gentlemen\, strange aliens and all the inbetween.\nWe wanna welcome you to our new exposition called AFRICA GO. \nIt’s a celebration of African culture through its arts\, people expression and creation.\nJoin us for a week of connecting with artists who want to share their love for  MAMA AFRICA.  \nCome and discover how they translate their stories from abound.\nIn to artwork that speak for itself.\nWe want to invite you into our home and hearts\,  \nWelcome to AFRICAN GO. \nA HUNT FOR ALL THE THINGS THAT REMINDS US OF HOME.
URL:https://afrikalinks.nl/evenementen/africa-go/
LOCATION:Lange koepoortstraat 16 2000 Antwerpen
CATEGORIES:Kunst & cultuur
ATTACH;FMTTYPE=image/jpeg:https://afrikalinks.nl/wp-content/uploads/2023/08/372939_image_367444472_703438538466164_3686162403020694159_n.jpg
END:VEVENT
BEGIN:VEVENT
DTSTART;TZID=Europe/Amsterdam:20230830T140000
DTEND;TZID=Europe/Amsterdam:20230831T210000
DTSTAMP:20260425T150055
CREATED:20221109T200607Z
LAST-MODIFIED:20221109T200607Z
UID:371609-1693404000-1693515600@afrikalinks.nl
SUMMARY:AFRICA FASHION WEEK AMSTERDAM 2023
DESCRIPTION:Amsterdam is the Netherlands’ capital\, known for its artistic heritage\, elaborate canal system and narrow houses with gabled facades\, legacies of the city’s 17th-century Golden Age.  \nIts Museum District houses the Van Gogh Museum\, works by Rembrandt and Vermeer at the Rijksmuseum\, and modern art at the Stedelijk\, a perfect artistic atmosphere to combine with fashion. This is why we bring to you the Africa Fashion Week in the City Of Amsterdam. \nCycling is key to the city’s character\, one to be inspired about and there are numerous bike paths. \nAfrica Fashion Week Amsterdam Is a platform to be Inspired\, Connect and Grow! \n*The Industry Effect \nAs we have experienced and seen a shift and not just in fashion but retail\, the shopping experience and commerce overall\, we aim to put systems in place to help our business and participants stay ahead of the changes in the customer reach process. We aim to develop a more engaging and social experiences to encourage consumers to connect. At the same time\, we anticipate an increasing focus on ensuring that digital channels add measurable value to the bottom line for productivity and efficiency. \n*Community Impact \nBy living up to our Mission statement and Goal\, we impact the lives of our participants in a way that brings about growth and development to them and their businesses. Whether a Designer\, a Model\, a Stylist or in Production\, our goal is to help develop and cultivate talents to grow and expand businesses and develop community leaders. We have not done our job until we have positively impacted the lives of others.
URL:https://afrikalinks.nl/evenementen/africa-fashion-week-amsterdam-2023/
LOCATION:Isolatorweg 29\, 1014 AS Amsterdam\, Nederland
CATEGORIES:Kunst & cultuur
ATTACH;FMTTYPE=image/jpeg:https://afrikalinks.nl/wp-content/uploads/2022/11/371609_image_314613142_5566546783425212_6990287504253440404_n.jpg
END:VEVENT
END:VCALENDAR