BEGIN:VCALENDAR
VERSION:2.0
PRODID:-//Afrikalinks - ECPv6.15.20//NONSGML v1.0//EN
CALSCALE:GREGORIAN
METHOD:PUBLISH
X-WR-CALNAME:Afrikalinks
X-ORIGINAL-URL:https://afrikalinks.nl
X-WR-CALDESC:Evenementen voor Afrikalinks
REFRESH-INTERVAL;VALUE=DURATION:PT1H
X-Robots-Tag:noindex
X-PUBLISHED-TTL:PT1H
BEGIN:VTIMEZONE
TZID:Europe/Amsterdam
BEGIN:DAYLIGHT
TZOFFSETFROM:+0100
TZOFFSETTO:+0200
TZNAME:CEST
DTSTART:20190331T010000
END:DAYLIGHT
BEGIN:STANDARD
TZOFFSETFROM:+0200
TZOFFSETTO:+0100
TZNAME:CET
DTSTART:20191027T010000
END:STANDARD
BEGIN:DAYLIGHT
TZOFFSETFROM:+0100
TZOFFSETTO:+0200
TZNAME:CEST
DTSTART:20200329T010000
END:DAYLIGHT
BEGIN:STANDARD
TZOFFSETFROM:+0200
TZOFFSETTO:+0100
TZNAME:CET
DTSTART:20201025T010000
END:STANDARD
BEGIN:DAYLIGHT
TZOFFSETFROM:+0100
TZOFFSETTO:+0200
TZNAME:CEST
DTSTART:20210328T010000
END:DAYLIGHT
BEGIN:STANDARD
TZOFFSETFROM:+0200
TZOFFSETTO:+0100
TZNAME:CET
DTSTART:20211031T010000
END:STANDARD
END:VTIMEZONE
BEGIN:VEVENT
DTSTART;TZID=Europe/Amsterdam:20200215T210000
DTEND;TZID=Europe/Amsterdam:20200215T225400
DTSTAMP:20260419T234039
CREATED:20200207T102405Z
LAST-MODIFIED:20200207T102405Z
UID:3053-1581800400-1581807240@afrikalinks.nl
SUMMARY:Fespaco50: Lumumba - Raoul Peck
DESCRIPTION:en ”Lumumba” brings on new characters and revelations at a whirlwind pace; it’s like the onrush of a tropical storm. It’s fascinating\, too\, to watch a filmmaker work out his own complicated feelings about his subject\, in this case a hero who was not a particularly likable human being. Mr. Peck\, who wrote the screenplay with Pascal Bonitzer\, understands the quicksilver mind of Lumumba.  The New York Times \nnl “De documentaire geldt als een belangrijke introductie voor mensen die nooit van Lumumba hebben gehoord. Een panafrikaanse onafhankelijkheidstrijder die als nationale held in Congo wordt vereerd. Hij leidde het land naar onafhankelijkheid en won de eerste vrije verkiezingen in 1960 en werd premier”  – de Volkskrant\n“Mijn film gaat niet alleen over de moord op Patrice Lumumba. Het is een exemplarisch drama\, want het geval Lumumba staat symbool voor de typische crisissituatie in arme landen: de moord op een nationalistische leider\, destabilisering\, inmenging\, de ontplooiing van buitenlandse troepen. Het is de geschiedenis van de derde wereld” – Raoul Peck in De Standaard \nfr “J’ai passé mon enfance\, explique-t-il\, à voir des films où lorsque intervenait un personnage noir\, je rentrais déjà la tête dans les épaules à l’idée du rôle qu’on allait lui faire jouer. Faire ce genre de cinéma ne m’intéresse pas. Je voulais faire un film où les personnages noirs soient tels qu’en eux-mêmes et puissent offrir à tous les Africains une image qui corresponde à leur sensibilité” (Raoul Peck) – cinergie  \nST-OND: fr-nl  \nCLASSICS & ANTHOLOGIES\nFESPACO PANAFRICAN  FESTIVAL  50\n05.12 > 29.02\nhttp://bit.ly/fespaco50 \nTickets: €4 /€2
URL:https://afrikalinks.nl/evenementen/fespaco50-lumumba-raoul-peck/
LOCATION:CINEMATEK\, 9 Baron Horta\, Brussels\, 1000\, BE
CATEGORIES:Films
ATTACH;FMTTYPE=image/jpeg:https://afrikalinks.nl/wp-content/uploads/2020/02/3053_image_82495074_10156994006875197_8230833222489997312_o.jpg
END:VEVENT
BEGIN:VEVENT
DTSTART;TZID=Europe/Amsterdam:20200215T140000
DTEND;TZID=Europe/Amsterdam:20200215T173000
DTSTAMP:20260419T234039
CREATED:20200207T125141Z
LAST-MODIFIED:20200207T125141Z
UID:3780-1581775200-1581787800@afrikalinks.nl
SUMMARY:Ticket Naar Afrika
DESCRIPTION:Een gezellige middag in de bioscoop\, waarmee we het goede doel Edukans steunen! Jullie zijn welkom tussen 14:00-17:30. \nOverzicht van het programma gedurende deze dag: \n– 14:00 Ontvangst in Theater De Kamers\, foto-expositie\, verhalen van vrijwilligers en het kijken van de film (welke is nog even een verrassing!); \n– 17:30 Einde evenement.
URL:https://afrikalinks.nl/evenementen/ticket-naar-afrika/
LOCATION:Theater De Kamers\, Wezeperberg 1\, Amersfoort\, 3825 DJ\, NL
CATEGORIES:Films
ATTACH;FMTTYPE=image/jpeg:https://afrikalinks.nl/wp-content/uploads/2020/02/3780_image_83381178_161957398558686_9207877886499880960_n.jpg
END:VEVENT
BEGIN:VEVENT
DTSTART;TZID=Europe/Amsterdam:20200212T190000
DTEND;TZID=Europe/Amsterdam:20200212T202900
DTSTAMP:20260419T234039
CREATED:20200207T102359Z
LAST-MODIFIED:20200207T102359Z
UID:3043-1581534000-1581539340@afrikalinks.nl
SUMMARY:Djibril Diop Mambéty - Le Franc + La Petite Vendeuse de soleil
DESCRIPTION:fr “Décédé l’an dernier\, Mambéty laisse deux moyens métrages chargés d’humour\, de poésie et d’humanité. Ces deux moyens métrages de 45 minutes constituent les deux premiers volets d’une trilogie que Djibril Diop Mambéty avait intitulée histoires de petites gens. Décédé en juillet 98\, le réalisateur sénégalais laissera donc son projet amputé. C’est à ces petites gens\, aux miséreux des rues\, que Mambéty a voulu redonner une histoire. Le Franc puise dans le comique du cinéma muet américain. Et avec La Petite vendeuse de soleil\, Mambety rend hommage au courage et à la ténacité des enfants des rues.” – Sophie Bonnet \nen “Hope lay\, in Mambety’s words\, with the “little people.” His last two shorts\, Le Franc (1994) and La Petite Vendeuse de Soleil (1999)\, centered on young dreamers in Dakar who find their gambles improbably rewarded: a broke\, gangly boy who hides what turns out to be a winning lottery ticket in his room behind a poster of Yaadikone\, and a young girl who walks on crutches and makes her way selling newspapers. News swirls around them—the French government’s shattering decision to halve the value of the African Franc\, for instance—but it hardly seems to touch them as they careen through the city\, he with guileless perplexity and she with a kind of savvy resolve. Finding these characters who managed to widen their slivers of freedom pushed Mambety back to something like the loose\, heterodox visual style he’d perfected in Touki-Bouki. Close-ups of faces in ecstasy or horror\, superimpositions\, dream scenes\, and jump-cuts settle\, in these films\, into glittering and seductively self-possessed patterns.” – Max Nelson  \nnl “In Le Franc\, het eerste deel van een nooit vervolledigde trilogie\, maken we kennis met de gigantsiche armoede in Senegal en de symbolische betekenis van deze gelijkenis is het bijna ondragelijke juk van het IMF\, waaronder het land zucht en de op hande zijnde devaluatie van de de frank in Franstalig Afrika\, waardoor het land bijna niets meer kan invoeren. ‘Le franc’\, beste kortfilm op FESPACO 1995\, is juist zo aardig door de combinatie van het Senegalese decor en Europees absurdisme. Het vervolg dat vier jaar later kwam is getiteld La Petite Vendeuse De Soleil. Een meisje van twaalf\, maakt op krukken haar lange en inspannende tocht door de straten van Dakar waarbij ze kranten verkoopt. Dit vervolg op Le Franc is een Luis Buñuelachtige film geworden\, die doet denken aan diens Los Olvidados. Het kwam nooit tot de bedoelde trilogie omdat Mambéty op 53-jarige leeftijd op 23 juli 1998 in Parijs overleed.” – VPRO \nLe Franc: ST – OND: FR – NL\nLa Petite Vendeuse de soleil: ST – OND: FR \nFESPACO PANAFRICAN  FESTIVAL 50\n05.12 > 29.02\nhttp://bit.ly/fespaco50 \nTickets: €4 / €2
URL:https://afrikalinks.nl/evenementen/djibril-diop-mambety-le-franc-la-petite-vendeuse-de-soleil/
LOCATION:CINEMATEK\, 9 Baron Horta\, Brussels\, 1000\, BE
CATEGORIES:Films
ATTACH;FMTTYPE=image/jpeg:https://afrikalinks.nl/wp-content/uploads/2020/02/3043_image_83875478_10157035383530197_628952867637559296_n.jpg
END:VEVENT
BEGIN:VEVENT
DTSTART;TZID=Europe/Amsterdam:20200211T193000
DTEND;TZID=Europe/Amsterdam:20200211T210000
DTSTAMP:20260419T234039
CREATED:20200211T085229Z
LAST-MODIFIED:20200211T085229Z
UID:3957-1581449400-1581454800@afrikalinks.nl
SUMMARY:DocAfrika: Totems et Tabous
DESCRIPTION:TOTEMS ET TABOUS\nDaniel Cattier\, 2018\, België\,  67 min. \nGesproken: Nederlands\, Frans. Ondertiteld: Nederlands. \nIn december 2018 opende het AfricaMuseum in Tervuren\, officieel het Koninklijk Museum voor Midden-Afrika\, opnieuw zijn deuren voor het grote publiek\, na een renovatie van ruim vijf jaar. Wat sinds 1898 een pronkstuk was van koning Leopold II\, die een genocide liet aanrichten in Congo\, belooft een plek te worden waar dat bloederige koloniale verleden met een kritische blik wordt bekeken. Kenners uit binnen-en buitenland nemen alvast een afwachtende houding aan tegenover die delicate evenwichtsoefening. Deze docu van Daniel Cattier neemt de controversiële erfenis van het museum onder de loep en toont hoe andere Europese musea deze uitdaging hebben aangepakt.  \nWil je zeker zijn van een plaats\, koop je ticket online: https://www.cinemazed.be/
URL:https://afrikalinks.nl/evenementen/docafrika-totems-et-tabous/
LOCATION:Cinema ZED\, Andreas Vesaliusstraat 9C\, Leuven\, 3000\, BE
CATEGORIES:Films
ATTACH;FMTTYPE=image/jpeg:https://afrikalinks.nl/wp-content/uploads/2020/02/3957_image_81800772_1844300419204669_495080528022601728_n.jpg
END:VEVENT
BEGIN:VEVENT
DTSTART;TZID=Europe/Amsterdam:20200207T210000
DTEND;TZID=Europe/Amsterdam:20200207T230000
DTSTAMP:20260419T234039
CREATED:20200207T164537Z
LAST-MODIFIED:20200207T164537Z
UID:3812-1581109200-1581116400@afrikalinks.nl
SUMMARY:Afrolijk Première: Atlantique
DESCRIPTION:Vrijdag 7 februari om 21:00 uur host Afrolijk in Rialto een speciale voorpremière van de veelgeprezen Senegalese film Atlantique (2019)\, met de Gambiaans-Nederlandse coproductie Gifts from Babylon (2018) als voorfilm. Beide films gaan over de ‘backway’\, de ‘illegale’ en gevaarlijke oversteek over water die veel West-Afrikaanse vluchtelingen wagen op zoek naar een beter leven. De films worden ingeleid door Christopher Tijan Smith\, de hoofdrolspeler van Gifts from Babylon die inmiddels zelf een illegale migrant is geworden en momenteel in een AZC in Assen verblijft.    \n☀ \nAfrolijk Première: Atlantique\nDatum: Vrijdag 7 februari\nTijd: 21:00 uur\nVenue: Rialto (Ceintuurbaan 338\, Amsterdam)\nTitel: Atlantique\nRegisseur: Mati Diop\nLand: Senegal/Frankrijk/België\nJaar: 2019\nLengte: 104 min\nTaal: Wolof gesproken\, Engels ondertiteld\nVoorfilm: Gifts from Babylon (2019\, 24 min\, Gambia/Nederland\, Wolof en Engels gesproken\, Engels ondertiteld)\nTickets: https://rialtofilm.nl/en/films/432/afrolijk-premiere-atlantique \n☀ \nAtlantique is de debuutfilm van de Senegalese filmmaakster Mati Diop. Het werd de eerste film van een zwarte\, vrouwelijke filmmaker die is geselecteerd voor de hoofdcompetitie van Cannes\, waar de film in première ging en ook nog eens de Grand Prix in de wacht sleepte. \nAchter de sluier van verliefdheid gaat een sombere toekomst schuil voor de jonge Ada en Souleiman. Hun liefde lijkt zonder zorgen\, maar niets is minder waar. Souleiman heeft al maanden geen loon ontvangen en besluit met een groep bouwvakkers het land te verlaten op zoek naar een betere toekomst. De oceaan scheidt hem van zijn Ada. Ada\, die niets liever wil dan met Souleiman samenzijn\, staat op het punt te trouwen met een man van wie ze niet houdt. Tijdens het huwelijksfeest breekt een verwoestende brand uit. Ook worden een aantal meisjes bevangen door een mysterieuze koorts… Wat heeft dit alles met elkaar te maken? Issa\, een jonge politieman\, gaat op onderzoek uit. \nAtlantique gaat vanaf 13 februari in de bioscoop draaien. \n☀ \nGifts from Babylon is een korte film die de psychologische impact van illegale Afrika-EU-migratie\, verteld door de ogen van een gedeporteerde Gambiaanse terugkeermigrant. De film laat de persoonlijke conflicten zien die zich voordoen wanneer Amadou\, een jonge Gambiaan\, terugkeert naar zijn geboorteland na vijf jaar illegaal in Europa te hebben gewoond. Terwijl hij lijdt aan intense flashbacks van zijn traumatische migrantenreis\, vraagt hij zich af wat er van hem geworden is… \n☀ \nAfrolijk is een filmavond voor de Afrikaanse diaspora\, Afro-Caribische gemeenschap en Afro-minded community in Nederland. Elke editie staat een film uit Afrika of Afrikaanse diaspora centraal. Afro staat hier uiteraard voor Afrika en de Afrikaanse diaspora\, maar ook voor diversity\, creativity en community\, en dat allemaal urban en funky\, en zowel up-beat als laid-back. Welcome to Afro joy\, passion and creativity\, welkom op Afrolijk!
URL:https://afrikalinks.nl/evenementen/afrolijk-premiere-atlantique/
LOCATION:Rialto\, Ceintuurbaan 338\, Amsterdam\, 1072 GN\, NL
CATEGORIES:Films
ATTACH;FMTTYPE=image/jpeg:https://afrikalinks.nl/wp-content/uploads/2020/02/3812_image_82079635_10158481131420769_4204814540887556096_o.jpg
END:VEVENT
END:VCALENDAR