BEGIN:VCALENDAR
VERSION:2.0
PRODID:-//Afrikalinks - ECPv6.15.20//NONSGML v1.0//EN
CALSCALE:GREGORIAN
METHOD:PUBLISH
X-WR-CALNAME:Afrikalinks
X-ORIGINAL-URL:https://afrikalinks.nl
X-WR-CALDESC:Evenementen voor Afrikalinks
REFRESH-INTERVAL;VALUE=DURATION:PT1H
X-Robots-Tag:noindex
X-PUBLISHED-TTL:PT1H
BEGIN:VTIMEZONE
TZID:Europe/Amsterdam
BEGIN:DAYLIGHT
TZOFFSETFROM:+0100
TZOFFSETTO:+0200
TZNAME:CEST
DTSTART:20250330T010000
END:DAYLIGHT
BEGIN:STANDARD
TZOFFSETFROM:+0200
TZOFFSETTO:+0100
TZNAME:CET
DTSTART:20251026T010000
END:STANDARD
BEGIN:DAYLIGHT
TZOFFSETFROM:+0100
TZOFFSETTO:+0200
TZNAME:CEST
DTSTART:20260329T010000
END:DAYLIGHT
BEGIN:STANDARD
TZOFFSETFROM:+0200
TZOFFSETTO:+0100
TZNAME:CET
DTSTART:20261025T010000
END:STANDARD
BEGIN:DAYLIGHT
TZOFFSETFROM:+0100
TZOFFSETTO:+0200
TZNAME:CEST
DTSTART:20270328T010000
END:DAYLIGHT
BEGIN:STANDARD
TZOFFSETFROM:+0200
TZOFFSETTO:+0100
TZNAME:CET
DTSTART:20271031T010000
END:STANDARD
END:VTIMEZONE
BEGIN:VEVENT
DTSTART;TZID=Europe/Amsterdam:20260429T193000
DTEND;TZID=Europe/Amsterdam:20260429T220000
DTSTAMP:20260419T172815
CREATED:20260414T181327Z
LAST-MODIFIED:20260414T181327Z
UID:382339-1777491000-1777500000@afrikalinks.nl
SUMMARY:Afrika Filmfestival Halle 2026
DESCRIPTION:FilmFestival Halle 2026 \nPrijs film: 5 euro\nVoorverkoop: www.vondel.be \nHapjes en drankjes: gratis \n—————————————————————— \nPlanning: \nReceptie & Tentoonstelling – 19.30u \n– Met Afrikaanse drankjes en hapjes\n– Tentoonstelling van schilderijen van Halse artiesten \nFilmvertoning Félicité – 20.30u \nFélicité\, een vrijgevochten fiere vrouw\, is zangeres in een bar in Kinshasa. Haar leven wordt volledig overhoop gehaald wanneer haar 14-jarige zoon het slachtoffer wordt van een motorongeval. Om hem te redden\, gaat ze koortsachtig op zoek naar een oplossing in de zinderende straten van Kinshasa\, een bruisende stad vol muziek en dromen. Op haar pad komt ze Tabu tegen…
URL:https://afrikalinks.nl/evenementen/afrika-filmfestival-halle-2026/
LOCATION:CC ’t Vondel\, CC 't Vondel
CATEGORIES:Festivals,Films
ATTACH;FMTTYPE=image/jpeg:https://afrikalinks.nl/wp-content/uploads/2026/04/Afrika-FilmFestival-Halle-2026.jpg
END:VEVENT
END:VCALENDAR