BEGIN:VCALENDAR
VERSION:2.0
PRODID:-//Afrikalinks - ECPv6.15.20//NONSGML v1.0//EN
CALSCALE:GREGORIAN
METHOD:PUBLISH
X-WR-CALNAME:Afrikalinks
X-ORIGINAL-URL:https://afrikalinks.nl
X-WR-CALDESC:Evenementen voor Afrikalinks
REFRESH-INTERVAL;VALUE=DURATION:PT1H
X-Robots-Tag:noindex
X-PUBLISHED-TTL:PT1H
BEGIN:VTIMEZONE
TZID:Europe/Amsterdam
BEGIN:DAYLIGHT
TZOFFSETFROM:+0100
TZOFFSETTO:+0200
TZNAME:CEST
DTSTART:20250330T010000
END:DAYLIGHT
BEGIN:STANDARD
TZOFFSETFROM:+0200
TZOFFSETTO:+0100
TZNAME:CET
DTSTART:20251026T010000
END:STANDARD
BEGIN:DAYLIGHT
TZOFFSETFROM:+0100
TZOFFSETTO:+0200
TZNAME:CEST
DTSTART:20260329T010000
END:DAYLIGHT
BEGIN:STANDARD
TZOFFSETFROM:+0200
TZOFFSETTO:+0100
TZNAME:CET
DTSTART:20261025T010000
END:STANDARD
BEGIN:DAYLIGHT
TZOFFSETFROM:+0100
TZOFFSETTO:+0200
TZNAME:CEST
DTSTART:20270328T010000
END:DAYLIGHT
BEGIN:STANDARD
TZOFFSETFROM:+0200
TZOFFSETTO:+0100
TZNAME:CET
DTSTART:20271031T010000
END:STANDARD
END:VTIMEZONE
BEGIN:VEVENT
DTSTART;TZID=Europe/Amsterdam:20260324T200000
DTEND;TZID=Europe/Amsterdam:20260328T234500
DTSTAMP:20260419T221457
CREATED:20260325T164917Z
LAST-MODIFIED:20260325T164917Z
UID:382218-1774382400-1774741500@afrikalinks.nl
SUMMARY:Afrika Filmfestival Gent 2026
DESCRIPTION:Afrika Filmfestival Gent is in 2026 aan zijn 10de editie toe. We zullen er dan ook iets bijzonders van maken: niet alleen gaan we naar vijf dagen film\, debat en concert\, maar we voorzien ook ruimte voor onze partners\, koppelen er een tentoonstelling en Afrikaanse maaltijden aan in ENTR\, en zorgen voor een extra feestelijke sfeer – noteer de data en allen daarheen in maart 2026!
URL:https://afrikalinks.nl/evenementen/afrika-filmfestival-gent-2026/
LOCATION:De Centrale\, Ham 70\, 9000 Gent\, De Centrale\, Ham 70\, 9000 Gent
CATEGORIES:Festivals,Films
ATTACH;FMTTYPE=image/jpeg:https://afrikalinks.nl/wp-content/uploads/2026/03/Afrika-Filmfestival-Gent.jpg
END:VEVENT
END:VCALENDAR