BEGIN:VCALENDAR
VERSION:2.0
PRODID:-//Afrikalinks - ECPv6.15.20//NONSGML v1.0//EN
CALSCALE:GREGORIAN
METHOD:PUBLISH
X-WR-CALNAME:Afrikalinks
X-ORIGINAL-URL:https://afrikalinks.nl
X-WR-CALDESC:Evenementen voor Afrikalinks
REFRESH-INTERVAL;VALUE=DURATION:PT1H
X-Robots-Tag:noindex
X-PUBLISHED-TTL:PT1H
BEGIN:VTIMEZONE
TZID:Europe/Amsterdam
BEGIN:DAYLIGHT
TZOFFSETFROM:+0100
TZOFFSETTO:+0200
TZNAME:CEST
DTSTART:20240331T010000
END:DAYLIGHT
BEGIN:STANDARD
TZOFFSETFROM:+0200
TZOFFSETTO:+0100
TZNAME:CET
DTSTART:20241027T010000
END:STANDARD
BEGIN:DAYLIGHT
TZOFFSETFROM:+0100
TZOFFSETTO:+0200
TZNAME:CEST
DTSTART:20250330T010000
END:DAYLIGHT
BEGIN:STANDARD
TZOFFSETFROM:+0200
TZOFFSETTO:+0100
TZNAME:CET
DTSTART:20251026T010000
END:STANDARD
BEGIN:DAYLIGHT
TZOFFSETFROM:+0100
TZOFFSETTO:+0200
TZNAME:CEST
DTSTART:20260329T010000
END:DAYLIGHT
BEGIN:STANDARD
TZOFFSETFROM:+0200
TZOFFSETTO:+0100
TZNAME:CET
DTSTART:20261025T010000
END:STANDARD
END:VTIMEZONE
BEGIN:VEVENT
DTSTART;TZID=Europe/Amsterdam:20250702T190000
DTEND;TZID=Europe/Amsterdam:20250702T220000
DTSTAMP:20260420T090741
CREATED:20250606T161141Z
LAST-MODIFIED:20250606T161141Z
UID:375234-1751482800-1751493600@afrikalinks.nl
SUMMARY:Lumumba at 100: Lumumba: The Return of a Hero
DESCRIPTION:In commemoration of the 𝟭𝟬𝟬𝘁𝗵 𝗯𝗶𝗿𝘁𝗵 𝗮𝗻𝗻𝗶𝘃𝗲𝗿𝘀𝗮𝗿𝘆 of 𝗟𝘂𝗺𝘂𝗺𝗯𝗮\n(July 2)\, 𝗔𝗳𝗿𝗶𝗰𝗮𝗱𝗲𝗹𝗶𝗰\norganizes another 𝘀𝗽𝗲𝗰𝗶𝗮𝗹 𝘀𝗰𝗿𝗲𝗲𝗻𝗶𝗻𝗴 of 𝗟𝘂𝗺𝘂𝗺𝗯𝗮: 𝗧𝗵𝗲 𝗥𝗲𝘁𝘂𝗿𝗻 𝗼𝗳 𝗮 𝗛𝗲𝗿𝗼 (Lumumba\, le retour d’un héros) on 𝗪𝗲𝗱𝗻𝗲𝘀𝗱𝗮𝘆 𝗝𝘂𝗹𝘆 𝟮 in 𝗥𝗶𝗮𝗹𝘁𝗼 𝗱𝗲 𝗣𝗶𝗷𝗽.\nThis documentary recounts the highly political celebrations of the return of Lumumba’s remains\, but above all seeks to find out what remains of 𝗣𝗮𝘁𝗿𝗶𝗰𝗲 𝗘𝗺𝗲𝗿𝘆 𝗟𝘂𝗺𝘂𝗺𝗯𝗮\, in the Congo and in Belgium. So far\, his murder and those of 𝗝𝗼𝘀𝗲𝗽𝗵 𝗢𝗸𝗶𝘁𝗼 and 𝗠𝗮𝘂𝗿𝗶𝗰𝗲 𝗠𝗽𝗼𝗹𝗼 remain unpunished. 🇨🇩 🇧🇪 \n[𝘚𝘤𝘳𝘰𝘭𝘭 𝘯𝘢𝘢𝘳 𝘣𝘦𝘯𝘦𝘥𝘦𝘯 𝘷𝘰𝘰𝘳 𝘥𝘦 𝘕𝘦𝘥𝘦𝘳𝘭𝘢𝘯𝘥𝘴𝘦 𝘷𝘦𝘳𝘴𝘪𝘦] \n𝗟𝘂𝗺𝘂𝗺𝗯𝗮: 𝗧𝗵𝗲 𝗥𝗲𝘁𝘂𝗿𝗻 𝗼𝗳 𝗮 𝗛𝗲𝗿𝗼 (𝘀𝗽𝗲𝗰𝗶𝗮𝗹 𝟭𝟬𝟬𝘁𝗵 𝗯𝗶𝗿𝘁𝗵 𝗮𝗻𝗻𝗶𝘃𝗲𝗿𝘀𝗮𝗿𝘆 𝘀𝗰𝗿𝗲𝗲𝗻𝗶𝗻𝗴)\nDate: Wednesday\, July 2\, 2025\nTime: 19:00 hrs\nVenue: Rialto de Pijp\nTitle: 𝗟𝘂𝗺𝘂𝗺𝗯𝗮: 𝗧𝗵𝗲 𝗥𝗲𝘁𝘂𝗿𝗻 𝗼𝗳 𝗮 𝗛𝗲𝗿𝗼 (Lumumba\, le retour d’un héros)\nDirector: Quentin Noirfalisse\, Benoît Feyt and Dieudo Hamadi\nCountry: Congo 🇨🇩 and Belgium 🇧🇪\nYear: 2023\nLength: 86′\nLanguage: French and Dutch\nSubtitles: English\nExtra: The short film 𝗧𝗵𝗲 𝗞𝗶𝗯𝗼𝗺𝗮𝗻𝗴𝗼 𝗦𝘁𝗼𝗿𝘆 (dir. Savva Svet\, 2022\, 4′)\nTickets: https://bit.ly/africadelic-lumumba-100 (soon available) \n𝗔𝗯𝗼𝘂𝘁 𝗟𝘂𝗺𝘂𝗺𝗯𝗮: 𝗧𝗵𝗲 𝗥𝗲𝘁𝘂𝗿𝗻 𝗼𝗳 𝗮 𝗛𝗲𝗿𝗼\n61 years after his assassination\, Patrice Lumumba returns to the Democratic Republic of Congo. Or\, as one of his children says\, ‘the Congo returns to the Congo’. Lumumba was assassinated with two of his closest collaborators\, in the middle of the Cold War and during the wave of African independence. Only one tooth appears to have survived the passage of their bodies in acid\, an act committed by a Belgian police officer. This film recounts the highly political celebrations of the return of Lumumba’s remains\, but above all seeks to find out what remains of Patrice Lumumba\, in the Congo and in Belgium. So far\, his murder and those of Okito and Mpolo remain unpunished. \n𝗔𝗯𝗼𝘂𝘁 𝗧𝗵𝗲 𝗞𝗶𝗯𝗼𝗺𝗮𝗻𝗴𝗼 𝗦𝘁𝗼𝗿𝘆\n𝗧𝗵𝗲 𝗞𝗶𝗯𝗼𝗺𝗮𝗻𝗴𝗼 𝗦𝘁𝗼𝗿𝘆 tells the incredible story of Kibomango (1977)\, a former child soldier turned Congolese national boxing champion. Now a struggling mechanic\, he has devoted himself to helping former child soldiers and street children of Goma through boxing. Kibomango aims to instill in them a sense of discipline\, ambition and self-worth. \n𝗔𝗯𝗼𝘂𝘁 𝗔𝗳𝗿𝗶𝗰𝗮𝗱𝗲𝗹𝗶𝗰\n𝗔𝗳𝗿𝗶𝗰𝗮𝗱𝗲𝗹𝗶𝗰 is a platform that is committed to the programming and promotion of African and African diasporic cultural creativity\, diversity and activism in the Netherlands. The annual Africadelic Festival is an ode to the African continent and its worldwide diaspora\, and offers a showcase of the cultural wealth and profound influence Afrodescendants have on global culture and society. Scheduled from May 21-31\, 2025\, this year’s festival offers another week filled with concerts\, films\, and talks. At the same time\, we are organizing one-off events throughout the year\, including this special screening of 𝗟𝘂𝗺𝘂𝗺𝗯𝗮: 𝗧𝗵𝗲 𝗥𝗲𝘁𝘂𝗿𝗻 𝗼𝗳 𝗮 𝗛𝗲𝗿𝗼 in 𝗥𝗶𝗮𝗹𝘁𝗼 𝗱𝗲 𝗣𝗶𝗷𝗽. \n[𝘕𝘦𝘥𝘦𝘳𝘭𝘢𝘯𝘥𝘴] \nTer herdenking van 𝟭𝟬𝟬𝘁𝗵 𝗯𝗶𝗿𝘁𝗵 𝗮𝗻𝗻𝗶𝘃𝗲𝗿𝘀𝗮𝗿𝘆 of 𝗟𝘂𝗺𝘂𝗺𝗯𝗮 (2 juli) organiseert 𝗔𝗳𝗿𝗶𝗰𝗮𝗱𝗲𝗹𝗶𝗰 nog een 𝘀𝗽𝗲𝗰𝗶𝗮𝗹𝗲 𝘀𝗰𝗿𝗲𝗲𝗻𝗶𝗻𝗴 van 𝗟𝘂𝗺𝘂𝗺𝗯𝗮: 𝗧𝗵𝗲 𝗥𝗲𝘁𝘂𝗿𝗻 𝗼𝗳 𝗮 𝗛𝗲𝗿𝗼 (Lumumba\, le retour d’un héros) op 𝘄𝗼𝗲𝗻𝘀𝗱𝗮𝗴 𝟮 𝗷𝘂𝗹𝗶 in 𝗥𝗶𝗮𝗹𝘁𝗼 𝗱𝗲 𝗣𝗶𝗷𝗽. Deze documentaire vertelt over de politiek geladen viering van de terugkeer van Lumumba’s stoffelijke resten\, maar probeert vooral te achterhalen wat er overblijft van 𝗣𝗮𝘁𝗿𝗶𝗰𝗲 𝗘𝗺𝗲𝗿𝘆 𝗟𝘂𝗺𝘂𝗺𝗯𝗮\, in Congo en in België. Tot nu toe zijn zijn moord en die van 𝗝𝗼𝘀𝗲𝗽𝗵 𝗢𝗸𝗶𝘁𝗼 en 𝗠𝗮𝘂𝗿𝗶𝗰𝗲 𝗠𝗽𝗼𝗹𝗼 onbestraft gebleven. 🇨🇩 🇧🇪 \n𝗟𝘂𝗺𝘂𝗺𝗯𝗮: 𝗧𝗵𝗲 𝗥𝗲𝘁𝘂𝗿𝗻 𝗼𝗳 𝗮 𝗛𝗲𝗿𝗼 (𝘀𝗽𝗲𝗰𝗶𝗮𝗹 𝟭𝟬𝟬𝘁𝗵 𝗯𝗶𝗿𝘁𝗵 𝗮𝗻𝗻𝗶𝘃𝗲𝗿𝘀𝗮𝗿𝘆)\nDatum: woensdag 2 juli 2025\nTijd: 19:00 uur\nLocatie: Rialto de Pijp\nTitel: 𝗟𝘂𝗺𝘂𝗺𝗯𝗮: 𝗧𝗵𝗲 𝗥𝗲𝘁𝘂𝗿𝗻 𝗼𝗳 𝗮 𝗛𝗲𝗿𝗼 (Lumumba\, le retour d’un héros)\nRegie: Quentin Noirfalisse\, Benoît Feyt en Dieudo Hamadi\nLand: Congo 🇨🇩 en België 🇧🇪\nJaar: 2023\nLengte: 86′\nTaal: Frans en Nederlands\nOndertiteling: Engels\nExtra: De korte film 𝗧𝗵𝗲 𝗞𝗶𝗯𝗼𝗺𝗮𝗻𝗴𝗼 𝗦𝘁𝗼𝗿𝘆 (reg. Savva Svet\, 2022\, 4′)\nTickets: https://bit.ly/africadelic-lumumba-100 (binnenkort beschikbaar) \n𝗢𝘃𝗲𝗿 𝗟𝘂𝗺𝘂𝗺𝗯𝗮: 𝗧𝗵𝗲 𝗥𝗲𝘁𝘂𝗿𝗻 𝗼𝗳 𝗮 𝗛𝗲𝗿𝗼\n61 jaar na zijn moord keert Patrice Lumumba terug naar de Democratische Republiek Congo. Of\, zoals één van zijn kinderen het uitdrukte\, Congo keert terug naar Congo. Eerste minister Lumumba werd samen met twee van zijn ministers Okito en Mpolo vermoord\, midden in de Koude Oorlog en tijdens de golf van Afrikaanse onafhankelijkheden. Deze misdaad is tot nu toe onbestraft gebleven. Slechts één tand schijnt de zuurbehandeling van hun lichamen door een Belgische politieagent te hebben overleefd. \n𝗢𝘃𝗲𝗿 𝗧𝗵𝗲 𝗞𝗶𝗯𝗼𝗺𝗮𝗻𝗴𝗼 𝗦𝘁𝗼𝗿𝘆\n𝗧𝗵𝗲 𝗞𝗶𝗯𝗼𝗺𝗮𝗻𝗴𝗼 𝗦𝘁𝗼𝗿𝘆 vertelt het ongelooflijke verhaal van Kibomango (1977)\, een voormalige kindsoldaat die nationaal bokskampioen van Congo werd. Inmiddels is hij een struggelende monteur die zich zich heeft toegelegd op het helpen van voormalige kindsoldaten en straatkinderen in Goma door middel van boksen. Kibomango wil hen een gevoel van discipline\, ambitie en eigenwaarde bijbrengen. \n𝗢𝘃𝗲𝗿 𝗔𝗳𝗿𝗶𝗰𝗮𝗱𝗲𝗹𝗶𝗰\n𝗔𝗳𝗿𝗶𝗰𝗮𝗱𝗲𝗹𝗶𝗰 is een platform dat zich inzet voor de programmering en promotie van Afrikaanse en Afrikaanse diaspora culturele creativiteit\, diversiteit en activisme in Nederland. Het jaarlijkse Africadelic Festival is een ode aan het Afrikaanse continent en zijn wereldwijde diaspora\, en biedt een showcase van de culturele rijkdom en grote invloed die Afrodescendants hebben op de mondiale cultuur en samenleving. Dit jaar vindt het festival plaats van 21-31 mei 2025 en bieden we wederom een week vol concerten\, films en gesprekken. Tegelijkertijd organiseren we gedurende het jaar verschillende eenmalige evenementen\, waaronder deze speciale vertoning van 𝗟𝘂𝗺𝘂𝗺𝗯𝗮: 𝗧𝗵𝗲 𝗥𝗲𝘁𝘂𝗿𝗻 𝗼𝗳 𝗮 𝗛𝗲𝗿𝗼 in 𝗥𝗶𝗮𝗹𝘁𝗼 𝗱𝗲 𝗣𝗶𝗷𝗽.
URL:https://afrikalinks.nl/evenementen/lumumba-at-100-lumumba-the-return-of-a-hero/
LOCATION:Rialto\, Rialto
CATEGORIES:Films
ATTACH;FMTTYPE=image/jpeg:https://afrikalinks.nl/wp-content/uploads/2025/06/𝟭𝟬𝟬𝘁𝗵-𝗯𝗶𝗿𝘁𝗵-𝗮𝗻𝗻𝗶𝘃𝗲𝗿𝘀𝗮𝗿𝘆-of-𝗟𝘂𝗺𝘂𝗺𝗯𝗮.jpg
END:VEVENT
BEGIN:VEVENT
DTSTART;TZID=Europe/Amsterdam:20250705T211500
DTEND;TZID=Europe/Amsterdam:20250705T234500
DTSTAMP:20260420T090741
CREATED:20250606T161300Z
LAST-MODIFIED:20250606T161300Z
UID:375238-1751750100-1751759100@afrikalinks.nl
SUMMARY:Fanon at 100: Fanon (Exclusive Dutch Premiere!)
DESCRIPTION:Join us on 𝗦𝗮𝘁𝘂𝗿𝗱𝗮𝘆\, 𝗝𝘂𝗹𝘆 𝟱\, at 𝟮𝟭.𝟭𝟱 𝗵𝗿𝘀 in 𝗘𝘆𝗲 𝗙𝗶𝗹𝗺𝗺𝘂𝘀𝗲𝘂𝗺 for the 𝗲𝘅𝗰𝗹𝘂𝘀𝗶𝘃𝗲 𝗗𝘂𝘁𝗰𝗵 𝗽𝗿𝗲𝗺𝗶𝗲𝗿𝗲 of the 𝗻𝗲𝘄 𝗯𝗶𝗼𝗽𝗶𝗰 on 𝗙𝗿𝗮𝗻𝘁𝘇 𝗙𝗮𝗻𝗼𝗻\, the renowned anti-colonial psychiatrist\, writer\, and activist\, with the emphasis on Fanon’s 𝗽𝗲𝗿𝗶𝗼𝗱 𝗶𝗻 𝗔𝗹𝗴𝗲𝗿𝗶𝗮 (1953-1956) and his involvement in the country’s 𝗶𝗻𝗱𝗲𝗽𝗲𝗻𝗱𝗲𝗻𝗰𝗲 𝗺𝗼𝘃𝗲𝗺𝗲𝗻𝘁. \nThis 𝗼𝗻𝗲-𝘁𝗶𝗺𝗲 𝘀𝗽𝗲𝗰𝗶𝗮𝗹 𝘀𝗰𝗿𝗲𝗲𝗻𝗶𝗻𝗴 of 𝗙𝗮𝗻𝗼𝗻 is presented by 𝗔𝗳𝗿𝗶𝗰𝗮𝗱𝗲𝗹𝗶𝗰 and 𝗖𝗮𝗿𝗶𝗯𝗯𝗲𝗮𝗻 𝗖𝗿𝗲𝗮𝘁𝗶𝘃𝗶𝘁𝘆\, and hosted in commemoration of both the 𝟭𝟬𝟬𝘁𝗵 𝗮𝗻𝗻𝗶𝘃𝗲𝗿𝘀𝗮𝗿𝘆 𝗼𝗳 𝗙𝗮𝗻𝗼𝗻’𝘀 𝗯𝗶𝗿𝘁𝗵 (𝗝𝘂𝗹𝘆 𝟮𝟬\, 𝟭𝟵𝟮𝟱\, 🇱🇺) and 𝟲𝟯𝗿𝗱 𝗮𝗻𝗻𝗶𝘃𝗲𝗿𝘀𝗮𝗿𝘆 𝗼𝗳 𝗔𝗹𝗴𝗲𝗿𝗶𝗮’𝘀 𝗶𝗻𝗱𝗲𝗽𝗲𝗻𝗱𝗲𝗻𝗰𝗲 (𝗝𝘂𝗹𝘆 𝟱\, 𝟭𝟵𝟲𝟮\, 🇩🇿). \n𝗙𝗮𝗻𝗼𝗻 𝗮𝘁 𝟭𝟬𝟬: 𝗙𝗮𝗻𝗼𝗻 (𝟮𝟬𝟮𝟰\, 𝗲𝘅𝗰𝗹𝘂𝘀𝗶𝘃𝗲 𝗗𝘂𝘁𝗰𝗵 𝗽𝗿𝗲𝗺𝗶𝗲𝗿𝗲)\nDate: Saturday\, July 5\, 2025\nTime: 21:15 hrs\nVenue: Eye Filmmuseum\nAddress: IJpromenade 1\, Amsterdam\nTitle: 𝗙𝗮𝗻𝗼𝗻\nDirector: Jean-Claude Barny\nCountry: Algeria 🇩🇿\, France 🇩🇿\, Luxembourg 🇱🇺\, Canada 🇱🇺\, Belgium 🇱🇺 \nYear: 2024\nLength: 132′\nLanguage: French and Arabic\nSubtitles: English\nExtra: In commemoration of the 𝟭𝟬𝟬𝘁𝗵 𝗮𝗻𝗻𝗶𝘃𝗲𝗿𝘀𝗮𝗿𝘆 𝗼𝗳 𝗙𝗮𝗻𝗼𝗻’𝘀 𝗯𝗶𝗿𝘁𝗵 (𝗝𝘂𝗹𝘆 𝟮𝟬\, 𝟭𝟵𝟮𝟱) and 𝟲𝟯𝗿𝗱 𝗮𝗻𝗻𝗶𝘃𝗲𝗿𝘀𝗮𝗿𝘆 𝗼𝗳 𝗔𝗹𝗴𝗲𝗿𝗶𝗮’𝘀 𝗶𝗻𝗱𝗲𝗽𝗲𝗻𝗱𝗲𝗻𝗰𝗲 (𝗝𝘂𝗹𝘆 𝟱\, 𝟭𝟵𝟲𝟮)\nTickets: https://bit.ly/africadelic-fanon-100 \n𝗔𝗯𝗼𝘂𝘁 𝗙𝗮𝗻𝗼𝗻\nOn 𝗝𝘂𝗹𝘆 𝟱\, 𝟭𝟵𝟲𝟮\, Algeria gained its independence from France. Although Fanon did not live to witness this\, since he died just a few months earlier\, the date remains a powerful symbol of the anti-colonial struggle he advocated throughout his life and writings. \n𝗙𝗮𝗻𝗼𝗻 (2024) is a compelling biographical drama directed by Jean-Claude Barny\, a French director of Guadeloupean and Trinidadian origin\, that focuses on Fanon’s tenure at the Blida psychiatric hospital in Algeria during the 1950s. In 1953\, the Martiniquan psychiatrist became the head of the hospital’s psychiatry department\, where he treated both French soldiers and Algerian victims of torture and introduced innovative\, patient-centered methods of psychiatric care. His progressive approach faced resistance from colleagues and the institution’s director. As the Algerian War of Independence intensified\, Fanon’s commitment to decolonization led him to align with the National Liberation Front (FLN)\, deepening his involvement in the fight against colonial oppression. \nThe film’s narrative intertwines pivotal moments from Fanon’s earlier life in Martinique and France with contemporary scenes in Algeria\, and ends with his untimely death from leukemia in 1961 at the age of 36 and his burial in Algeria\, at a cemetery dedicated to fallen FLN fighters. His final book\, 𝗧𝗵𝗲 𝗪𝗿𝗲𝘁𝗰𝗵𝗲𝗱 𝗼𝗳 𝘁𝗵𝗲 𝗘𝗮𝗿𝘁𝗵\, which he dictated from his hospital bed\, was published shortly before his death and became a powerful manifesto for anti-colonial struggles around the world. Fanon\, who would have become 100 in July 2025\, remains a key intellectual figure in the field of postcolonial studies and current decolonization debates. \n𝗔𝗯𝗼𝘂𝘁 𝘁𝗵𝗲 𝘀𝗶𝗴𝗻𝗶𝗳𝗶𝗰𝗮𝗻𝗰𝗲 𝗼𝗳 𝗝𝘂𝗹𝘆 𝟱\nThis special screening takes place on July 5\, a day of significant importance in the life of Frantz Fanon for two reasons. First\, on July 5\, Fanon became the target of an assassination attempt in Rome\, where he had traveled that day for medical treatment following a car accident. Operatives from La Main Rouge\, a French intelligence death squad\, planted a bomb beneath a car they believed Fanon would use. Later\, an armed agent stormed the hospital\, forcing his way into Fanon’s original room\, not to find him there. Fanon\, aware of the bombing plot\, had asked to be moved to a different floor for his safety (Adam Shatz\, The Rebel’s Clinic: The Revolutionary Lives of Frantz Fanon\, 2024). Second\, July 5 marks the date when Algeria gained its independence from France in 1962\, a moment Fanon had dedicated much of his life’s work toward. Although Fanon did not live to witness Algeria’s independence\, as he passed away from leukemia on December 6\, 1961\, the date remains a powerful symbol of the struggle he championed throughout his life and writings. \n𝗔𝗯𝗼𝘂𝘁 𝗔𝗳𝗿𝗶𝗰𝗮𝗱𝗲𝗹𝗶𝗰\n𝗔𝗳𝗿𝗶𝗰𝗮𝗱𝗲𝗹𝗶𝗰 is a platform that is committed to the programming and promotion of African and African diasporic cultural creativity\, diversity and activism in the Netherlands. The annual Africadelic Festival is an ode to the African continent and its worldwide diaspora\, and offers a showcase of the cultural wealth and profound influence Afrodescendants have on global culture and society. Scheduled from May 21-31\, 2025\, this year’s festival offers another week filled with concerts\, films\, and talks. At the same time\, we are organizing one-off events throughout the year\, including this special screening of 𝗙𝗮𝗻𝗼𝗻. For more information\, visit www.africadelic.com. \n𝗔𝗯𝗼𝘂𝘁 𝗖𝗮𝗿𝗶𝗯𝗯𝗲𝗮𝗻 𝗖𝗿𝗲𝗮𝘁𝗶𝘃𝗶𝘁𝘆\n𝗖𝗮𝗿𝗶𝗯𝗯𝗲𝗮𝗻 𝗖𝗿𝗲𝗮𝘁𝗶𝘃𝗶𝘁𝘆 is an Amsterdam-based non-profit organization that is\, since 2008\, committed to the programming and promotion of Caribbean and Caribbean-themed cinema in the Netherlands and beyond. Over the years\, Caribbean Creativity has hosted over 300 screenings in Dutch cinemas and at film festivals\, including numerous premieres. In 2020\, they launched YardVibes\, a streaming platform featuring content from independent Caribbean and African filmmakers. YardVibes currently offers over 100 titles\, including feature films\, web series\, documentaries\, and short films\, with new content added monthly. For more information\, visit www.caribbeancreativity.nl.
URL:https://afrikalinks.nl/evenementen/fanon-at-100-fanon-exclusive-dutch-premiere/
LOCATION:Eye Filmmuseum\, Eye Filmmuseum
CATEGORIES:Films
ATTACH;FMTTYPE=image/jpeg:https://afrikalinks.nl/wp-content/uploads/2025/06/𝗙𝗮𝗻𝗼𝗻-𝗮𝘁-𝟭𝟬𝟬.jpg
END:VEVENT
END:VCALENDAR