BEGIN:VCALENDAR
VERSION:2.0
PRODID:-//Afrikalinks - ECPv6.15.20//NONSGML v1.0//EN
CALSCALE:GREGORIAN
METHOD:PUBLISH
X-ORIGINAL-URL:https://afrikalinks.nl
X-WR-CALDESC:Evenementen voor Afrikalinks
REFRESH-INTERVAL;VALUE=DURATION:PT1H
X-Robots-Tag:noindex
X-PUBLISHED-TTL:PT1H
BEGIN:VTIMEZONE
TZID:Europe/Amsterdam
BEGIN:DAYLIGHT
TZOFFSETFROM:+0100
TZOFFSETTO:+0200
TZNAME:CEST
DTSTART:20240331T010000
END:DAYLIGHT
BEGIN:STANDARD
TZOFFSETFROM:+0200
TZOFFSETTO:+0100
TZNAME:CET
DTSTART:20241027T010000
END:STANDARD
BEGIN:DAYLIGHT
TZOFFSETFROM:+0100
TZOFFSETTO:+0200
TZNAME:CEST
DTSTART:20250330T010000
END:DAYLIGHT
BEGIN:STANDARD
TZOFFSETFROM:+0200
TZOFFSETTO:+0100
TZNAME:CET
DTSTART:20251026T010000
END:STANDARD
BEGIN:DAYLIGHT
TZOFFSETFROM:+0100
TZOFFSETTO:+0200
TZNAME:CEST
DTSTART:20260329T010000
END:DAYLIGHT
BEGIN:STANDARD
TZOFFSETFROM:+0200
TZOFFSETTO:+0100
TZNAME:CET
DTSTART:20261025T010000
END:STANDARD
END:VTIMEZONE
BEGIN:VEVENT
DTSTART;TZID=Europe/Amsterdam:20250125T201500
DTEND;TZID=Europe/Amsterdam:20250125T231500
DTSTAMP:20260420T173029
CREATED:20250122T074318Z
LAST-MODIFIED:20250122T074318Z
UID:374382-1737836100-1737846900@afrikalinks.nl
SUMMARY:Film Io Capitano @ Filmhuis Klappei
DESCRIPTION:IO CAPITANO \nSeydou is een tienerjongen die samen met zijn neef Moussa besluit Dakar in Senegal te verlaten en op weg te gaan naar Europa. De film vertelt het verhaal van een hedendaagse Odyssee door de gevaren van de woestijn\, de verschrikkingen van de detentiecentra in Libië en de gevaren van de zee. \nInkom: 6€\nTickets online te bestellen via deze link: https://klappei.stager.co/web/tickets/111489319
URL:https://afrikalinks.nl/evenementen/film-io-capitano-filmhuis-klappei/
LOCATION:Filmhuis Klappei\, Filmhuis Klappei
CATEGORIES:Films
ATTACH;FMTTYPE=image/jpeg:https://afrikalinks.nl/wp-content/uploads/2025/01/IO-CAPITANO.jpg
ORGANIZER;CN="Kleur-rijk":MAILTO:noreply@facebookmail.com
END:VEVENT
END:VCALENDAR