BEGIN:VCALENDAR
VERSION:2.0
PRODID:-//Afrikalinks - ECPv6.15.20//NONSGML v1.0//EN
CALSCALE:GREGORIAN
METHOD:PUBLISH
X-WR-CALNAME:Afrikalinks
X-ORIGINAL-URL:https://afrikalinks.nl
X-WR-CALDESC:Evenementen voor Afrikalinks
REFRESH-INTERVAL;VALUE=DURATION:PT1H
X-Robots-Tag:noindex
X-PUBLISHED-TTL:PT1H
BEGIN:VTIMEZONE
TZID:Europe/Amsterdam
BEGIN:DAYLIGHT
TZOFFSETFROM:+0100
TZOFFSETTO:+0200
TZNAME:CEST
DTSTART:20250330T010000
END:DAYLIGHT
BEGIN:STANDARD
TZOFFSETFROM:+0200
TZOFFSETTO:+0100
TZNAME:CET
DTSTART:20251026T010000
END:STANDARD
BEGIN:DAYLIGHT
TZOFFSETFROM:+0100
TZOFFSETTO:+0200
TZNAME:CEST
DTSTART:20260329T010000
END:DAYLIGHT
BEGIN:STANDARD
TZOFFSETFROM:+0200
TZOFFSETTO:+0100
TZNAME:CET
DTSTART:20261025T010000
END:STANDARD
BEGIN:DAYLIGHT
TZOFFSETFROM:+0100
TZOFFSETTO:+0200
TZNAME:CEST
DTSTART:20270328T010000
END:DAYLIGHT
BEGIN:STANDARD
TZOFFSETFROM:+0200
TZOFFSETTO:+0100
TZNAME:CET
DTSTART:20271031T010000
END:STANDARD
END:VTIMEZONE
BEGIN:VEVENT
DTSTART;TZID=Europe/Amsterdam:20260307T235900
DTEND;TZID=Europe/Amsterdam:20260308T050000
DTSTAMP:20260421T174248
CREATED:20260205T191257Z
LAST-MODIFIED:20260205T191257Z
UID:380623-1772927940-1772946000@afrikalinks.nl
SUMMARY:AFRO FEST - PARADISO - AMSTERDAM - 3 Area’s
DESCRIPTION:AFRO FEST – Int. Woman’s Day Edition \nParadiso\, Amsterdam\nSaturday\, March 7 \nAmsterdam’s biggest Afro party — 3 areas full of pure vibes! \nGet ready for an unforgettable night at the iconic Paradiso.\nOn the night of March 7–8\, Afro Fest presents a special Women’s Edition in celebration of International Women’s Day (March 8). A powerful celebration of female energy\, creativity\, and strength — for everyone who wants to experience this vibe. \nThis edition is powered by an all-female line-up of DJs\, artists\, and performers\, with special surprises for our lady guests.\nThe ladies are in the spotlight\, but the Afro Fest vibe is for everyone! \nGIVEAWAY ALERT (FOR WOMEN)\nFor this special Women’s Edition\, we’re giving away free tickets for women.\nWant a chance to win? Follow our socials and join the giveaway! ✨ \n3 AREAS · 1 NIGHT · NON-STOP ENERGY\nArea 1\nA high-energy mix of Afrobeats\, Dancehall\, Hip-Hop\, R&B & Afrohouse \nArea 2\n100% Amapiano vibes — deep\, soulful\, and made for the dancefloor \nArea 3\nR&B & Hip-Hop Silent Disco — choose your channel and get lost in the music\nTickets on sale now — don’t wait too long \nDress to express\nOne night. Three areas. Endless vibes. \nAFRO FEST – WOMEN’S EDITION @ PARADISO\nThis is one you don’t want to miss. 🔥
URL:https://afrikalinks.nl/evenementen/afro-fest-paradiso-amsterdam-3-areas-3/
LOCATION:Paradiso Amsterdam
CATEGORIES:Dansavonden
ATTACH;FMTTYPE=image/jpeg:https://afrikalinks.nl/wp-content/uploads/2026/02/AFRO-FEST-–-Int.-Womans-Day-Edition.jpg
END:VEVENT
BEGIN:VEVENT
DTSTART;TZID=Europe/Amsterdam:20260314T230000
DTEND;TZID=Europe/Amsterdam:20260315T040000
DTSTAMP:20260421T174248
CREATED:20260114T184051Z
LAST-MODIFIED:20260114T184051Z
UID:380153-1773529200-1773547200@afrikalinks.nl
SUMMARY:Jollove - Africa Beats | Sports Jersey
DESCRIPTION:In the spirit of the major football tournaments taking place in 2026\, we are kicking off our first event of the year with the theme “Sports Jersey” This edition is a celebration of identity\, culture\, and unity through sport. \nOn this night\, we invite you to represent where your roots lie without saying a word. Whether it’s your country’s national team or your favorite football club\, wear your jersey proudly and let it speak for you on the dance floor. \nTickets: https://weeztix.shop/cxet4gxd \nDate: Saturday March 14.\nTime: 23:00 – 04:00\n@birdrotterdam \n18+ Event
URL:https://afrikalinks.nl/evenementen/jollove-africa-beats-sports-jersey/
LOCATION:BIRD\, BIRD
CATEGORIES:Dansavonden
ATTACH;FMTTYPE=image/jpeg:https://afrikalinks.nl/wp-content/uploads/2026/01/Jollove-Bird.jpg
ORGANIZER;CN="Jollove Events":MAILTO:noreply@facebookmail.com
END:VEVENT
BEGIN:VEVENT
DTSTART;TZID=Europe/Amsterdam:20260321T230000
DTEND;TZID=Europe/Amsterdam:20260322T040000
DTSTAMP:20260421T174248
CREATED:20260205T191404Z
LAST-MODIFIED:20260205T191404Z
UID:380625-1774134000-1774152000@afrikalinks.nl
SUMMARY:Jollove - Africa Beats | Native Outfits
DESCRIPTION:We’re back in Utrecht for a special edition themed “Native Outfits”\, where we’ll be rocking the dance floor in African-inspired outfits. \nJollove highlights the richness and vast scale of African music. A fresh perspective\, not the traditional “curated” view. Explore new scenes that may have passed you by! Dance to African music all night and go with a renewed energy. \nNothing but the best African music will be played at this event; so expect Afrobeats from West Africa\, East Africa\, South Africa\, Central Africa\, France/UK Afrobeats and the classic Afro hits! \n✓ Afrobeat\n✓Afro Pop\n✓Bongo Flava\n✓Ndombolo\n✓Coupe Decale\n✓Afrohouse\n✓Kwaito\n✓UG Bax Ragga\n✓Gengetone\n✓Abanton\n✓Soukous\n✓Kuduro\n..And more Afro music! \nTICKETS:\nhttps://dehelling.stager.co/shop/default/events/111606681 \nGENERAL INFO:\n-Time: 23:00 – 04:00\n-Location: De Helling\n-Adress: Helling 7\, Utrecht \nGet in the party mood:\nhttps://www.mixcloud.com/JolloveMusic \n18+ Event
URL:https://afrikalinks.nl/evenementen/jollove-africa-beats-native-outfits/
LOCATION:De Helling
CATEGORIES:Dansavonden
ATTACH;FMTTYPE=image/jpeg:https://afrikalinks.nl/wp-content/uploads/2026/02/Jollove-Native-Outfits.jpg
ORGANIZER;CN="Jollove Events":MAILTO:noreply@facebookmail.com
END:VEVENT
BEGIN:VEVENT
DTSTART;TZID=Europe/Amsterdam:20260328T230000
DTEND;TZID=Europe/Amsterdam:20260329T030000
DTSTAMP:20260421T174248
CREATED:20260220T150134Z
LAST-MODIFIED:20260220T150134Z
UID:381726-1774738800-1774753200@afrikalinks.nl
SUMMARY:TOA - TASTES OF AFRICA
DESCRIPTION:Rotterdam..! The TOA series starts now. Episode I is here. Get ready for this new SEASON. 🌍 \nIn deze tijd waarin iedereen klaagt dat de stad dood is is er eindelijk een steady indoor festival waar we in Rotterdam al jaren naar uitkijken. Eindelijk kan je viben op de muziek die je nergens in de stad hoort en komt er weer leven in de brouwerij. 🔥 \nVerdeeld over 2 areas in één van de meest iconische locaties van Nederland word je gecaterd van alle smaken die the culture te bieden heeft: Afrobeats\, Afro Electroic\, Amapiano\, Reggae\, Dancehall\, R&B… TOA serves them all. Zo divers en rauw\, maar toch sweet als onze stad is\, zo zullen ook de producties zijn. Want uiteindelijk gaat het TOA om één ding: Your experience. 🏙️ \nTOA Episode I geeft je in de MWEZI area deep ancestral Afro electronic energy en neemt je mee op een muzikale journey door de electronische landschap van muziek gedreven door één van oudste oerkrachten: De maan. Kom en ervaar het. Het gaat je pakken. 🕺🏽💃🏽🪩 \nDate: March 28th\nLocation: Maassilo\, Rotterdam\nTime: 23:00 – 06:00\nMinimum age: 18+ ID required\nVvk: vanaf €25\,- \nThis is TOA.\nThis is MWEZI.\nDon’t miss this episode. 📽️
URL:https://afrikalinks.nl/evenementen/toa-tastes-of-africa/
LOCATION:Maassilo\, Maashaven Zuidzijde 1-2\, Rotterdam\, 3081 AE\, NL
CATEGORIES:Dansavonden
ATTACH;FMTTYPE=image/jpeg:https://afrikalinks.nl/wp-content/uploads/2026/02/Tastes-Of-Africa.jpg
END:VEVENT
BEGIN:VEVENT
DTSTART;TZID=Europe/Amsterdam:20260403T190000
DTEND;TZID=Europe/Amsterdam:20260403T235900
DTSTAMP:20260421T174248
CREATED:20260325T165246Z
LAST-MODIFIED:20260325T165246Z
UID:382222-1775242800-1775260740@afrikalinks.nl
SUMMARY:𝐀𝐅𝐑𝐎𝐃𝐀𝐍𝐂𝐄𝐇𝐀𝐋𝐋 𝐀𝐍𝐓𝐇𝐄𝐌 .10
DESCRIPTION:𝐃𝐉 𝐌𝐎𝐎𝐍𝐀 \nMoona was born and raised in Senegal\, West Africa\, in a family of musicians. A lover of good vibes\, she is passionate about spreading positive energy through a wide variety of musical styles\, from Reggae to Dancehall\, and Afrobeat. \nShe has proven herself and quickly established herself as an authentic selectress with a unique inspiration that sets her apart from other female DJs. While others follow trends\, she makes her own mark. \nHer footprints can be found in many venues such as Café Maison du Peuple\, Ginger Bar\, La Tricoterie\, or the Jamrock Boat Cruise in Antwerp\, as well as major events like the No Logo Festival. As the official DJ for Daba Makhourejah\, DJ Moona continues to raise the bar for good vibes\, including at Esperanzah\, where she has supported major artists like Cross-By.\nhttps://www.facebook.com/empres.mounace\nhttps://www.m.mixcloud.com/empress-mounace\n@empress.mounace \n𝐃𝐉 𝐎. 𝐙𝐈𝐎𝐍\nZION is known for his energetic and captivating sets. As an MC and one of the most active DJs on the reggae-dancehall scene in Brussels\, he stands out as a key figure. He is the co-founder of Brussel Roots Collective\, the founder of Carbone 14 Collective\, and the initiator of successful cultural projects such as *Wha Gwaan*\, *BXL AfroDancehall Anthem Traffic Blocking*. O. Zion has produced events featuring artists like Anthony B and Kabaka Pyramid in Dakar\, Meta Dia and the Cornerstones (VK concerts)\, and LiDiop (Illegaal) in Brussels. With a microphone in hand and headphones on his head\, Zion has performed for audiences at major festivals such as *Festival Afrique Couleurs*\, *Roots Reggae Festival*\, and *Esperanzah*\, to name a few. He is a passionate promoter of local artists on the Belgian reggae-dancehall scene\, where he has recently formed a dynamic and fiery duo with DJ Moona.\nhttps://www.facebook.com/OMBREHZION\nhttps://audiomack.com/zionvibes\n@dj_ozion \n҉MUSIC TO EXPECT: 𝛥𝐹𝛤𝛩𝛣𝛴𝛥𝛵 𝐷𝛥𝛱𝐶𝛴𝛨𝛥𝐿𝐿 𝛤𝛴𝐺𝐺𝛥𝛴
URL:https://afrikalinks.nl/evenementen/%f0%9d%90%80%f0%9d%90%85%f0%9d%90%91%f0%9d%90%8e%f0%9d%90%83%f0%9d%90%80%f0%9d%90%8d%f0%9d%90%82%f0%9d%90%84%f0%9d%90%87%f0%9d%90%80%f0%9d%90%8b%f0%9d%90%8b-%f0%9d%90%80%f0%9d%90%8d%f0%9d%90%93/
LOCATION:Jardin Hospice\, Jardin Hospice
CATEGORIES:Dansavonden
ATTACH;FMTTYPE=image/jpeg:https://afrikalinks.nl/wp-content/uploads/2026/03/AfroDancehall-Anthem.jpg
END:VEVENT
BEGIN:VEVENT
DTSTART;TZID=Europe/Amsterdam:20260403T220000
DTEND;TZID=Europe/Amsterdam:20260404T030000
DTSTAMP:20260421T174248
CREATED:20260325T165331Z
LAST-MODIFIED:20260325T165331Z
UID:382225-1775253600-1775271600@afrikalinks.nl
SUMMARY:Afro House BE @ Café Au Lait
DESCRIPTION:An immersive Afro House experience built on deep rhythms\, elegant grooves\, and timeless energy. \n@bruce_blanchard\, joined by DJ CASA\, DJ BUPA and CHIEF BESS\, invites you to a night where music speaks\, bodies move\, and the atmosphere flows effortlessly. \n📍 April 3rd 2026\n📍 @cafeaulaitantwerp\n🎧 @bruce_blanchard & Friends\n🎟 Free entrance\, but buy out the bar please 😉\n⏰ 10PM – 3AM (bar opens at 6PM) \n* Cafe Au Lait cocktailbar\n* Oude Beurs 8\, 2000 Antwerpen\n* Come celebrate with a group & book our cosy corner next to the DJ for free. Linkup the socials of Cafe Au Lait.
URL:https://afrikalinks.nl/evenementen/afro-house-be-cafe-au-lait/
LOCATION:Café au lait\, Café au lait
CATEGORIES:Dansavonden
ATTACH;FMTTYPE=image/jpeg:https://afrikalinks.nl/wp-content/uploads/2026/03/Afro-House-Antwerp.jpg
END:VEVENT
BEGIN:VEVENT
DTSTART;TZID=Europe/Amsterdam:20260405T230000
DTEND;TZID=Europe/Amsterdam:20260406T050000
DTSTAMP:20260421T174248
CREATED:20260325T165559Z
LAST-MODIFIED:20260325T165559Z
UID:382230-1775430000-1775451600@afrikalinks.nl
SUMMARY:AFRO FEST (1e paasdag) - BIRD - ROTTERDAM - 2 Area's
DESCRIPTION:Afrofest touches down in Rotterdam! Na volle zalen in Amsterdam is het tijd om met onze Rotterdamse fam te feesten en wat hebben we er zin in! Er is tegen ons gezegd ain’t no party like a rotterdam party en wij doen daar graag aan mee!\nOp 5 april (1e paasdag de volgende dag zijn we vrij) brengen we verdeeld over twee zalen alles wat the motherland te bieden heeft Afrobeats\, Afrohouse\, Amapiano en een vleugje sounds uit de diaspora. \nEarlybird tickets zijn nu beschikbaar maar wacht iet te lang want deze wordt één voor in de boeken.
URL:https://afrikalinks.nl/evenementen/afro-fest-1e-paasdag-bird-rotterdam-2-areas/
LOCATION:BIRD\, BIRD
CATEGORIES:Dansavonden
ATTACH;FMTTYPE=image/jpeg:https://afrikalinks.nl/wp-content/uploads/2026/03/Afrofest-Rotterdam.jpg
END:VEVENT
BEGIN:VEVENT
DTSTART;TZID=Europe/Amsterdam:20260410T220000
DTEND;TZID=Europe/Amsterdam:20260411T030000
DTSTAMP:20260421T174248
CREATED:20260325T165721Z
LAST-MODIFIED:20260325T165721Z
UID:382231-1775858400-1775876400@afrikalinks.nl
SUMMARY:SAWA! Strictly afro Ft. Dj Abena @ Cafe Au Lait
DESCRIPTION:Moderne Afrikaanse dansmuziek is meer als amapiano of afrobeats. Met SAWA! willen we dansbare en muzikale pareltjes verzamelen uit heel Afrika. Van Noord tot Zuid\, van Oost tot West. \n> SAWA betekent in Swahili “Let’s go” of “OK” en in het Arabisch “Samen”… Iedereen SAWA? Iedereen SAWA! \n> Verwacht je aan minstens driekwart moderne afro dansmuziekjes\, en dan nog een paar streepjes dancehall\, afro\, RnB of hiphop. \n> Voor deze allereerste editie in Cafe Au Lait nodigden we Dj Abena uit. Een set van haar zonder afro is zeldzaam\, haar sets met voornamelijk afro hebben iets sterk en magisch!\nPerfect om de spits af te bijten. \nDeuren:\n* Vrijdag 10 april 2026\n* Open vanaf 18u\n* Dj’s starten om 22u.\n* Om 3u stoppen we. \nLocatie:\n* Cafe Au Lait cocktailbar\n* Oude Beurs 8\, 2000 Antwerpen\n* Iets te vieren met vrienden\, family en/of collega’s? Je kan de cosy corner naast de DJ gratis reserveren via de socials van Cafe Au Lait. \nNo entrance fee\, but buy out the bar please 😉 \nOne Love!
URL:https://afrikalinks.nl/evenementen/sawa-strictly-afro-ft-dj-abena-cafe-au-lait/
LOCATION:Café au lait\, Café au lait
CATEGORIES:Dansavonden
ATTACH;FMTTYPE=image/jpeg:https://afrikalinks.nl/wp-content/uploads/2026/03/Strictly-Afro-Antwerp.jpg
END:VEVENT
BEGIN:VEVENT
DTSTART;TZID=Europe/Amsterdam:20260411T190000
DTEND;TZID=Europe/Amsterdam:20260411T220000
DTSTAMP:20260421T174248
CREATED:20260325T165802Z
LAST-MODIFIED:20260325T165802Z
UID:382233-1775934000-1775944800@afrikalinks.nl
SUMMARY:Mama Africa | Eindhoven
DESCRIPTION:Eindhoven\, are you ready? 🔥\nMama Africa is bringing our signature sound back to Effenaar on the 11th of April! \nExpect the hottest Afro Beats\, Azonto\, Kuduro\, Coupé Décalé\, Ndombolo & more\, featuring hits from your favorite artists like Burna Boy\, Tiwa Savage\, King Promise\, Aya Nakamura\, Wizkid\, Diamond Platnumz\, Tyla and many more! 🎶🔥 \n🎟️ Tickets are expected to sell out fast\, so grab yours now:\n👉 https://weeztix.shop/wc3qf93s \nGather your crew and get ready for an unforgettable night of pure African vibes. Mama Africa is for everyone who feels connected to Africa! 💃🏾🕺🏾 \n📍 Location: Eindhoven – Effenaar\n⏰ Time: 23:30 – 04:00\n🔞 Age: 18+ \n🔥 Warm up your Afro dance skills with our Mama Africa playlist:\n🎶 Spotify: https://spoti.fi/3BuELOe \nBrought to you by LITT Events \nOur socials & more:\nwww.littevents.nl/links
URL:https://afrikalinks.nl/evenementen/mama-africa-eindhoven-8/
LOCATION:Effenaar\, Effenaar
CATEGORIES:Dansavonden
ATTACH;FMTTYPE=image/jpeg:https://afrikalinks.nl/wp-content/uploads/2026/03/Mama-Africa-Eindhoven.jpg
ORGANIZER;CN="Mama Africa":MAILTO:noreply@facebookmail.com
END:VEVENT
BEGIN:VEVENT
DTSTART;TZID=Europe/Amsterdam:20260411T235500
DTEND;TZID=Europe/Amsterdam:20260412T050000
DTSTAMP:20260421T174248
CREATED:20260205T191713Z
LAST-MODIFIED:20260205T191713Z
UID:380628-1775951700-1775970000@afrikalinks.nl
SUMMARY:Amapiano NL - Electronic Evolution
DESCRIPTION:It’s the next chapter of Afro-electronic sound. Expect heavy energy\, deep rhythms\, and culture at full volume. \nLINEUP:\n@thakzin01 (South Africa)\n@realdjlag (South Africa)\n@djsatelite (Angola)\n@fufuambasado (Wakanda)\n@xroselea (Cameroun)\n@brankomc (Ghana) \nEarly bird tickets are live now.. don’t sleep on it. \n🎟Tickets: https://www.ticketmaster.nl/event/371346651?brand=nl_melkweg \n📍 Melkweg Amsterdam\n🗓 Saturday\, April 11\n@melkwegamsterdam
URL:https://afrikalinks.nl/evenementen/amapiano-nl-electronic-evolution/
LOCATION:Melkweg Amsterdam
CATEGORIES:Dansavonden
ATTACH;FMTTYPE=image/jpeg:https://afrikalinks.nl/wp-content/uploads/2026/02/Amapiano-NL-Melkweg-Amsterdam.jpg
ORGANIZER;CN="Amapiano NL":MAILTO:noreply@facebookmail.com
END:VEVENT
BEGIN:VEVENT
DTSTART;TZID=Europe/Amsterdam:20260417T235900
DTEND;TZID=Europe/Amsterdam:20260418T043000
DTSTAMP:20260421T174248
CREATED:20260325T165952Z
LAST-MODIFIED:20260325T165952Z
UID:382236-1776470340-1776486600@afrikalinks.nl
SUMMARY:Mama Africa Community edition | Amsterdam
DESCRIPTION:Amsterdam\, it’s time to come together! 🔥 \nFor the first time\, Mama Africa is taking over Parallel on April 17th. We’re creating a night centered on deep connection\, rich culture\, and that unmistakable shared energy on the dancefloor. 🌍✨ \nThis is Mama Africa like you’ve never seen it before. Parallel offers our most intimate experience in years\, featuring the famous Boiler Room setup—which means you’ll be dancing right behind and alongside the DJ booth. It doesn’t get any closer than this! \nExpect a vibrant crowd\, soul-warming vibes\, and the absolute best Afro sounds all night long—from Afrobeats to Azonto\, Kuduro\, Coupé Décalé\, Ndombolo\, and everything in between. Beyond the music\, we’ve curated a variety of games and extra activities designed to bring people together and make the night truly unforgettable. \nThis is a night where everyone is welcome\, and everyone is part of our community. We can’t wait to see you there! 🎶💛
URL:https://afrikalinks.nl/evenementen/mama-africa-community-edition-amsterdam/
LOCATION:Parallel Amsterdam\, Parallel Amsterdam
CATEGORIES:Dansavonden
ATTACH;FMTTYPE=image/jpeg:https://afrikalinks.nl/wp-content/uploads/2026/03/Mama-Africa-Amsterdam.jpg
ORGANIZER;CN="Mama Africa":MAILTO:noreply@facebookmail.com
END:VEVENT
BEGIN:VEVENT
DTSTART;TZID=Europe/Amsterdam:20260424T233000
DTEND;TZID=Europe/Amsterdam:20260425T040000
DTSTAMP:20260421T174248
CREATED:20260325T170111Z
LAST-MODIFIED:20260325T170111Z
UID:382241-1777073400-1777089600@afrikalinks.nl
SUMMARY:Mama Africa XXL | Rotterdam
DESCRIPTION:Rotterdam\, we’re going all out 🔥 \nOn April 24th\, Mama Africa takes over Now and Wow for a night that goes beyond the usual. 🌍✨ \nThis edition features two distinct areas\, each with its own energy. \nArea 1: delivers the signature Mama Africa sound with the best Afro Beats and classics\, \nArea 2: dives deep into Amapiano\, rhythmic\, energetic\, and made for the dancefloor. 🎶🔥 \nMove between both areas and create your own night. One crowd\, multiple vibes. \nDate: Friday\, April 24th\nLocation: Now and Wow\, Rotterdam\nTime: 23:30 – 04:00\nAge: 18+
URL:https://afrikalinks.nl/evenementen/mama-africa-xxl-rotterdam/
LOCATION:Online Event
CATEGORIES:Dansavonden
ATTACH;FMTTYPE=image/jpeg:https://afrikalinks.nl/wp-content/uploads/2026/03/Mama-Africa-Rotterdam.jpg
ORGANIZER;CN="Mama Africa":MAILTO:noreply@facebookmail.com
END:VEVENT
BEGIN:VEVENT
DTSTART;TZID=Europe/Amsterdam:20260502T210000
DTEND;TZID=Europe/Amsterdam:20260503T000000
DTSTAMP:20260421T174248
CREATED:20260325T170435Z
LAST-MODIFIED:20260325T170435Z
UID:382245-1777755600-1777766400@afrikalinks.nl
SUMMARY:Afrobeats Vibes - Almere
DESCRIPTION:🔥 AFROBEATS VIBES – ALMERE 🔥 \nZaterdag 2 mei brengen we de heetste vibes naar Almere! 🌴🔥 \nBereid je voor op een avond vol energie\, dans en de beste sounds. \n🎧 LINE-UP\nDJ GENEXSIS\nDJ E-DEEP \n🎶 MUZIEK\nAfrobeats • Amapiano • Dancehall \n🕘 TIJD\n21:00 – 02:00 \n📍 LOCATIE\nDansschool & Party Centrum Burnet\nKampenweg 7\, Almere \n🎟️ ENTREE\n€9\,95 (online t/m 18:00)\n€12\,00 aan de deur \n✅ GRATIS garderobe\n💃🏽 Trek je beste outfit aan en kom genieten van een night vol vibes\, energie en good music! \n⚠️ Beperkte capaciteit – wees op tijd!\n👉 Nodig je vrienden uit & mis dit niet!\n#AfrobeatsVibes #Almere #Party #Amapiano #Dancehall
URL:https://afrikalinks.nl/evenementen/afrobeats-vibes-almere/
LOCATION:Tropische Dansschool Burnet\, Tropische Dansschool Burnet
CATEGORIES:Dansavonden
ATTACH;FMTTYPE=image/jpeg:https://afrikalinks.nl/wp-content/uploads/2026/03/AFROBEATS-VIBES-–-ALMERE.jpg
END:VEVENT
BEGIN:VEVENT
DTSTART;TZID=Europe/Amsterdam:20260502T233000
DTEND;TZID=Europe/Amsterdam:20260503T040000
DTSTAMP:20260421T174248
CREATED:20260414T181221Z
LAST-MODIFIED:20260414T181221Z
UID:382342-1777764600-1777780800@afrikalinks.nl
SUMMARY:Mama Africa | Antwerpen
DESCRIPTION:Antwerpen\, new venue\, same fire! 🔥 \nThe biggest Afro event from the Netherlands is crossing the border again and this time we’re taking over Ikon on May 2nd! \n🌍✨ Mama Africa has been selling out cities all across Europe and now we’re bringing that energy to a brand new spot in the city. Expect nothing but the best Afro Beats\, Azonto\, Kuduro\, Coupé Décalé\, Ndombolo and more\, with hits from Burna Boy\, Asake\, Tyla\, Ayra Starr\, Aya Nakamura\, King Promise\, Diamond Platnumz\, and many others! 🎶🔥 \nDate: Saturday\, May 2nd │ Location: Ikon\, Antwerpen │ Time: 23:30 04:00 │ Age: 18+ \nMama Africa Playlist: https://spoti.fi/3BuELOe\nOur socials and more: www.littevents.nl/links\nBrought to you by LITT Events: Mama Africa is for everyone who feels connected to Africa ❤️
URL:https://afrikalinks.nl/evenementen/mama-africa-antwerpen-5/
LOCATION:IKON Antwerp
CATEGORIES:Dansavonden
ATTACH;FMTTYPE=image/jpeg:https://afrikalinks.nl/wp-content/uploads/2026/04/Mama-Africa-Antwerp.jpg
ORGANIZER;CN="Mama Africa":MAILTO:noreply@facebookmail.com
END:VEVENT
BEGIN:VEVENT
DTSTART;TZID=Europe/Amsterdam:20260515T210000
DTEND;TZID=Europe/Amsterdam:20260516T020000
DTSTAMP:20260421T174248
CREATED:20260414T181146Z
LAST-MODIFIED:20260414T181146Z
UID:382343-1778878800-1778896800@afrikalinks.nl
SUMMARY:Mama Africa | Beach
DESCRIPTION:Den Haag\, summer starts here! 🔥 \nMama Africa presents the very first Beach Edition of the year at Indigo on May 15th and we’re kicking off the season right! 🌍✨ The biggest Afro event in the Netherlands meets the beach for the ultimate summer opening. We’re bringing the best Afro Beats\, Azonto\, Kuduro\, Coupé Décalé\, Ndombolo and more\, with your favorites like Burna Boy\, Davido\, Tyla\, Rema\, Aya Nakamura\, King Promise\, CKay\, and many more! \nThis is the only Mama Africa edition at Indigo this year so when it’s sold out\, it’s sold out. 🎶🔥 \nDate: Friday\, May 15th │ Location: Indigo\, Den Haag │ Time: 23:30 04:00 │ Age: 18+ │ Presale: April 1st \nTickets: TBA \nMama Africa Playlist: https://spoti.fi/3BuELOe\nOur socials and more: www.littevents.nl/links\nBrought to you by LITT Events: Mama Africa is for everyone who feels connected to Africa ❤️
URL:https://afrikalinks.nl/evenementen/mama-africa-beach/
LOCATION:Beachclub Indigo\, Strandweg 65\, Scheveningen\, 2586JL\, NL
CATEGORIES:Dansavonden
ATTACH;FMTTYPE=image/jpeg:https://afrikalinks.nl/wp-content/uploads/2026/04/Mama-Africa-Beach.jpg
ORGANIZER;CN="Mama Africa":MAILTO:noreply@facebookmail.com
END:VEVENT
BEGIN:VEVENT
DTSTART;TZID=Europe/Amsterdam:20260516T233000
DTEND;TZID=Europe/Amsterdam:20260517T040000
DTSTAMP:20260421T174248
CREATED:20260325T170714Z
LAST-MODIFIED:20260325T170714Z
UID:382251-1778974200-1778990400@afrikalinks.nl
SUMMARY:Mama Africa | Utrecht
DESCRIPTION:Utrecht\, we’re back 🔥 \nMama Africa returns to Tivoli Vredenburg on May 16th for another unforgettable night filled with rhythm\, energy\, and pure vibes. 🌍✨ \nExpect the sounds you love\, a packed dancefloor\, and a crowd that knows exactly what they came for. From Afro Beats to everything in between\, this is where it all comes together. 🎶🔥 \nDate: Saturday\, May 16th\nLocation: TivoliVredenburg\, Utrecht\nTime: 23:30 – 04:00\nAge: 18+ \nMama Africa Playlist\nhttps://spoti.fi/3BuELOe \nOur socials and more\nwww.littevents.nl/links
URL:https://afrikalinks.nl/evenementen/mama-africa-utrecht-12/
LOCATION:TivoliVredenburg
CATEGORIES:Dansavonden
ATTACH;FMTTYPE=image/jpeg:https://afrikalinks.nl/wp-content/uploads/2026/03/Mama-Africa-Utrecht.jpg
ORGANIZER;CN="Mama Africa":MAILTO:noreply@facebookmail.com
END:VEVENT
BEGIN:VEVENT
DTSTART;TZID=Europe/Amsterdam:20260529T230000
DTEND;TZID=Europe/Amsterdam:20260530T050000
DTSTAMP:20260421T174248
CREATED:20260414T181113Z
LAST-MODIFIED:20260414T181114Z
UID:382344-1780095600-1780117200@afrikalinks.nl
SUMMARY:AFROVISION 29/5 TOFFLER
DESCRIPTION:EARLY BIRDS NOW AVAILABLE! \nAfroVision is a real deep musical journey where you can reconnect with your inner self on a higher level and rejuvenate your mind\, body and soul\, surrounded by the sounds of Afro deep house music and visions of ancient cultures arts and nature. \nDive into the musical realm of art and mysticism in ancient cultures through the mesmerizing musical blend of various hypnotic beats and primal sounds\, frenzied drum sounds combined with dance art one feels harmonious from ecstasy on the Afrodeep house tunes and feels immersed in a world of artistry that defies boundaries. \nWe are ready for the real magic and this journey continues. Discover the extraordinary world of AfroVision 🌟👁️
URL:https://afrikalinks.nl/evenementen/afrovision-29-5-toffler/
LOCATION:TOFFLER\, TOFFLER
CATEGORIES:Dansavonden
ATTACH;FMTTYPE=image/jpeg:https://afrikalinks.nl/wp-content/uploads/2026/04/AfroVision-Rotterdam.jpg
END:VEVENT
BEGIN:VEVENT
DTSTART;TZID=Europe/Amsterdam:20260529T233000
DTEND;TZID=Europe/Amsterdam:20260530T023000
DTSTAMP:20260421T174248
CREATED:20260414T181040Z
LAST-MODIFIED:20260414T181040Z
UID:382345-1780097400-1780108200@afrikalinks.nl
SUMMARY:Mama Africa | Alkmaar
DESCRIPTION:Alkmaar\, the moment you’ve been waiting for is finally here! 🔥 Mama Africa makes its debut at Victorie on May 29th and trust us\, you do NOT want to miss this first chapter! 🌍✨ \nThe biggest Afro event in the Netherlands is landing in Alkmaar for the very first time and we’re bringing everything. Expect the best Afro Beats\, Azonto\, Kuduro\, Coupé Décalé\, Ndombolo and more\, plus bangers from Asake\, Wizkid\, Ayra Starr\, Tems\, R2Bees\, Diamond Platnumz\, and many others! 🎶🔥 \nDate: Friday\, May 29th │ Location: Victorie\, Alkmaar │ Time: 23:30 – 04:00 │ Age: 18+ \nMama Africa Playlist: https://spoti.fi/3BuELOe\nOur socials and more: www.littevents.nl/links\nBrought to you by LITT Events: Mama Africa is for everyone who feels connected to Africa ❤️
URL:https://afrikalinks.nl/evenementen/mama-africa-alkmaar-2/
LOCATION:Podium Victorie\, Podium Victorie
CATEGORIES:Dansavonden
ATTACH;FMTTYPE=image/jpeg:https://afrikalinks.nl/wp-content/uploads/2026/04/Mama-Africa-Alkmaar.jpg
ORGANIZER;CN="Mama Africa":MAILTO:noreply@facebookmail.com
END:VEVENT
BEGIN:VEVENT
DTSTART;TZID=Europe/Amsterdam:20260530T235500
DTEND;TZID=Europe/Amsterdam:20260531T050000
DTSTAMP:20260421T174248
CREATED:20260325T170815Z
LAST-MODIFIED:20260325T170815Z
UID:382252-1780185300-1780203600@afrikalinks.nl
SUMMARY:WEST AFRICA meets EAST AFRICA
DESCRIPTION:Cultural Unity: WEST AFRICA meets EAST AFRICA | Saturday May 30 @melkwegamsterdam MAX 😍🤍 \nWe’re excited to officially announce a special collaboration that brings together two authentic and vibrant communities: @jollove.africa x @eastafrica.conekt; united under one big roof in Amsterdam! \nThis night is all about Cultural Unity\, where West Africa meets East Africa in a dynamic celebration of music\, food\, mini markets and community. Expect an immersive experience that showcases the richness and diversity of both regions. \n🎶 DJ Line-up\nDJ 1 – Opening set\nDJ 2 – East African sounds\nDJ 3 – West African sounds\nDJ 4 – East African sounds\nDJ 5 – West African sounds \n🍴 Food Stands\n– Authentic East African cuisine\n– Authentic West African cuisine \n🛍 Mini Markets\n– African jewelry\n– Body care & beauty products \nWe’re currently looking for talented DJs across the Netherlands and Europe who can truly represent the sounds and energy of these cultures. Are you that DJ\, or do you know someone who is? Go to our instagram and them in the comments. \n🎟 Tickets are now available via the link bellow: \nhttps://www.ticketmaster.nl/event/1780286150?brand=nl_melkweg \nTIME: 23:55 – 05:00 \n18+ event
URL:https://afrikalinks.nl/evenementen/west-africa-meets-east-africa/
LOCATION:Melkweg\, Melkweg
CATEGORIES:Dansavonden
ATTACH;FMTTYPE=image/jpeg:https://afrikalinks.nl/wp-content/uploads/2026/03/WEST-AFRICA-meets-EAST-AFRICA-Amsterdam.jpg
ORGANIZER;CN="Jollove Events":MAILTO:noreply@facebookmail.com
END:VEVENT
END:VCALENDAR