BEGIN:VCALENDAR
VERSION:2.0
PRODID:-//Afrikalinks - ECPv6.15.20//NONSGML v1.0//EN
CALSCALE:GREGORIAN
METHOD:PUBLISH
X-ORIGINAL-URL:https://afrikalinks.nl
X-WR-CALDESC:Evenementen voor Afrikalinks
REFRESH-INTERVAL;VALUE=DURATION:PT1H
X-Robots-Tag:noindex
X-PUBLISHED-TTL:PT1H
BEGIN:VTIMEZONE
TZID:Europe/Amsterdam
BEGIN:DAYLIGHT
TZOFFSETFROM:+0100
TZOFFSETTO:+0200
TZNAME:CEST
DTSTART:20250330T010000
END:DAYLIGHT
BEGIN:STANDARD
TZOFFSETFROM:+0200
TZOFFSETTO:+0100
TZNAME:CET
DTSTART:20251026T010000
END:STANDARD
BEGIN:DAYLIGHT
TZOFFSETFROM:+0100
TZOFFSETTO:+0200
TZNAME:CEST
DTSTART:20260329T010000
END:DAYLIGHT
BEGIN:STANDARD
TZOFFSETFROM:+0200
TZOFFSETTO:+0100
TZNAME:CET
DTSTART:20261025T010000
END:STANDARD
BEGIN:DAYLIGHT
TZOFFSETFROM:+0100
TZOFFSETTO:+0200
TZNAME:CEST
DTSTART:20270328T010000
END:DAYLIGHT
BEGIN:STANDARD
TZOFFSETFROM:+0200
TZOFFSETTO:+0100
TZNAME:CET
DTSTART:20271031T010000
END:STANDARD
END:VTIMEZONE
BEGIN:VEVENT
DTSTART;TZID=Europe/Amsterdam:20260116T220000
DTEND;TZID=Europe/Amsterdam:20260117T010000
DTSTAMP:20260421T113559
CREATED:20260114T183305Z
LAST-MODIFIED:20260114T183305Z
UID:380134-1768600800-1768611600@afrikalinks.nl
SUMMARY:Afro House Party - The Grand Opening
DESCRIPTION:Expect 100% Afro House music\, deep rhythms\, hypnotic grooves\, and beats that move your body without asking permission. Music built for dancers. Music that connects. Music that keeps the floor alive all night long. \nFeel the sound of international DJ @bruce_blanchard \, joined by carefully selected guest DJs bringing nothing but heat and soul to the decks. Every track is chosen to make you dance. Every moment is about the energy. \n📍 January 16th\n📍 @cafeaulaitantwerp\n🎧 @bruce_blanchard & Friends\n🎟 Free entrance\n⏰ 10PM – 3AM \nGet ready\, because the vibe is real.\n2026 is about to get juicy.
URL:https://afrikalinks.nl/evenementen/afro-house-party-the-grand-opening/
LOCATION:Café au lait\, Café au lait
CATEGORIES:Dansavonden
ATTACH;FMTTYPE=image/jpeg:https://afrikalinks.nl/wp-content/uploads/2026/01/Afro-House-music.jpg
END:VEVENT
END:VCALENDAR