BEGIN:VCALENDAR
VERSION:2.0
PRODID:-//Afrikalinks - ECPv6.15.20//NONSGML v1.0//EN
CALSCALE:GREGORIAN
METHOD:PUBLISH
X-ORIGINAL-URL:https://afrikalinks.nl
X-WR-CALDESC:Evenementen voor Afrikalinks
REFRESH-INTERVAL;VALUE=DURATION:PT1H
X-Robots-Tag:noindex
X-PUBLISHED-TTL:PT1H
BEGIN:VTIMEZONE
TZID:Europe/Amsterdam
BEGIN:DAYLIGHT
TZOFFSETFROM:+0100
TZOFFSETTO:+0200
TZNAME:CEST
DTSTART:20210328T010000
END:DAYLIGHT
BEGIN:STANDARD
TZOFFSETFROM:+0200
TZOFFSETTO:+0100
TZNAME:CET
DTSTART:20211031T010000
END:STANDARD
BEGIN:DAYLIGHT
TZOFFSETFROM:+0100
TZOFFSETTO:+0200
TZNAME:CEST
DTSTART:20220327T010000
END:DAYLIGHT
BEGIN:STANDARD
TZOFFSETFROM:+0200
TZOFFSETTO:+0100
TZNAME:CET
DTSTART:20221030T010000
END:STANDARD
BEGIN:DAYLIGHT
TZOFFSETFROM:+0100
TZOFFSETTO:+0200
TZNAME:CEST
DTSTART:20230326T010000
END:DAYLIGHT
BEGIN:STANDARD
TZOFFSETFROM:+0200
TZOFFSETTO:+0100
TZNAME:CET
DTSTART:20231029T010000
END:STANDARD
END:VTIMEZONE
BEGIN:VEVENT
DTSTART;TZID=Europe/Amsterdam:20221021T230000
DTEND;TZID=Europe/Amsterdam:20221022T040000
DTSTAMP:20260424T114549
CREATED:20220929T204153Z
LAST-MODIFIED:20220929T204153Z
UID:371305-1666393200-1666411200@afrikalinks.nl
SUMMARY:Jollove - Africa Beats | Rotterdam
DESCRIPTION:JOLLOVE – AFRICA BEATS | Rotterdam \nJollove highlights the richness and vast scale of African music. A fresh perspective\, not the traditional “curated” view. Explore new scenes that may have passed you by! Dance to African music all night and go with a renewed energy. \nNothing but the best African music will be played at this event; so expect Afrobeats from West Africa\, East Africa\, South Africa\, Central Africa\, France/UK Afrobeats and the classic Afro hits! \n✓ Afrobeat\n✓Afro Pop\n✓Bongo Flava\n✓Ndombolo\n✓Coupe Decale\n✓Afrohouse\n✓Kwaito\n✓UG Bax Ragga\n✓Gengetone\n✓Soukous\n✓Kuduro\n..And more Afro music! \nTICKETS:\n-Early Bird – €10.00\n-Regular Ticket – €13.00\n-Late Ticket – €15.00\n-Door sale – €20 \nBuy Tickets Here: https://eventix.shop/cxet4gxd \nGENERAL INFO:\n-Time: 23:00 – 04:00\n-Location: BIRD\, Rotterdam.\n-Adress: Raampoortsraat 26. \nGet in the party mood:\n \n18+ EVENT
URL:https://afrikalinks.nl/evenementen/jollove-africa-beats-rotterdam-2/
LOCATION:BIRD\, Raampoortstraat 26\, Rotterdam\, 3032 AH\, NL
CATEGORIES:Dansavonden
ATTACH;FMTTYPE=image/jpeg:https://afrikalinks.nl/wp-content/uploads/2022/09/371305_image_305308654_415584440558781_4160422722214226595_n-scaled.jpg
END:VEVENT
BEGIN:VEVENT
DTSTART;TZID=Europe/Amsterdam:20221021T233000
DTEND;TZID=Europe/Amsterdam:20221022T040000
DTSTAMP:20260424T114549
CREATED:20220917T204302Z
LAST-MODIFIED:20220917T204302Z
UID:371250-1666395000-1666411200@afrikalinks.nl
SUMMARY:Mama Africa | Nijmegen
DESCRIPTION:Mama Africa will be back in Nijmegen on the 21st of October
URL:https://afrikalinks.nl/evenementen/mama-africa-nijmegen-2/
LOCATION:Waalhalla Centrum\, Winselingseweg 12\, Nijmegen\, 6541 AK\, NL
CATEGORIES:Dansavonden
ATTACH;FMTTYPE=image/jpeg:https://afrikalinks.nl/wp-content/uploads/2022/09/371250_image_306924204_1221189368616394_2136904324870149841_n.jpg
END:VEVENT
END:VCALENDAR