BEGIN:VCALENDAR
VERSION:2.0
PRODID:-//Afrikalinks - ECPv6.15.20//NONSGML v1.0//EN
CALSCALE:GREGORIAN
METHOD:PUBLISH
X-ORIGINAL-URL:https://afrikalinks.nl
X-WR-CALDESC:Evenementen voor Afrikalinks
REFRESH-INTERVAL;VALUE=DURATION:PT1H
X-Robots-Tag:noindex
X-PUBLISHED-TTL:PT1H
BEGIN:VTIMEZONE
TZID:Europe/Amsterdam
BEGIN:DAYLIGHT
TZOFFSETFROM:+0100
TZOFFSETTO:+0200
TZNAME:CEST
DTSTART:20210328T010000
END:DAYLIGHT
BEGIN:STANDARD
TZOFFSETFROM:+0200
TZOFFSETTO:+0100
TZNAME:CET
DTSTART:20211031T010000
END:STANDARD
BEGIN:DAYLIGHT
TZOFFSETFROM:+0100
TZOFFSETTO:+0200
TZNAME:CEST
DTSTART:20220327T010000
END:DAYLIGHT
BEGIN:STANDARD
TZOFFSETFROM:+0200
TZOFFSETTO:+0100
TZNAME:CET
DTSTART:20221030T010000
END:STANDARD
BEGIN:DAYLIGHT
TZOFFSETFROM:+0100
TZOFFSETTO:+0200
TZNAME:CEST
DTSTART:20230326T010000
END:DAYLIGHT
BEGIN:STANDARD
TZOFFSETFROM:+0200
TZOFFSETTO:+0100
TZNAME:CET
DTSTART:20231029T010000
END:STANDARD
END:VTIMEZONE
BEGIN:VEVENT
DTSTART;TZID=Europe/Amsterdam:20220917T210000
DTEND;TZID=Europe/Amsterdam:20220918T030000
DTSTAMP:20260424T144404
CREATED:20220917T204255Z
LAST-MODIFIED:20220917T204255Z
UID:371235-1663448400-1663470000@afrikalinks.nl
SUMMARY:The Bang Bang Room
DESCRIPTION:▲ Saturday September the 17th▶ 9pm \n🌀The Bang Bang Room is Back 🌀 \nYet again we gonna take you one more night into a journey of Dancehall\, Afrobeats\, Amapiano and even old school funk\, r&b & hip hop. With the one and only b u b b a! Cafe au lait will be burning hot! 😉\n▬▬▬▬▬▬▬▬▬▬▬▬▬▬▬▬▬▬▬▬▬▬▬▬▬\nEvery Saturday. Starting from 9pm till Ya mom calls! 😱\n▬▬▬▬▬▬▬▬▬▬▬▬▬▬▬▬▬▬▬▬▬▬▬▬▬ \nWith ♡ \nb u b b a & the CAL team!
URL:https://afrikalinks.nl/evenementen/the-bang-bang-room/
LOCATION:Café au lait\, Oude Beurs 8\, Antwerp\, 2000\, BE
CATEGORIES:Dansavonden
ATTACH;FMTTYPE=image/jpeg:https://afrikalinks.nl/wp-content/uploads/2022/09/371235_image_306752516_525451226246959_5669368774950422716_n.jpg
END:VEVENT
END:VCALENDAR