BEGIN:VCALENDAR
VERSION:2.0
PRODID:-//Afrikalinks - ECPv6.15.20//NONSGML v1.0//EN
CALSCALE:GREGORIAN
METHOD:PUBLISH
X-WR-CALNAME:Afrikalinks
X-ORIGINAL-URL:https://afrikalinks.nl
X-WR-CALDESC:Evenementen voor Afrikalinks
REFRESH-INTERVAL;VALUE=DURATION:PT1H
X-Robots-Tag:noindex
X-PUBLISHED-TTL:PT1H
BEGIN:VTIMEZONE
TZID:Europe/Amsterdam
BEGIN:DAYLIGHT
TZOFFSETFROM:+0100
TZOFFSETTO:+0200
TZNAME:CEST
DTSTART:20210328T010000
END:DAYLIGHT
BEGIN:STANDARD
TZOFFSETFROM:+0200
TZOFFSETTO:+0100
TZNAME:CET
DTSTART:20211031T010000
END:STANDARD
BEGIN:DAYLIGHT
TZOFFSETFROM:+0100
TZOFFSETTO:+0200
TZNAME:CEST
DTSTART:20220327T010000
END:DAYLIGHT
BEGIN:STANDARD
TZOFFSETFROM:+0200
TZOFFSETTO:+0100
TZNAME:CET
DTSTART:20221030T010000
END:STANDARD
BEGIN:DAYLIGHT
TZOFFSETFROM:+0100
TZOFFSETTO:+0200
TZNAME:CEST
DTSTART:20230326T010000
END:DAYLIGHT
BEGIN:STANDARD
TZOFFSETFROM:+0200
TZOFFSETTO:+0100
TZNAME:CET
DTSTART:20231029T010000
END:STANDARD
END:VTIMEZONE
BEGIN:VEVENT
DTSTART;TZID=Europe/Amsterdam:20220828T150000
DTEND;TZID=Europe/Amsterdam:20220828T220000
DTSTAMP:20260424T144354
CREATED:20220814T175847Z
LAST-MODIFIED:20220814T175847Z
UID:371063-1661698800-1661724000@afrikalinks.nl
SUMMARY:Jojo Afrosocial Club Atelier Amsterdam
DESCRIPTION:After a successful first edition\, we are happy to give the Afrosocial experience again at the terraces of Club Atelier Amsterdam. At this nice location you should expect nothing less than good vibes\, great music (Afrobeats\, Amapiano and Afrohouse) with the best DJ’s; Dj Austin J\, Dj Doulou and Dj Deion Dwight. Ticket link: https://eventix.shop/djrx7ftj
URL:https://afrikalinks.nl/evenementen/jojo-afrosocial-club-atelier-amsterdam/
LOCATION:Club Atelier\, Anthony Fokkerweg 3\, Amsterdam\, 1059CD\, NL
CATEGORIES:Dansavonden
ATTACH;FMTTYPE=image/jpeg:https://afrikalinks.nl/wp-content/uploads/2022/08/371063_image_297600964_583254679965401_3299503924423851416_n.jpg
END:VEVENT
END:VCALENDAR