BEGIN:VCALENDAR
VERSION:2.0
PRODID:-//Afrikalinks - ECPv6.15.20//NONSGML v1.0//EN
CALSCALE:GREGORIAN
METHOD:PUBLISH
X-ORIGINAL-URL:https://afrikalinks.nl
X-WR-CALDESC:Evenementen voor Afrikalinks
REFRESH-INTERVAL;VALUE=DURATION:PT1H
X-Robots-Tag:noindex
X-PUBLISHED-TTL:PT1H
BEGIN:VTIMEZONE
TZID:Europe/Amsterdam
BEGIN:DAYLIGHT
TZOFFSETFROM:+0100
TZOFFSETTO:+0200
TZNAME:CEST
DTSTART:20210328T010000
END:DAYLIGHT
BEGIN:STANDARD
TZOFFSETFROM:+0200
TZOFFSETTO:+0100
TZNAME:CET
DTSTART:20211031T010000
END:STANDARD
BEGIN:DAYLIGHT
TZOFFSETFROM:+0100
TZOFFSETTO:+0200
TZNAME:CEST
DTSTART:20220327T010000
END:DAYLIGHT
BEGIN:STANDARD
TZOFFSETFROM:+0200
TZOFFSETTO:+0100
TZNAME:CET
DTSTART:20221030T010000
END:STANDARD
BEGIN:DAYLIGHT
TZOFFSETFROM:+0100
TZOFFSETTO:+0200
TZNAME:CEST
DTSTART:20230326T010000
END:DAYLIGHT
BEGIN:STANDARD
TZOFFSETFROM:+0200
TZOFFSETTO:+0100
TZNAME:CET
DTSTART:20231029T010000
END:STANDARD
END:VTIMEZONE
BEGIN:VEVENT
DTSTART;TZID=Europe/Amsterdam:20220617T230000
DTEND;TZID=Europe/Amsterdam:20220618T040000
DTSTAMP:20260424T144413
CREATED:20220615T210651Z
LAST-MODIFIED:20220615T210651Z
UID:370654-1655506800-1655524800@afrikalinks.nl
SUMMARY:Amapiano NL | Rotterdam
DESCRIPTION:After a previous sold out edition in Rotterdam\, we’re back again on Friday 17th of June. \nAmapiano is a South African music genre\, a cultural movement and lifestyle for anyone who wants to be uplifted in body\, spirit and soul. \nJoin us for a night filled with Amapiano sounds from the motherlands and diaspora. Power by Ama-djs who truly understand the Ama-culture and sound. \nYou can purchase a ticket via this link -> https://eventix.shop/34564rqu \nAFTERMOVIE -> https://youtu.be/LnBC1EpNvzg \nTo get you in mood\, check out Amapiano NL mixes:\n➤Rooftop (live): https://youtu.be/nPLDxtVOwCY\n➤https://www.mixcloud.com/amapianoNL \n18+ Event \nHAIBOO!
URL:https://afrikalinks.nl/evenementen/amapiano-nl-rotterdam/
LOCATION:BIRD\, Raampoortstraat 26\, Rotterdam\, 3032 AH\, NL
CATEGORIES:Dansavonden
ATTACH;FMTTYPE=image/jpeg:https://afrikalinks.nl/wp-content/uploads/2022/06/370654_image_279434791_523659189348655_3505186827895117865_n-scaled.jpg
END:VEVENT
END:VCALENDAR