BEGIN:VCALENDAR
VERSION:2.0
PRODID:-//Afrikalinks - ECPv6.15.20//NONSGML v1.0//EN
CALSCALE:GREGORIAN
METHOD:PUBLISH
X-ORIGINAL-URL:https://afrikalinks.nl
X-WR-CALDESC:Evenementen voor Afrikalinks
REFRESH-INTERVAL;VALUE=DURATION:PT1H
X-Robots-Tag:noindex
X-PUBLISHED-TTL:PT1H
BEGIN:VTIMEZONE
TZID:Europe/Amsterdam
BEGIN:DAYLIGHT
TZOFFSETFROM:+0100
TZOFFSETTO:+0200
TZNAME:CEST
DTSTART:20210328T010000
END:DAYLIGHT
BEGIN:STANDARD
TZOFFSETFROM:+0200
TZOFFSETTO:+0100
TZNAME:CET
DTSTART:20211031T010000
END:STANDARD
BEGIN:DAYLIGHT
TZOFFSETFROM:+0100
TZOFFSETTO:+0200
TZNAME:CEST
DTSTART:20220327T010000
END:DAYLIGHT
BEGIN:STANDARD
TZOFFSETFROM:+0200
TZOFFSETTO:+0100
TZNAME:CET
DTSTART:20221030T010000
END:STANDARD
BEGIN:DAYLIGHT
TZOFFSETFROM:+0100
TZOFFSETTO:+0200
TZNAME:CEST
DTSTART:20230326T010000
END:DAYLIGHT
BEGIN:STANDARD
TZOFFSETFROM:+0200
TZOFFSETTO:+0100
TZNAME:CET
DTSTART:20231029T010000
END:STANDARD
END:VTIMEZONE
BEGIN:VEVENT
DTSTART;TZID=Europe/Amsterdam:20220527T220000
DTEND;TZID=Europe/Amsterdam:20220527T220000
DTSTAMP:20260424T180021
CREATED:20220421T224504Z
LAST-MODIFIED:20220421T224504Z
UID:370454-1653688800-1653688800@afrikalinks.nl
SUMMARY:Kingdom of Zamunda
DESCRIPTION:Welcome to the Kingdom Of Zamunda💛💜\nWe have reopened the Kingdom to welcome all Kings & Queens\nand everyone in between.\nBringing you a club night filled with Afro\, Afrobeats\, Amapiano & Afrohouse mixed with\, all colors and flavors from the continent of Africa where everybody is welcome. A visit you will remember!\nFriday the 25th of March.\nFrom 22:00 – 04:30\nClub NYX\, Reguliersdwarsstraat 42 Amsterdam\n– – – – – Limited tickets available – – – – – \nROOM 1 – Kingdom Of Zamunda💛💜.\nSeveral sounds from Africa filled with color\, rhythm and dances!\nDJ – Owen Densa\nDJ – Emsi Fly Bokoe\nDJ – Austin-J\nDJ – Unruly Phoenix\nMC – Hightower \nROOM 2 – KION.\nA room filled with sweet future Hip-Hop and R&B!\nDJ – Kaiico\nDJ – Ave\nDJ – Jmac\nDJ – Julian Jermain\nDJ – Gerge Felix\nDJ – Kaiico \nTOILETTES 3: Boudoir We keep it neutral.\n🤎🧡🖤💛💚💙❤🤍 Gender that is!\nDJ – LEEZY WORLD PEACE \nDATE: Friday 25th of March\nTIME: 23:00 – 04:30\nLOCATION: Club NYX\, Reguliersdwarsstraat 42 Amsterdam\nAGE: 18+\nLIMITED TICKETS AVAILABLE
URL:https://afrikalinks.nl/evenementen/kingdom-of-zamunda-2/
LOCATION:Club NYX\, Reguliersdwarsstraat 42\, Amsterdam\, 1017 BM\, NL
CATEGORIES:Dansavonden
ATTACH;FMTTYPE=image/jpeg:https://afrikalinks.nl/wp-content/uploads/2022/04/370454_image_278802306_1456709424748716_8888750299969047697_n.jpg
END:VEVENT
BEGIN:VEVENT
DTSTART;TZID=Europe/Amsterdam:20220527T233000
DTEND;TZID=Europe/Amsterdam:20220528T040000
DTSTAMP:20260424T180021
CREATED:20220312T093002Z
LAST-MODIFIED:20220524T203732Z
UID:370250-1653694200-1653710400@afrikalinks.nl
SUMMARY:Mama Africa | Nijmegen
DESCRIPTION:Mama Africa will be back in Nijmegen on the 27th of May
URL:https://afrikalinks.nl/evenementen/mama-africa-nijmegen/
LOCATION:Waalhalla Centrum\, Winselingseweg 12\, Nijmegen\, 6541 AK\, NL
CATEGORIES:Dansavonden
ATTACH;FMTTYPE=image/jpeg:https://afrikalinks.nl/wp-content/uploads/2022/03/370250_image_276155348_1106895286712470_6161135939340663427_n.jpg
END:VEVENT
END:VCALENDAR