BEGIN:VCALENDAR
VERSION:2.0
PRODID:-//Afrikalinks - ECPv6.15.20//NONSGML v1.0//EN
CALSCALE:GREGORIAN
METHOD:PUBLISH
X-ORIGINAL-URL:https://afrikalinks.nl
X-WR-CALDESC:Evenementen voor Afrikalinks
REFRESH-INTERVAL;VALUE=DURATION:PT1H
X-Robots-Tag:noindex
X-PUBLISHED-TTL:PT1H
BEGIN:VTIMEZONE
TZID:Europe/Amsterdam
BEGIN:DAYLIGHT
TZOFFSETFROM:+0100
TZOFFSETTO:+0200
TZNAME:CEST
DTSTART:20210328T010000
END:DAYLIGHT
BEGIN:STANDARD
TZOFFSETFROM:+0200
TZOFFSETTO:+0100
TZNAME:CET
DTSTART:20211031T010000
END:STANDARD
BEGIN:DAYLIGHT
TZOFFSETFROM:+0100
TZOFFSETTO:+0200
TZNAME:CEST
DTSTART:20220327T010000
END:DAYLIGHT
BEGIN:STANDARD
TZOFFSETFROM:+0200
TZOFFSETTO:+0100
TZNAME:CET
DTSTART:20221030T010000
END:STANDARD
BEGIN:DAYLIGHT
TZOFFSETFROM:+0100
TZOFFSETTO:+0200
TZNAME:CEST
DTSTART:20230326T010000
END:DAYLIGHT
BEGIN:STANDARD
TZOFFSETFROM:+0200
TZOFFSETTO:+0100
TZNAME:CET
DTSTART:20231029T010000
END:STANDARD
END:VTIMEZONE
BEGIN:VEVENT
DTSTART;TZID=Europe/Amsterdam:20220525T230000
DTEND;TZID=Europe/Amsterdam:20220526T040000
DTSTAMP:20260424T180022
CREATED:20220524T203734Z
LAST-MODIFIED:20220524T203734Z
UID:370571-1653519600-1653537600@afrikalinks.nl
SUMMARY:Community - Mama Africa Soundsystem\, Lee Millah & Gaspy
DESCRIPTION:Amsterdam is vele talenten rijk en community viert het bestaan van de creatieve gemeenschap in onze hoofdstad. Na een geweldige eerste editie in Club Up is community tijdens Hemelvaartsnacht terug in Bitterzoet! Goed nieuws! Bijna iedereen is vrij op donderdag! Houd jij ervan om te dansen\, zingen en socializen in fijn gezelschap? Dan is Community jouw feestje! \n🎧  Line-up: Mama Africa Soundsystem\, Gaspy\, Lee Millah and Stacey. Hosted by: MC Nana. \n🎧 Music we like: Hip Hop\, R&B\, Dancehall\, Afro\, UK Sounds\, Funk\, Disco\, Classics. \n🎧 Artists we might play: Prince\, Beyonce\, Idaly\, WSTRN\, Wizkid\, Omah Lay\, Jarreau Vandal\, DJ Spinna\, RDX\, Rihanna\, Purple Disco Machine\, Burnaboy\, Beenie Man and many more. \n📱Instagram – https://instagram.com/community.amsterdam/\n📱Spotify – https://tinyurl.com/communityonspotify
URL:https://afrikalinks.nl/evenementen/community-mama-africa-soundsystem-lee-millah-gaspy/
LOCATION:Bitterzoet\, Spuistraat 2\, Amsterdam\, 1012TS\, NL
CATEGORIES:Dansavonden
ATTACH;FMTTYPE=image/jpeg:https://afrikalinks.nl/wp-content/uploads/2022/05/370571_image_280536204_123920163620283_1045000040419130218_n.jpg
END:VEVENT
END:VCALENDAR