BEGIN:VCALENDAR
VERSION:2.0
PRODID:-//Afrikalinks - ECPv6.15.20//NONSGML v1.0//EN
CALSCALE:GREGORIAN
METHOD:PUBLISH
X-ORIGINAL-URL:https://afrikalinks.nl
X-WR-CALDESC:Evenementen voor Afrikalinks
REFRESH-INTERVAL;VALUE=DURATION:PT1H
X-Robots-Tag:noindex
X-PUBLISHED-TTL:PT1H
BEGIN:VTIMEZONE
TZID:Europe/Amsterdam
BEGIN:DAYLIGHT
TZOFFSETFROM:+0100
TZOFFSETTO:+0200
TZNAME:CEST
DTSTART:20210328T010000
END:DAYLIGHT
BEGIN:STANDARD
TZOFFSETFROM:+0200
TZOFFSETTO:+0100
TZNAME:CET
DTSTART:20211031T010000
END:STANDARD
BEGIN:DAYLIGHT
TZOFFSETFROM:+0100
TZOFFSETTO:+0200
TZNAME:CEST
DTSTART:20220327T010000
END:DAYLIGHT
BEGIN:STANDARD
TZOFFSETFROM:+0200
TZOFFSETTO:+0100
TZNAME:CET
DTSTART:20221030T010000
END:STANDARD
BEGIN:DAYLIGHT
TZOFFSETFROM:+0100
TZOFFSETTO:+0200
TZNAME:CEST
DTSTART:20230326T010000
END:DAYLIGHT
BEGIN:STANDARD
TZOFFSETFROM:+0200
TZOFFSETTO:+0100
TZNAME:CET
DTSTART:20231029T010000
END:STANDARD
END:VTIMEZONE
BEGIN:VEVENT
DTSTART;TZID=Europe/Amsterdam:20220506T210000
DTEND;TZID=Europe/Amsterdam:20220507T020000
DTSTAMP:20260424T162519
CREATED:20220421T150538Z
LAST-MODIFIED:20220421T150538Z
UID:370434-1651870800-1651888800@afrikalinks.nl
SUMMARY:Mama Africa on the Beach
DESCRIPTION:Sunny days ahead so it’s time to go back to the beach and celebrate life! Mama Africa will be back at beach club Indigo on the 6th of May!\nSo get your summer outfit ready\, dust off those sunglasses\, gather the squad because this will be another legendary edition. \nMake sure you’re ready since we always sell out our beach editions!\nTickets-> https://bit.ly/mamabeachedition \nTime: 21:00 till 02:00\n18+ \nGet in the mood by listening to our Mama Africa playlist:\nSpotify: https://spoti.fi/3BuELOe\nDeezer: https://bit.ly/3LHhPA8 \nMama Africa is brought to you by LITT Events\nOur socials & more: www.linksome.me/littevents
URL:https://afrikalinks.nl/evenementen/mama-africa-on-the-beach/
LOCATION:Beachclub Indigo\, Strandweg 65\, Scheveningen\, 2586JL\, NL
CATEGORIES:Dansavonden
ATTACH;FMTTYPE=image/jpeg:https://afrikalinks.nl/wp-content/uploads/2022/04/370434_image_277783809_1115004782568187_4914899613881444979_n.jpg
END:VEVENT
BEGIN:VEVENT
DTSTART;TZID=Europe/Amsterdam:20220507T210000
DTEND;TZID=Europe/Amsterdam:20220508T020000
DTSTAMP:20260424T162519
CREATED:20220406T000533Z
LAST-MODIFIED:20220419T114800Z
UID:370356-1651957200-1651975200@afrikalinks.nl
SUMMARY:Africa Night 24th Anniversary Party!
DESCRIPTION:DUTCH BELOW\nAfrica Night will celebrate her 24th anniversary with a great party in the intimate and close setting of De Steeg in Moergestel. The party will be from 21:00 – 02:00 hours. \nThe first 10 ladies to arrive will get a pair of African earrings of their choice! More goodies will be announced soon. \nDress Code: COLOUR RED! (Compulsory! No Red\, No Goodies!) \nTicket link: www.ticketkantoor.nl/shop/root5 \nThere will be African food as always. \nDe Steeg in Moergestel is a small but cosy location. There is only place for 70 people. Be sure to reserve your ticket fast before it is sold out! NO SALES AT THE DOOR IF ONLINE TICKETS ARE SOLD OUT! \nAfrica Night viert haar 24 jarig jubileum met een groot feest in het intieme en hechte setting van De Steeg in Moergestel. Het feest begint om 21:00 – 02:00 uur. \nDe eerste 10 dames die arriveren\, krijgen een paar Afrikaanse oorbellen naar keuze! Binnenkort worden er nog meer goodies bekend gemaakt. \nDresscode: KLEUR ROOD! (Verplicht! Geen rood\, geen goodies!) \nTicket link: www.ticketkantoor.nl/shop/root5 \nZoals altijd zal er Afrikaans eten zijn. \nDe Steeg in Moergestel is een kleine doch gezellige locatie. Er is slechts plek voor 70 personen. Zorg ervoor dat je snel je ticket reserveert voordat het uitverkocht is! GEEN VERKOOP AAN DE DEUR ALS ONLINE TICKETS UITVERKOCHT ZIJN!
URL:https://afrikalinks.nl/evenementen/africa-night-24th-anniversary-party/
LOCATION:RooT Eet- & Borrelhuys / de Steeg Moergestel\, Rootven 2\, Moergestel\, 5066 AW\, NL
CATEGORIES:Dansavonden
ATTACH;FMTTYPE=image/jpeg:https://afrikalinks.nl/wp-content/uploads/2022/04/370356_image_277733891_1675689222766281_3359390350547863149_n.jpg
END:VEVENT
END:VCALENDAR