BEGIN:VCALENDAR
VERSION:2.0
PRODID:-//Afrikalinks - ECPv6.15.20//NONSGML v1.0//EN
CALSCALE:GREGORIAN
METHOD:PUBLISH
X-WR-CALNAME:Afrikalinks
X-ORIGINAL-URL:https://afrikalinks.nl
X-WR-CALDESC:Evenementen voor Afrikalinks
REFRESH-INTERVAL;VALUE=DURATION:PT1H
X-Robots-Tag:noindex
X-PUBLISHED-TTL:PT1H
BEGIN:VTIMEZONE
TZID:Europe/Amsterdam
BEGIN:DAYLIGHT
TZOFFSETFROM:+0100
TZOFFSETTO:+0200
TZNAME:CEST
DTSTART:20210328T010000
END:DAYLIGHT
BEGIN:STANDARD
TZOFFSETFROM:+0200
TZOFFSETTO:+0100
TZNAME:CET
DTSTART:20211031T010000
END:STANDARD
BEGIN:DAYLIGHT
TZOFFSETFROM:+0100
TZOFFSETTO:+0200
TZNAME:CEST
DTSTART:20220327T010000
END:DAYLIGHT
BEGIN:STANDARD
TZOFFSETFROM:+0200
TZOFFSETTO:+0100
TZNAME:CET
DTSTART:20221030T010000
END:STANDARD
BEGIN:DAYLIGHT
TZOFFSETFROM:+0100
TZOFFSETTO:+0200
TZNAME:CEST
DTSTART:20230326T010000
END:DAYLIGHT
BEGIN:STANDARD
TZOFFSETFROM:+0200
TZOFFSETTO:+0100
TZNAME:CET
DTSTART:20231029T010000
END:STANDARD
END:VTIMEZONE
BEGIN:VEVENT
DTSTART;TZID=Europe/Amsterdam:20220429T233000
DTEND;TZID=Europe/Amsterdam:20220430T040000
DTSTAMP:20260424T175951
CREATED:20220312T093000Z
LAST-MODIFIED:20220312T093000Z
UID:370247-1651275000-1651291200@afrikalinks.nl
SUMMARY:Mama Africa | Utrecht
DESCRIPTION:Mama Africa is finally coming back to Utrecht on the 29th of April. Join us for your well-deserved mix of the best Afro Beats\, Azonto\, Kuduro\, Coupé Décalé\, Ndombolo & more African vibes! \nAll previous editions we’re sold out in the pre-sale so don’t snooze!\nGrab your tickets here: https://bit.ly/mamautrecht8 \nTime: 23:30 till 04:00\n18+ \nGet in the mood by listening to our Mama Africa playlist:\nSpotify: https://spoti.fi/3BuELOe\nDeezer: https://bit.ly/3LHhPA8 \nFor now this event will be a 1G event\, however\, we assume most COVID measures will be lifted by the 29th of April\, we will give you all updates if relevant info gets released by the Dutch government.\n1G events would require all visitors to be tested negative\, more info-> https://www.testenvoortoegang.org/ \nBrought to you by LITT Events
URL:https://afrikalinks.nl/evenementen/mama-africa-utrecht/
LOCATION:TivoliVredenburg\, Vredenburgkade 11\, Utrecht\, 3511 WC\, NL
CATEGORIES:Dansavonden
ATTACH;FMTTYPE=image/jpeg:https://afrikalinks.nl/wp-content/uploads/2022/03/370247_image_275502100_1098838914184774_4235561314654124471_n.jpg
END:VEVENT
END:VCALENDAR