BEGIN:VCALENDAR
VERSION:2.0
PRODID:-//Afrikalinks - ECPv6.15.20//NONSGML v1.0//EN
CALSCALE:GREGORIAN
METHOD:PUBLISH
X-WR-CALNAME:Afrikalinks
X-ORIGINAL-URL:https://afrikalinks.nl
X-WR-CALDESC:Evenementen voor Afrikalinks
REFRESH-INTERVAL;VALUE=DURATION:PT1H
X-Robots-Tag:noindex
X-PUBLISHED-TTL:PT1H
BEGIN:VTIMEZONE
TZID:Europe/Amsterdam
BEGIN:DAYLIGHT
TZOFFSETFROM:+0100
TZOFFSETTO:+0200
TZNAME:CEST
DTSTART:20210328T010000
END:DAYLIGHT
BEGIN:STANDARD
TZOFFSETFROM:+0200
TZOFFSETTO:+0100
TZNAME:CET
DTSTART:20211031T010000
END:STANDARD
BEGIN:DAYLIGHT
TZOFFSETFROM:+0100
TZOFFSETTO:+0200
TZNAME:CEST
DTSTART:20220327T010000
END:DAYLIGHT
BEGIN:STANDARD
TZOFFSETFROM:+0200
TZOFFSETTO:+0100
TZNAME:CET
DTSTART:20221030T010000
END:STANDARD
BEGIN:DAYLIGHT
TZOFFSETFROM:+0100
TZOFFSETTO:+0200
TZNAME:CEST
DTSTART:20230326T010000
END:DAYLIGHT
BEGIN:STANDARD
TZOFFSETFROM:+0200
TZOFFSETTO:+0100
TZNAME:CET
DTSTART:20231029T010000
END:STANDARD
END:VTIMEZONE
BEGIN:VEVENT
DTSTART;TZID=Europe/Amsterdam:20220423T233000
DTEND;TZID=Europe/Amsterdam:20220424T040000
DTSTAMP:20260424T204615
CREATED:20220312T092959Z
LAST-MODIFIED:20220312T092959Z
UID:370245-1650756600-1650772800@afrikalinks.nl
SUMMARY:Mama Africa XL | Amsterdam
DESCRIPTION:Mama Africa will be back in Amsterdam and this time for a special XL edition at Melkweg on the 23rd of April.\nMama Africa serves you a mix of the best Afro Beats\, Azonto\, Kuduro\, Coupé Décalé\, Ndombolo & more African vibes! \nIt’s been a while so we advise everyone to buy their tickets asap!\nGrab your tickets here: https://bit.ly/mamamelkweg\nTime: 23:30 till 04:00\n18+ \nGet in the mood by listening to our Mama Africa playlist:\nSpotify: https://spoti.fi/3BuELOe\nDeezer: https://bit.ly/3LHhPA8 \nWe assume most COVID measures will be lifted by the 23rd of April\, we will give you all updates if relevant info gets released by the Dutch government \nBrought to you by LITT Events\nMama Africa is for everyone who feels connected to Africa!
URL:https://afrikalinks.nl/evenementen/mama-africa-xl-amsterdam/
LOCATION:Melkweg Amsterdam\, Lijnbaansgracht 234a\, Amsterdam\, 1017 PH\, NL
CATEGORIES:Dansavonden
ATTACH;FMTTYPE=image/jpeg:https://afrikalinks.nl/wp-content/uploads/2022/03/370245_image_274645763_1091410371594295_3047615911968970296_n.jpg
END:VEVENT
END:VCALENDAR