BEGIN:VCALENDAR
VERSION:2.0
PRODID:-//Afrikalinks - ECPv6.15.20//NONSGML v1.0//EN
CALSCALE:GREGORIAN
METHOD:PUBLISH
X-ORIGINAL-URL:https://afrikalinks.nl
X-WR-CALDESC:Evenementen voor Afrikalinks
REFRESH-INTERVAL;VALUE=DURATION:PT1H
X-Robots-Tag:noindex
X-PUBLISHED-TTL:PT1H
BEGIN:VTIMEZONE
TZID:Europe/Amsterdam
BEGIN:DAYLIGHT
TZOFFSETFROM:+0100
TZOFFSETTO:+0200
TZNAME:CEST
DTSTART:20210328T010000
END:DAYLIGHT
BEGIN:STANDARD
TZOFFSETFROM:+0200
TZOFFSETTO:+0100
TZNAME:CET
DTSTART:20211031T010000
END:STANDARD
BEGIN:DAYLIGHT
TZOFFSETFROM:+0100
TZOFFSETTO:+0200
TZNAME:CEST
DTSTART:20220327T010000
END:DAYLIGHT
BEGIN:STANDARD
TZOFFSETFROM:+0200
TZOFFSETTO:+0100
TZNAME:CET
DTSTART:20221030T010000
END:STANDARD
BEGIN:DAYLIGHT
TZOFFSETFROM:+0100
TZOFFSETTO:+0200
TZNAME:CEST
DTSTART:20230326T010000
END:DAYLIGHT
BEGIN:STANDARD
TZOFFSETFROM:+0200
TZOFFSETTO:+0100
TZNAME:CET
DTSTART:20231029T010000
END:STANDARD
END:VTIMEZONE
BEGIN:VEVENT
DTSTART;TZID=Europe/Amsterdam:20220305T210000
DTEND;TZID=Europe/Amsterdam:20220306T020000
DTSTAMP:20260424T192215
CREATED:20220224T233639Z
LAST-MODIFIED:20220719T145539Z
UID:370093-1646514000-1646532000@afrikalinks.nl
SUMMARY:Africa Night Party Moergestel
DESCRIPTION:Africa Night continues with another party in the intimate and close setting of De Steeg in Moergestel. As usual we are welcoming you to the dance floor with an  online reservations-only party in Moergestel. This party is for die-hard African music lovers.  The party will be from 21:00 – 02:00 hours.  Be sure to book your ticket fast before it is sold out! \nGet your tickets here -> https://www.ticketkantoor.nl/shop/root3
URL:https://afrikalinks.nl/evenementen/africa-night-party-moergestel/
LOCATION:Bar de Steeg\, Rootven 6\, Moergestel\, 5066 AW\, NL
CATEGORIES:Dansavonden
ATTACH;FMTTYPE=image/jpeg:https://afrikalinks.nl/wp-content/uploads/2022/02/370093_image_274553951_1646293369039200_4838379677129895104_n.jpg
END:VEVENT
BEGIN:VEVENT
DTSTART;TZID=Europe/Amsterdam:20220312T223000
DTEND;TZID=Europe/Amsterdam:20220313T040000
DTSTAMP:20260424T192215
CREATED:20220225T001103Z
LAST-MODIFIED:20220225T001641Z
UID:370125-1647124200-1647144000@afrikalinks.nl
SUMMARY:Mama Africa | Antwerpen
DESCRIPTION:Mama Africa will be back in Antwerp on the 12th of March to bring you the hottest tunes from the motherland!  \nMake sure you buy your tickets ahead of time-> https://bit.ly/mama-antwerp2 \nThe best Afro Beats\, Azonto\, Kuduro\, Coupé Décalé\, Ndombolo & more!No matter where you are from just come through to celebrate African music and culture! \nCovid related measures TBA \nBrought to you by LITT EventsMama Africa is for everyone who feels connected to Africa! \nhttps://www.facebook.com/events/4926724874061970/
URL:https://afrikalinks.nl/evenementen/mama-africa-antwerpen-2/
LOCATION:Plein Publiek\, Plein Publiek
CATEGORIES:Dansavonden
ATTACH;FMTTYPE=image/jpeg:https://afrikalinks.nl/wp-content/uploads/2022/02/370125_image_272989061_1076537736414892_1664895086476565632_n.jpg
END:VEVENT
BEGIN:VEVENT
DTSTART;TZID=Europe/Amsterdam:20220319T210000
DTEND;TZID=Europe/Amsterdam:20220320T020000
DTSTAMP:20260424T192215
CREATED:20220225T003135Z
LAST-MODIFIED:20220225T003600Z
UID:370151-1647723600-1647741600@afrikalinks.nl
SUMMARY:Africa Night Party Eindhoven
DESCRIPTION:Africa Night continues with a special party in Eindhoven. As usual we are welcoming you to the dance floor with an online reservations-only party in Ski Fit Partycentrum in Eindhoven. This party is for die-hard African music lovers. \nBe sure to book your ticket fast before it is sold out again!\nhttps://ticketkantoor.nl/shop/ski3 \nNO SALES AT THE DOOR! \nGate fee: €15:00 \nTime: 21:00 – 02:00+ Hours \nSki Fit Partycentrum\nVijfkamplaan 16\n5624 EB Eindhoven \nParking is free! \nFor more information check out https://africanight.nl\nCall/WhatsApp us on +31650989243.
URL:https://afrikalinks.nl/evenementen/africa-night-party-eindhoven/
LOCATION:SkiFit Eindhoven\, Vijfkamplaan 16\, Eindhoven\, 5624EB\, NL
CATEGORIES:Dansavonden
ATTACH;FMTTYPE=image/jpeg:https://afrikalinks.nl/wp-content/uploads/2022/02/370151_image_274631618_1648999302101940_8589947059778745012_n.jpg
END:VEVENT
BEGIN:VEVENT
DTSTART;TZID=Europe/Amsterdam:20220325T230000
DTEND;TZID=Europe/Amsterdam:20220325T230000
DTSTAMP:20260424T192215
CREATED:20220308T190421Z
LAST-MODIFIED:20220308T190421Z
UID:370220-1648249200-1648249200@afrikalinks.nl
SUMMARY:Kingdom Of Zamunda
DESCRIPTION:Welcome to the Kingdom Of Zamunda💛💜 \nWe have reopened the Kingdom to welcome all Kings & Queens\nand everyone in between. \nBringing you a club night filled with Afro\, Afrobeats\, Amapiano & Afrohouse mixed with\, all colors and flavors from the continent of Africa where everybody is welcome. A visit you will remember! \nFriday the 25th of March.\nFrom 23:00 – 04:30\nClub NYX\, Reguliersdwarsstraat 42 Amsterdam\n– – – – – Limited tickets available – – – – – \nROOM 1 – Kingdom Of Zamunda💛💜.\nSeveral sounds from Africa filled with color\, rhythm and dances!\nDJ – Owen Densa\nDJ – Emsi FlyBoekoe\nDJ – Austin-J\nDJ – UnrulyPhoenix\nMC – Precious \nROOM 2 – Shelly’s Shell down💗.\nA room filled with real sweet tropical vibes from the Caribbean!\nDJ – Maura-V\nDJ – D’Socalyon\nDJ – Rachaila\nDJ – Rowstone \nTOILETTES 3: Boudoir We keep it neutral.\n🤎🧡🖤💛💚💙❤🤍 Gender that is!\nDJ – LEEZY WORLD PEACE \nDATE: Friday 25th of March\nTIME: 23:00 – 04:30\nLOCATION: Club NYX\, Reguliersdwarsstraat 42 Amsterdam\nAGE: 18+\nLIMITED TICKETS AVAILABLE\nhttps://eventix.shop/2ar7t8g8
URL:https://afrikalinks.nl/evenementen/kingdom-of-zamunda/
LOCATION:Club NYX\, Reguliersdwarsstraat 42\, Amsterdam\, 1017 BM\, NL
CATEGORIES:Dansavonden
ATTACH;FMTTYPE=image/jpeg:https://afrikalinks.nl/wp-content/uploads/2022/03/370220_image_274700910_1422356451517347_550288683563572421_n.jpg
END:VEVENT
BEGIN:VEVENT
DTSTART;TZID=Europe/Amsterdam:20220326T230000
DTEND;TZID=Europe/Amsterdam:20220327T050000
DTSTAMP:20260424T192215
CREATED:20220308T140315Z
LAST-MODIFIED:20220308T140315Z
UID:370214-1648335600-1648357200@afrikalinks.nl
SUMMARY:Afroholic Presents - AMAPIANO | ALL WHITE BOAT PARTY
DESCRIPTION:𝗢𝗻𝗲 𝗼𝗳 𝗔𝗺𝘀𝘁𝗲𝗿𝗱𝗮𝗺’𝘀 𝗯𝗮𝗱𝗱𝗲𝘀𝘁 𝗣𝗮𝗿𝘁𝗶𝗲𝘀. 🥳 \n𝑨𝑭𝑹𝑶𝑯𝑶𝑳𝑰𝑪 presents: 𝗔𝗠𝗔𝗣𝗜𝗔𝗡𝗢 | 𝗔𝗟𝗟 𝗪𝗛𝗜𝗧𝗘 𝗕𝗢𝗔𝗧 𝗣𝗔𝗥𝗧𝗬 \nThis event will be taking place in one of the most beautiful cities in Europe; Amsterdam. 🇳🇱 \n𝑨𝑭𝑹𝑶𝑯𝑶𝑳𝑰𝑪 will be bringing together some of the best dj’s strictily specialized in 𝗔𝗠𝗔𝗣𝗜𝗔𝗡𝗢. Sounds supported by other of genre such as 𝗔𝗙𝗥𝗢𝗕𝗘𝗔𝗧𝗦\, 𝗛𝗜𝗣 𝗛𝗢𝗣 & 𝗕𝗔𝗦𝗛𝗠𝗘𝗡𝗧. 🌍 \n💿 𝐋𝐈𝐍𝐄 𝐔𝐏 🎵  \n🇳🇱 BADGUYZ\n🇳🇱 DJ MELV!EE\n🇳🇱 DJ AFROPROF\n🇰🇪 DEEJAY KACE\n🇧🇪 DJ OPANKA \n🎤 𝐇𝐎𝐒𝐓 ⚡\n🇳🇱 MC FLEXBOA \n🎫 𝐓𝐈𝐂𝐊𝐄𝐓𝐒 🚀 \nWWW.LINKTR.EE/AFROHOLIC
URL:https://afrikalinks.nl/evenementen/afroholic-presents-amapiano-all-white-boat-party/
LOCATION:De Ruijterkade\, 1012 Amsterdam\, Nederland
CATEGORIES:Dansavonden
ATTACH;FMTTYPE=image/jpeg:https://afrikalinks.nl/wp-content/uploads/2022/03/370214_image_274861870_491123925801896_4104326517741697521_n.jpg
END:VEVENT
BEGIN:VEVENT
DTSTART;TZID=Europe/Amsterdam:20220326T233000
DTEND;TZID=Europe/Amsterdam:20220327T040000
DTSTAMP:20260424T192215
CREATED:20220224T235849Z
LAST-MODIFIED:20220225T001642Z
UID:370112-1648337400-1648353600@afrikalinks.nl
SUMMARY:Mama Africa | Rotterdam
DESCRIPTION:Mama Africa will finally be back in Rotterdam on the 26th of March! We’re bringing the African heat to Bird so make sure you don’t miss out!Mama Africa serves you a mix of the best Afro Beats\, Azonto\, Kuduro\, Coupé Décalé\, Ndombolo & more African vibes! \nThe capacity is limited so don’t snooze on those tickets!Grab your tickets here: https://bit.ly/mama-rotterdam \nTime: 23:30 till 04:0018+ \nGet in the mood by listening to our Mama Africa playlist:Spotify: https://spoti.fi/3BuELOeDeezer: https://bit.ly/3LHhPA8 \nWe assume most COVID measures will be lifted by the 26th of March\, we will give you all updates if relevant info gets released by the Dutch government \nBrought to you by LITT EventsMama Africa is for everyone who feels connected to Africa! \nhttps://www.facebook.com/events/322284309715106/
URL:https://afrikalinks.nl/evenementen/mama-africa-rotterdam-2/
LOCATION:BIRD\, BIRD
CATEGORIES:Dansavonden
ATTACH;FMTTYPE=image/jpeg:https://afrikalinks.nl/wp-content/uploads/2022/02/370112_image_274695248_1090518478350151_8337638224165022996_n.jpg
END:VEVENT
END:VCALENDAR