BEGIN:VCALENDAR
VERSION:2.0
PRODID:-//Afrikalinks - ECPv6.15.20//NONSGML v1.0//EN
CALSCALE:GREGORIAN
METHOD:PUBLISH
X-WR-CALNAME:Afrikalinks
X-ORIGINAL-URL:https://afrikalinks.nl
X-WR-CALDESC:Evenementen voor Afrikalinks
REFRESH-INTERVAL;VALUE=DURATION:PT1H
X-Robots-Tag:noindex
X-PUBLISHED-TTL:PT1H
BEGIN:VTIMEZONE
TZID:Europe/Amsterdam
BEGIN:DAYLIGHT
TZOFFSETFROM:+0100
TZOFFSETTO:+0200
TZNAME:CEST
DTSTART:20190331T010000
END:DAYLIGHT
BEGIN:STANDARD
TZOFFSETFROM:+0200
TZOFFSETTO:+0100
TZNAME:CET
DTSTART:20191027T010000
END:STANDARD
BEGIN:DAYLIGHT
TZOFFSETFROM:+0100
TZOFFSETTO:+0200
TZNAME:CEST
DTSTART:20200329T010000
END:DAYLIGHT
BEGIN:STANDARD
TZOFFSETFROM:+0200
TZOFFSETTO:+0100
TZNAME:CET
DTSTART:20201025T010000
END:STANDARD
BEGIN:DAYLIGHT
TZOFFSETFROM:+0100
TZOFFSETTO:+0200
TZNAME:CEST
DTSTART:20210328T010000
END:DAYLIGHT
BEGIN:STANDARD
TZOFFSETFROM:+0200
TZOFFSETTO:+0100
TZNAME:CET
DTSTART:20211031T010000
END:STANDARD
END:VTIMEZONE
BEGIN:VEVENT
DTSTART;TZID=Europe/Amsterdam:20201003T233000
DTEND;TZID=Europe/Amsterdam:20201004T043000
DTSTAMP:20260426T064153
CREATED:20200518T190750Z
LAST-MODIFIED:20200518T190750Z
UID:368149-1601767800-1601785800@afrikalinks.nl
SUMMARY:Mama Africa XL | Utrecht
DESCRIPTION:This event has been moved to Saturday 3 October\, following the outbreak of the coronavirus and the national ban on events by the Dutch government. In this way\, we also hope to prevent the further spread of the virus (COVID-19). You can find the up-to-date information here: www.tivolivredenburg.nl/coronavirus \nTickets remain valid for the new date. An email with more information will be sent to the ticket buyers. Due to the size of our program\, it may take some time before you receive this email. I am sure you understand that this situation has a major impact on our organization. We\, therefore\, ask you to keep a close eye on our website\, and not to email or call us to ask for more information. \n———————– \nMama Africa will be back in Utrecht on the 3rd of October  http://bit.ly/mama-aftermovies \nGet in the mood by listening to our Mama Africa playlist:\nSpotify: https://goo.gl/S91hGB\nDeezer: https://goo.gl/5VXWMM \nMama Africa is for everyone who feels connected to Africa ♥
URL:https://afrikalinks.nl/evenementen/mama-africa-xl-utrecht-2/
LOCATION:TivoliVredenburg\, Vredenburgkade 11\, Utrecht\, 3511 WC\, NL
CATEGORIES:Dansavonden
ATTACH;FMTTYPE=image/jpeg:https://afrikalinks.nl/wp-content/uploads/2020/05/368149_image_96423168_675378889864114_3803410543830630400_o.jpg
END:VEVENT
END:VCALENDAR