BEGIN:VCALENDAR
VERSION:2.0
PRODID:-//Afrikalinks - ECPv6.15.20//NONSGML v1.0//EN
CALSCALE:GREGORIAN
METHOD:PUBLISH
X-WR-CALNAME:Afrikalinks
X-ORIGINAL-URL:https://afrikalinks.nl
X-WR-CALDESC:Evenementen voor Afrikalinks
REFRESH-INTERVAL;VALUE=DURATION:PT1H
X-Robots-Tag:noindex
X-PUBLISHED-TTL:PT1H
BEGIN:VTIMEZONE
TZID:Europe/Amsterdam
BEGIN:DAYLIGHT
TZOFFSETFROM:+0100
TZOFFSETTO:+0200
TZNAME:CEST
DTSTART:20190331T010000
END:DAYLIGHT
BEGIN:STANDARD
TZOFFSETFROM:+0200
TZOFFSETTO:+0100
TZNAME:CET
DTSTART:20191027T010000
END:STANDARD
BEGIN:DAYLIGHT
TZOFFSETFROM:+0100
TZOFFSETTO:+0200
TZNAME:CEST
DTSTART:20200329T010000
END:DAYLIGHT
BEGIN:STANDARD
TZOFFSETFROM:+0200
TZOFFSETTO:+0100
TZNAME:CET
DTSTART:20201025T010000
END:STANDARD
BEGIN:DAYLIGHT
TZOFFSETFROM:+0100
TZOFFSETTO:+0200
TZNAME:CEST
DTSTART:20210328T010000
END:DAYLIGHT
BEGIN:STANDARD
TZOFFSETFROM:+0200
TZOFFSETTO:+0100
TZNAME:CET
DTSTART:20211031T010000
END:STANDARD
END:VTIMEZONE
BEGIN:VEVENT
DTSTART;TZID=Europe/Amsterdam:20200626T200000
DTEND;TZID=Europe/Amsterdam:20200626T230000
DTSTAMP:20260421T174209
CREATED:20200310T194236Z
LAST-MODIFIED:20200518T190655Z
UID:367390-1593201600-1593212400@afrikalinks.nl
SUMMARY:Afrogrooves in Club Nine | TivoliVredenburg
DESCRIPTION:Afrogrooves is een groeiende community van mensen met een gedeelde liefde voor West-Afrikaanse muziek. Tijdens open jamsessies – gehost door Mark Oomen (Zitakula) – worden de hypnotiserende klanken van afrobeat\, afrofunk en highlife verkend en gevierd. De avond wordt geopend door een (wisselende) basisband bestaande uit drums\, percussie\, basgitaar\, gitaar\, toetsen\, blazers en zang. Daarna is er plek voor alle mogelijk denkbare instrumenten. Zo hebben we bijvoorbeeld violen\, doun douns\, een steeldrum\, oud\, dwarsfluit en ngoni als bijzondere toevoeging gehad.
URL:https://afrikalinks.nl/evenementen/afrogrooves-in-club-nine-tivolivredenburg/
LOCATION:TivoliVredenburg\, Vredenburgkade 11\, Utrecht\, 3511 WC\, NL
CATEGORIES:Concerten
ATTACH;FMTTYPE=image/jpeg:https://afrikalinks.nl/wp-content/uploads/2020/03/367390_image_88189326_3341872242508047_423692674004942848_o.jpg
END:VEVENT
END:VCALENDAR