BEGIN:VCALENDAR
VERSION:2.0
PRODID:-//Afrikalinks - ECPv6.15.20//NONSGML v1.0//EN
CALSCALE:GREGORIAN
METHOD:PUBLISH
X-WR-CALNAME:Afrikalinks
X-ORIGINAL-URL:https://afrikalinks.nl
X-WR-CALDESC:Evenementen voor Afrikalinks
REFRESH-INTERVAL;VALUE=DURATION:PT1H
X-Robots-Tag:noindex
X-PUBLISHED-TTL:PT1H
BEGIN:VTIMEZONE
TZID:Europe/Amsterdam
BEGIN:DAYLIGHT
TZOFFSETFROM:+0100
TZOFFSETTO:+0200
TZNAME:CEST
DTSTART:20190331T010000
END:DAYLIGHT
BEGIN:STANDARD
TZOFFSETFROM:+0200
TZOFFSETTO:+0100
TZNAME:CET
DTSTART:20191027T010000
END:STANDARD
BEGIN:DAYLIGHT
TZOFFSETFROM:+0100
TZOFFSETTO:+0200
TZNAME:CEST
DTSTART:20200329T010000
END:DAYLIGHT
BEGIN:STANDARD
TZOFFSETFROM:+0200
TZOFFSETTO:+0100
TZNAME:CET
DTSTART:20201025T010000
END:STANDARD
BEGIN:DAYLIGHT
TZOFFSETFROM:+0100
TZOFFSETTO:+0200
TZNAME:CEST
DTSTART:20210328T010000
END:DAYLIGHT
BEGIN:STANDARD
TZOFFSETFROM:+0200
TZOFFSETTO:+0100
TZNAME:CET
DTSTART:20211031T010000
END:STANDARD
END:VTIMEZONE
BEGIN:VEVENT
DTSTART;TZID=Europe/Amsterdam:20200530T200000
DTEND;TZID=Europe/Amsterdam:20200530T230000
DTSTAMP:20260421T174214
CREATED:20200305T002231Z
LAST-MODIFIED:20200305T002231Z
UID:367135-1590868800-1590879600@afrikalinks.nl
SUMMARY:Nkulee Dube | P60 Amstelveen
DESCRIPTION:Cafe The Zen en P60 brengen Nkulee Dube naar Amstelveen! \nAls dochter van Lucky Dube is Nkulee geen onbekende in de reggae scene. Geen enkele vrouwelijke artiest is erin geslaagd om ethno-soul\, jazz met reggae in één nummer samen te smelten als deze 29-jarige singersongwriter\, zoals Nkulee Dube in zo’n korte tijd heeft gedaan sinds ze aan deze uitdagende en toch spannende industrie. \nSpecial Guest op deze avond is Miriam Simone! Een veelbelovende reggaezangeres en radio-dj uit Nederland met Surinaamse roots. Ze begon al op jonge leeftijd met zingen en werd beïnvloed door o.a. Mary J. Blige\, Sade en Aretha Franklin. Sinds 2009 focust ze zich echter volledig op reggae en heeft sindsdien diverse singles\, mixtapes en EP’s uitgebracht. Op deze avond zal ze nummers van haar nieuwste album “Amsterdam Revival”\, ten gehoren brengen. Een heerlijke roots reggae plaat waarop ze o.a. samenwerkt met Jamaicaanse sterren als Capleton en Sizzla Kalonji. Het album is vanaf april op alle digitale platforms beschikbaar. \n————————————————————- \nP60 Nieuwsbrief\nBlijf op de hoogte van al het nieuws rond de poptempel van Amstelveen via onze nieuwsbrief! Schrijf je NU in via deze link (http://bit.ly/P60Nieuwsbrief)
URL:https://afrikalinks.nl/evenementen/nkulee-dube-p60-amstelveen/
LOCATION:P60\, Stadsplein 100A\, Amstelveen\, 1181ZM\, NL
CATEGORIES:Concerten
ATTACH;FMTTYPE=image/jpeg:https://afrikalinks.nl/wp-content/uploads/2020/03/367135_image_84288981_10158121293754456_4689988327409975296_o.jpg
END:VEVENT
END:VCALENDAR