BEGIN:VCALENDAR
VERSION:2.0
PRODID:-//Afrikalinks - ECPv6.15.20//NONSGML v1.0//EN
CALSCALE:GREGORIAN
METHOD:PUBLISH
X-WR-CALNAME:Afrikalinks
X-ORIGINAL-URL:https://afrikalinks.nl
X-WR-CALDESC:Evenementen voor Afrikalinks
REFRESH-INTERVAL;VALUE=DURATION:PT1H
X-Robots-Tag:noindex
X-PUBLISHED-TTL:PT1H
BEGIN:VTIMEZONE
TZID:Europe/Amsterdam
BEGIN:DAYLIGHT
TZOFFSETFROM:+0100
TZOFFSETTO:+0200
TZNAME:CEST
DTSTART:20190331T010000
END:DAYLIGHT
BEGIN:STANDARD
TZOFFSETFROM:+0200
TZOFFSETTO:+0100
TZNAME:CET
DTSTART:20191027T010000
END:STANDARD
BEGIN:DAYLIGHT
TZOFFSETFROM:+0100
TZOFFSETTO:+0200
TZNAME:CEST
DTSTART:20200329T010000
END:DAYLIGHT
BEGIN:STANDARD
TZOFFSETFROM:+0200
TZOFFSETTO:+0100
TZNAME:CET
DTSTART:20201025T010000
END:STANDARD
BEGIN:DAYLIGHT
TZOFFSETFROM:+0100
TZOFFSETTO:+0200
TZNAME:CEST
DTSTART:20210328T010000
END:DAYLIGHT
BEGIN:STANDARD
TZOFFSETFROM:+0200
TZOFFSETTO:+0100
TZNAME:CET
DTSTART:20211031T010000
END:STANDARD
END:VTIMEZONE
BEGIN:VEVENT
DTSTART;TZID=Europe/Amsterdam:20200528T200000
DTEND;TZID=Europe/Amsterdam:20200528T230000
DTSTAMP:20260421T191525
CREATED:20200207T101138Z
LAST-MODIFIED:20200207T101138Z
UID:2984-1590696000-1590706800@afrikalinks.nl
SUMMARY:Tamikrest • Het Depot
DESCRIPTION:PRAKTISCH\nHet Depot | Martelarenplein 12\n20u | €16 – €19\nCultuurkaart KU Leuven: €14 – €16 \n​Maak je klaar voor de tweede generatie Toeareg-rockers! Tamikrest betekent ‘kruispunt’ in de taal van de Kel Tamashek\, een traditionele nomadische bevolkingsgroep in de Sahara\, beter bekend als de Tuaregs. Het is een geschikte naam voor een band die de waardes van hun tijdloze cultuur mixt met de geluiden en visies die ze onderweg\, op de reizen tussen hun concerten\, hebben ontdekt. Echo’s van dub\, blues\, psychedelica\, funk en zelfs artrock worden naadloos verweven met de muzikale traditie van Tuareg.​ \nTamikrest beschouwt zichzelf als de spirituele kinderen van Tinariwen. Ze spelen rebelse en intens passionele Afrikaanse woestijnblues die de ontreddering en de lamentabele situatie in hun thuisbasis Kidal bijna tastbaar maken.  \nNa hun debuut ‘Adagh’ en de succesvolle opvolger ‘Chatma’ brengen ze met hun derde ‘Kidal’ als vanouds een verhaal over rebellie en verlangen naar vrede en rust. Voor de opname van hun nieuwe album trok de groep naar Bamako waar ze samenwerkten met producers Mark Mullholland en David Odlum.
URL:https://afrikalinks.nl/evenementen/tamikrest-%e2%80%a2-het-depot/
LOCATION:Het Depot\, Martelarenplein 12\, Leuven\, 3000\, BE
CATEGORIES:Concerten
ATTACH;FMTTYPE=image/jpeg:https://afrikalinks.nl/wp-content/uploads/2020/02/2984_image_81894942_10158097528121349_3350597239939530752_o.jpg
END:VEVENT
END:VCALENDAR