BEGIN:VCALENDAR
VERSION:2.0
PRODID:-//Afrikalinks - ECPv6.15.20//NONSGML v1.0//EN
CALSCALE:GREGORIAN
METHOD:PUBLISH
X-WR-CALNAME:Afrikalinks
X-ORIGINAL-URL:https://afrikalinks.nl
X-WR-CALDESC:Evenementen voor Afrikalinks
REFRESH-INTERVAL;VALUE=DURATION:PT1H
X-Robots-Tag:noindex
X-PUBLISHED-TTL:PT1H
BEGIN:VTIMEZONE
TZID:Europe/Amsterdam
BEGIN:DAYLIGHT
TZOFFSETFROM:+0100
TZOFFSETTO:+0200
TZNAME:CEST
DTSTART:20190331T010000
END:DAYLIGHT
BEGIN:STANDARD
TZOFFSETFROM:+0200
TZOFFSETTO:+0100
TZNAME:CET
DTSTART:20191027T010000
END:STANDARD
BEGIN:DAYLIGHT
TZOFFSETFROM:+0100
TZOFFSETTO:+0200
TZNAME:CEST
DTSTART:20200329T010000
END:DAYLIGHT
BEGIN:STANDARD
TZOFFSETFROM:+0200
TZOFFSETTO:+0100
TZNAME:CET
DTSTART:20201025T010000
END:STANDARD
BEGIN:DAYLIGHT
TZOFFSETFROM:+0100
TZOFFSETTO:+0200
TZNAME:CEST
DTSTART:20210328T010000
END:DAYLIGHT
BEGIN:STANDARD
TZOFFSETFROM:+0200
TZOFFSETTO:+0100
TZNAME:CET
DTSTART:20211031T010000
END:STANDARD
END:VTIMEZONE
BEGIN:VEVENT
DTSTART;TZID=Europe/Amsterdam:20200514T203000
DTEND;TZID=Europe/Amsterdam:20200514T233000
DTSTAMP:20260421T191524
CREATED:20200213T233107Z
LAST-MODIFIED:20200213T233107Z
UID:4135-1589488200-1589499000@afrikalinks.nl
SUMMARY:Amadou & Mariam and the Blind Boys of Alabama / De Oosterpoort
DESCRIPTION:Het blinde liefdeskoppel Amadou & Mariam uit Mali tourt samen met de legendarische Blind Boys of Alabama! Met de onweerstaanbare combinatie van afropop en gospel belooft het een avond vol dansplezier! Het Afro-popduo Amadou & Mariam en de soulfulle gospelgroep the Blind Boys of Alabama combineren hedendaagse Afrikaanse sounds met Afro-Amerikaanse rootsmuziek. \nAmadou & Mariam combineren al 40 jaar hun liefde met hun muzikale carrière\, waardoor het duo langzaam de meest beroemde ambassadeurs voor Malinese muziek werden. Het blinde echtpaar werd verliefd in een blindeninstituut in Bamako\, de hoofdstad van Mali. Mariam zingt in het iconische Bambara\, de taal van Mali. Haar man Amadou speelt meesterlijke solo’s en aanstekelijke gitaarriffs. De Blind Boys of Alabama worden wereldwijd herkend als levende legenden in de gospelmuziek. Met vijf Grammy’s en een carrière die 70 jaar beslaat staan de Blind Boys bekend om het overschrijden van muzikale grenzen met hun bijzondere interpretaties. Zo zingt de groep traditionele gospelsongs\, maar ook samenwerkingen met Eric Clapton\, Prince en Tom Waits behoren tot hun repertoire.
URL:https://afrikalinks.nl/evenementen/amadou-mariam-and-the-blind-boys-of-alabama-de-oosterpoort/
LOCATION:De Oosterpoort\, Trompsingel 27\, Groningen\, 9724 DA\, NL
CATEGORIES:Concerten
ATTACH;FMTTYPE=image/jpeg:https://afrikalinks.nl/wp-content/uploads/2020/02/4135_image_79477993_3559861274056055_264674237174775808_o.jpg
END:VEVENT
END:VCALENDAR