BEGIN:VCALENDAR
VERSION:2.0
PRODID:-//Afrikalinks - ECPv6.15.20//NONSGML v1.0//EN
CALSCALE:GREGORIAN
METHOD:PUBLISH
X-ORIGINAL-URL:https://afrikalinks.nl
X-WR-CALDESC:Evenementen voor Afrikalinks
REFRESH-INTERVAL;VALUE=DURATION:PT1H
X-Robots-Tag:noindex
X-PUBLISHED-TTL:PT1H
BEGIN:VTIMEZONE
TZID:Europe/Amsterdam
BEGIN:DAYLIGHT
TZOFFSETFROM:+0100
TZOFFSETTO:+0200
TZNAME:CEST
DTSTART:20190331T010000
END:DAYLIGHT
BEGIN:STANDARD
TZOFFSETFROM:+0200
TZOFFSETTO:+0100
TZNAME:CET
DTSTART:20191027T010000
END:STANDARD
BEGIN:DAYLIGHT
TZOFFSETFROM:+0100
TZOFFSETTO:+0200
TZNAME:CEST
DTSTART:20200329T010000
END:DAYLIGHT
BEGIN:STANDARD
TZOFFSETFROM:+0200
TZOFFSETTO:+0100
TZNAME:CET
DTSTART:20201025T010000
END:STANDARD
BEGIN:DAYLIGHT
TZOFFSETFROM:+0100
TZOFFSETTO:+0200
TZNAME:CEST
DTSTART:20210328T010000
END:DAYLIGHT
BEGIN:STANDARD
TZOFFSETFROM:+0200
TZOFFSETTO:+0100
TZNAME:CET
DTSTART:20211031T010000
END:STANDARD
END:VTIMEZONE
BEGIN:VEVENT
DTSTART;TZID=Europe/Amsterdam:20200412T150000
DTEND;TZID=Europe/Amsterdam:20200412T180000
DTSTAMP:20260422T013352
CREATED:20200210T161242Z
LAST-MODIFIED:20200210T161242Z
UID:3879-1586703600-1586714400@afrikalinks.nl
SUMMARY:MEZZ on tour: Ladysmith Black Mambazo in Chassé Theater
DESCRIPTION:Ladysmith Black Mambazo een koor noemen doet geen recht aan hun status. Het is eerder een cultureel instituut. Ze veroveren de harten van het publiek met hun opzwepende vocale harmonieën en kenmerkende dans. Rond 1970 vestigde Ladysmith Black Mambazo zich als de meest succesvolle zanggroep uit Zuid-Afrika. In 1986 volgde de grote doorbraak toen Paul Simon de rijke harmonieën verwerkte op zijn beroemde Graceland album. In de loop der jaren hebben de oorspronkelijke leden een nieuwe jongere generatie verwelkomd in hun missie met een diep respect voor hun rijke culturele en persoonlijke geschiedenis. Samen verspreiden ze de boodschap ‘Piece\, love and harmony’. Ze zijn al ruim 19 keer genomineerd voor een Grammy en wonnen maar liefst al vijf keer. \nMezz on tour: Mooie concerten op mooie locaties in de stad. Concerten van grotere namen die we niet aan Breda voorbij willen laten gaan doen we in samenwerking met Chassé Theater in één van haar zalen. Deze keer dus Ladysmith Black Mombazo. Voor deze show worden alleen geplaceerde zitplaatsen verkocht via het Chassé Theater. \nAanvang 15.00 uur | Tickets € 28\,50 verkrijgbaar via ChasséTheater
URL:https://afrikalinks.nl/evenementen/mezz-on-tour-ladysmith-black-mambazo-in-chasse-theater/
LOCATION:MEZZ\, Keizerstraat 101\, Breda\, 4811 HL\, NL
CATEGORIES:Concerten
ATTACH;FMTTYPE=image/jpeg:https://afrikalinks.nl/wp-content/uploads/2020/02/3879_image_72185835_2634760629916229_654152454375473152_o.jpg
END:VEVENT
BEGIN:VEVENT
DTSTART;TZID=Europe/Amsterdam:20200412T193000
DTEND;TZID=Europe/Amsterdam:20200412T235900
DTSTAMP:20260422T013352
CREATED:20200209T021852Z
LAST-MODIFIED:20200209T021852Z
UID:3835-1586719800-1586735940@afrikalinks.nl
SUMMARY:Gyedu-Blay Ambolley & his Sekondi band in Paradiso Noord
DESCRIPTION:De ‘James Brown van Ghana’\, zo wordt Gyedu-Blay Ambolley ook wel genoemd. Met zijn volvette afrofunk geluid\, dat hij simigwa-do noemde\, brak hij in 1973 door in de Ghanese muziekscene. Zijn funky\, jazzy en soulvolle benadering van highlife sloeg in als een bom. In de zestiger jaren speelde hij in de Uhuru Dance Band\, en leerde onder meer van Ebo Taylor. Met Taylor richtte hij in 1974 The Apagya Show Band op. Inmiddels zijn we ruim 40 jaar en 30 albums verder en is Ambolley een levende legende. Niet voor niets duikt zijn muziek op op veel hippe re-issues\, van iets obscuurder als Afrodisiac tot labels als Soundway en Analog Africa. Begin 2019 deed hij met zijn eerste Europese tour al Paradiso Noord aan\, nu is hij met zijn Sekondi Band terug voor weer een avond vol groovy afrofunk en highlife. \nMeer informatie en tickets: https://paradi.so/GyeduBlayAmbolley\nTijden onder voorbehoud. \nDit programma is toegankelijk met de Ticket to the Tropics-pas 2020. Pashouders moeten een vrijkaart bestellen via een speciale ticketlink die ze per e-mail ontvangen\, na activatie van de pas. Als je de pas hebt gekocht\, krijg je deze binnen 6 werkdagen thuisgestuurd per post. Entree is alleen op vertoon van vrijkaart EN Ticket to the Tropics-pas 2020. Voor sommige programma’s is een beperkt aantal vrijkaarten beschikbaar.\nMeer over de Ticket to the Tropics-pas: http://paradi.so/TttTpas
URL:https://afrikalinks.nl/evenementen/gyedu-blay-ambolley-his-sekondi-band-in-paradiso-noord/
LOCATION:Paradiso Noord – Tolhuistuin\, IJpromenade 2\, Amsterdam\, NL
CATEGORIES:Concerten
ATTACH;FMTTYPE=image/jpeg:https://afrikalinks.nl/wp-content/uploads/2020/02/3835_image_84403604_1225652724304843_5813391153151606784_o.jpg
END:VEVENT
END:VCALENDAR