BEGIN:VCALENDAR
VERSION:2.0
PRODID:-//Afrikalinks - ECPv6.15.20//NONSGML v1.0//EN
CALSCALE:GREGORIAN
METHOD:PUBLISH
X-WR-CALNAME:Afrikalinks
X-ORIGINAL-URL:https://afrikalinks.nl
X-WR-CALDESC:Evenementen voor Afrikalinks
REFRESH-INTERVAL;VALUE=DURATION:PT1H
X-Robots-Tag:noindex
X-PUBLISHED-TTL:PT1H
BEGIN:VTIMEZONE
TZID:Europe/Amsterdam
BEGIN:DAYLIGHT
TZOFFSETFROM:+0100
TZOFFSETTO:+0200
TZNAME:CEST
DTSTART:20190331T010000
END:DAYLIGHT
BEGIN:STANDARD
TZOFFSETFROM:+0200
TZOFFSETTO:+0100
TZNAME:CET
DTSTART:20191027T010000
END:STANDARD
BEGIN:DAYLIGHT
TZOFFSETFROM:+0100
TZOFFSETTO:+0200
TZNAME:CEST
DTSTART:20200329T010000
END:DAYLIGHT
BEGIN:STANDARD
TZOFFSETFROM:+0200
TZOFFSETTO:+0100
TZNAME:CET
DTSTART:20201025T010000
END:STANDARD
BEGIN:DAYLIGHT
TZOFFSETFROM:+0100
TZOFFSETTO:+0200
TZNAME:CEST
DTSTART:20210328T010000
END:DAYLIGHT
BEGIN:STANDARD
TZOFFSETFROM:+0200
TZOFFSETTO:+0100
TZNAME:CET
DTSTART:20211031T010000
END:STANDARD
END:VTIMEZONE
BEGIN:VEVENT
DTSTART;TZID=Europe/Amsterdam:20200331T200000
DTEND;TZID=Europe/Amsterdam:20200331T230000
DTSTAMP:20260422T025708
CREATED:20200207T101135Z
LAST-MODIFIED:20200207T101135Z
UID:2976-1585684800-1585695600@afrikalinks.nl
SUMMARY:AKA Trio at BOZAR\, Brussels
DESCRIPTION:The AKA TRIO is an international musical summit meeting of three world-renowned virtuosos: Antonio Forcione\, Seckou Keita and Adriano Adewale.\nComing from three different continents – Europe\, Africa and South America – Antonio\, Seckou and Adriano grew up in three different landscapes\, speaking three different languages\, and were formed by three different cultures and musical traditions. All these differences have converged in AKA Trio\, and the product is ‘Joy’\, a new album which will release in May 2019.\nItalian guitarist-composer Antonio Forcione has been travelling the world for over two decades\, releasing twenty albums and collaborating with many major artists along the way\, including such names as Charlie Haden\, Trilok Gurtu\, Angelique Kidjo and the Bulgarian Voices\, amongst many others. Seckou Keita from Senegal is one of the world’s foremost kora players\, involved in many international projects including his ground-breaking duo with Welsh harpist Catrin Finch and his Transparent Water project with Cuban pianist Omar Sosa. Brazilian percussionist and composer Adriano Adewale has collaborated with Bobby McFerrin\, Joanna McGregor and Benjamin Taubkin and has composed music for orchestras and dance theatre.\nTogether they create a joyful\, uplifting and life-affirming musical collaboration.
URL:https://afrikalinks.nl/evenementen/aka-trio-at-bozar-brussels/
LOCATION:BOZAR MUSIC\, Ravensteinstraat 23 | Rue Ravenstein 23\, Brussels\, 1000\, BE
CATEGORIES:Concerten
ATTACH;FMTTYPE=image/jpeg:https://afrikalinks.nl/wp-content/uploads/2020/02/2976_image_81481015_2571497822947328_3860329512021524480_n.jpg
END:VEVENT
END:VCALENDAR