BEGIN:VCALENDAR
VERSION:2.0
PRODID:-//Afrikalinks - ECPv6.15.20//NONSGML v1.0//EN
CALSCALE:GREGORIAN
METHOD:PUBLISH
X-WR-CALNAME:Afrikalinks
X-ORIGINAL-URL:https://afrikalinks.nl
X-WR-CALDESC:Evenementen voor Afrikalinks
REFRESH-INTERVAL;VALUE=DURATION:PT1H
X-Robots-Tag:noindex
X-PUBLISHED-TTL:PT1H
BEGIN:VTIMEZONE
TZID:Europe/Amsterdam
BEGIN:DAYLIGHT
TZOFFSETFROM:+0100
TZOFFSETTO:+0200
TZNAME:CEST
DTSTART:20190331T010000
END:DAYLIGHT
BEGIN:STANDARD
TZOFFSETFROM:+0200
TZOFFSETTO:+0100
TZNAME:CET
DTSTART:20191027T010000
END:STANDARD
BEGIN:DAYLIGHT
TZOFFSETFROM:+0100
TZOFFSETTO:+0200
TZNAME:CEST
DTSTART:20200329T010000
END:DAYLIGHT
BEGIN:STANDARD
TZOFFSETFROM:+0200
TZOFFSETTO:+0100
TZNAME:CET
DTSTART:20201025T010000
END:STANDARD
BEGIN:DAYLIGHT
TZOFFSETFROM:+0100
TZOFFSETTO:+0200
TZNAME:CEST
DTSTART:20210328T010000
END:DAYLIGHT
BEGIN:STANDARD
TZOFFSETFROM:+0200
TZOFFSETTO:+0100
TZNAME:CET
DTSTART:20211031T010000
END:STANDARD
END:VTIMEZONE
BEGIN:VEVENT
DTSTART;TZID=Europe/Amsterdam:20200328T200000
DTEND;TZID=Europe/Amsterdam:20200328T213000
DTSTAMP:20260422T025707
CREATED:20200215T171221Z
LAST-MODIFIED:20200215T171221Z
UID:4188-1585425600-1585431000@afrikalinks.nl
SUMMARY:Aka Trio
DESCRIPTION:Onder deze onopvallende groepsnaam schuilt een internationaal ensemble waarin drie van ‘s werelds meest vooraanstaande virtuozen samen musiceren: Antonio Forcione (gitaar)\, Seckou Keita (kora) en Adriane Adewale (percussie). Forcione bracht meer dan 20 albums uit en werkte o.m. samen met Charlie Haden\, Angelique Kidjo en Bulgarian Voices. Seckou Keita is één van de beste koraspelers\, betrokken in veel internationale projecten o.a. met Catrin Finch (reeds in CC Belgica) en de Cubaanse pianist Omar Sosa. De Braziliaanse percussionist Adriano Adewale werkte samen met Bobby McFerrin\, Joanna Mc Gregor en Benjamin Taubkin en componeerde voor orkest en danstheater.\nSamen brengen ze een staaltje van frisse internationale fusionmuziek. \nOnder deze onopvallende groepsnaam schuilt een internationaal\nensemble waarin drie van ‘s werelds meest vooraanstaande\nvirtuozen samen musiceren. \ngratis ticket in ruil voor 15 UiTpaspunten
URL:https://afrikalinks.nl/evenementen/aka-trio-2/
LOCATION:Cultuurcentrum Belgica\, Kerkstraat 24\, Dendermonde\, 9200\, BE
CATEGORIES:Concerten
ATTACH;FMTTYPE=image/jpeg:https://afrikalinks.nl/wp-content/uploads/2020/02/4188_image_65428226_2345450308844405_3986801889273446400_n.jpg
END:VEVENT
END:VCALENDAR