BEGIN:VCALENDAR
VERSION:2.0
PRODID:-//Afrikalinks - ECPv6.15.20//NONSGML v1.0//EN
CALSCALE:GREGORIAN
METHOD:PUBLISH
X-WR-CALNAME:Afrikalinks
X-ORIGINAL-URL:https://afrikalinks.nl
X-WR-CALDESC:Evenementen voor Afrikalinks
REFRESH-INTERVAL;VALUE=DURATION:PT1H
X-Robots-Tag:noindex
X-PUBLISHED-TTL:PT1H
BEGIN:VTIMEZONE
TZID:Europe/Amsterdam
BEGIN:DAYLIGHT
TZOFFSETFROM:+0100
TZOFFSETTO:+0200
TZNAME:CEST
DTSTART:20190331T010000
END:DAYLIGHT
BEGIN:STANDARD
TZOFFSETFROM:+0200
TZOFFSETTO:+0100
TZNAME:CET
DTSTART:20191027T010000
END:STANDARD
BEGIN:DAYLIGHT
TZOFFSETFROM:+0100
TZOFFSETTO:+0200
TZNAME:CEST
DTSTART:20200329T010000
END:DAYLIGHT
BEGIN:STANDARD
TZOFFSETFROM:+0200
TZOFFSETTO:+0100
TZNAME:CET
DTSTART:20201025T010000
END:STANDARD
BEGIN:DAYLIGHT
TZOFFSETFROM:+0100
TZOFFSETTO:+0200
TZNAME:CEST
DTSTART:20210328T010000
END:DAYLIGHT
BEGIN:STANDARD
TZOFFSETFROM:+0200
TZOFFSETTO:+0100
TZNAME:CET
DTSTART:20211031T010000
END:STANDARD
END:VTIMEZONE
BEGIN:VEVENT
DTSTART;TZID=Europe/Amsterdam:20200326T200000
DTEND;TZID=Europe/Amsterdam:20200326T213000
DTSTAMP:20260422T025714
CREATED:20200207T125248Z
LAST-MODIFIED:20200207T125248Z
UID:3802-1585252800-1585258200@afrikalinks.nl
SUMMARY:AKA Trio
DESCRIPTION:Het AKA Trio is een internationale muzikale topontmoeting van drie wereldberoemde virtuozen: de Italiaanse gitarist Antonio Forcione\, de Senegalese koraspeler Seckou Keita en de Braziliaanse percussionist Adriano Adewale. Afkomstig uit drie continenten\, groeiden ze op in drie totaal verschillende culturen en muzikale tradities. Al deze verschillen komen harmonieus samen op hun eerste album ‘Joy’. Want als mensen reizen en migreren\, als hun identiteiten uitglijden en muteren\, dan is vreugde de vaste grond waarop gemeenschappen kunnen worden gebouwd. Bij het AKA Trio is dat de vreugde om samen muziek te maken. Daarin is het trio werkelijk onovertroffen en laten ze het publiek overal ter wereld opgewonden achter. Een absolute aanrader. \n“Het meest epische trio van muzikale perfectie die ik ooit ben tegengekomen… gebiologeerd” Three Weeks
URL:https://afrikalinks.nl/evenementen/aka-trio/
LOCATION:Cultuurcentrum CasinoKoksijde\, Casinoplein 11\, Koksijde\, 8670\, BE
CATEGORIES:Concerten
ATTACH;FMTTYPE=image/jpeg:https://afrikalinks.nl/wp-content/uploads/2020/02/3802_image_62357925_2218573984858029_7123448576063045632_o.jpg
END:VEVENT
BEGIN:VEVENT
DTSTART;TZID=Europe/Amsterdam:20200326T200000
DTEND;TZID=Europe/Amsterdam:20200326T230000
DTSTAMP:20260422T025714
CREATED:20200207T101136Z
LAST-MODIFIED:20200207T101136Z
UID:2982-1585252800-1585263600@afrikalinks.nl
SUMMARY:Femi Kuti + Camilla George • Het Depot
DESCRIPTION:PRAKTISCH\nHet Depot | Martelarenplein 12\n20u | €25 – €28\nCultuurkaart KU Leuven: €23 – €25 \nFemi Kuti is net zo toegewijd als zijn vader Fela Kuti\, van wie hij de fakkel heeft overgenomen. Hij hekelt in zijn muziek het onrecht\, het machtsmisbruik en de onderdrukking van de volkeren door politieke machthebbers.  \nZijn laatste worp\, ‘One People One World​’\, dateert uit 2018. Activisme staat nog steeds centraal in Femi’s songwriting\, maar elementen van reggae\, soul en calypso zitten nu comfortabel naast zijn handelsmerk van afrobeat-arrangementen. De plaat heeft een politieke boodschap\, maar ook een boodschap van liefde en hoop: “I’m a father and I love my kids\, so I want to give the younger generation a message of hope. Despite all our problems\, we can create greatness in our lives. \n​Op het podium vuurt Femi de menigte aan met een energie van uitbundige soort. In het gezelschap van zijn groep The Positive Force serveert Femi Kuti pure afrobeat met een krachtige toets van de koperblazers! ​ \nSupport-act: Camilla George.\nWarm-up & afterparty: Max le Daron.
URL:https://afrikalinks.nl/evenementen/femi-kuti-camilla-george-%e2%80%a2-het-depot/
LOCATION:Het Depot\, Martelarenplein 12\, Leuven\, 3000\, BE
CATEGORIES:Concerten
ATTACH;FMTTYPE=image/jpeg:https://afrikalinks.nl/wp-content/uploads/2020/02/2982_image_78215389_10157969492051349_8976369395374751744_o.jpg
END:VEVENT
END:VCALENDAR