BEGIN:VCALENDAR
VERSION:2.0
PRODID:-//Afrikalinks - ECPv6.15.20//NONSGML v1.0//EN
CALSCALE:GREGORIAN
METHOD:PUBLISH
X-ORIGINAL-URL:https://afrikalinks.nl
X-WR-CALDESC:Evenementen voor Afrikalinks
REFRESH-INTERVAL;VALUE=DURATION:PT1H
X-Robots-Tag:noindex
X-PUBLISHED-TTL:PT1H
BEGIN:VTIMEZONE
TZID:Europe/Amsterdam
BEGIN:DAYLIGHT
TZOFFSETFROM:+0100
TZOFFSETTO:+0200
TZNAME:CEST
DTSTART:20190331T010000
END:DAYLIGHT
BEGIN:STANDARD
TZOFFSETFROM:+0200
TZOFFSETTO:+0100
TZNAME:CET
DTSTART:20191027T010000
END:STANDARD
BEGIN:DAYLIGHT
TZOFFSETFROM:+0100
TZOFFSETTO:+0200
TZNAME:CEST
DTSTART:20200329T010000
END:DAYLIGHT
BEGIN:STANDARD
TZOFFSETFROM:+0200
TZOFFSETTO:+0100
TZNAME:CET
DTSTART:20201025T010000
END:STANDARD
BEGIN:DAYLIGHT
TZOFFSETFROM:+0100
TZOFFSETTO:+0200
TZNAME:CEST
DTSTART:20210328T010000
END:DAYLIGHT
BEGIN:STANDARD
TZOFFSETFROM:+0200
TZOFFSETTO:+0100
TZNAME:CET
DTSTART:20211031T010000
END:STANDARD
END:VTIMEZONE
BEGIN:VEVENT
DTSTART;TZID=Europe/Amsterdam:20200325T200000
DTEND;TZID=Europe/Amsterdam:20200325T230000
DTSTAMP:20260422T025821
CREATED:20200310T194237Z
LAST-MODIFIED:20200310T194237Z
UID:367393-1585166400-1585177200@afrikalinks.nl
SUMMARY:Afrogrooves: Cavolo Nero
DESCRIPTION:Afrogrooves & Doka Live \nNew year\, fresh ideas! In 2020\, next to organizing jamsessions\, Afrogrooves will be hosting gigs and organize exciting music projects at Doka. These evenings will be a great chance to explore and experiment with ideas that were formed over the past years with our community.  \nCavolo Nero Band\nThe first event in this series is a concert by Cavolo Nero: a seven-headed groove machine with musicians that met each other at the Herman Brood Academie in Utrecht. Back in the days during the first Afrogrooves sessions at Blijburg aan zee they had their first try-out. This time\, they’re going to bring a solid set with authentic\, danceable grooves and hypnotizing rhythms! \nDoka // Entrance 5 euro // Doors open: 20.00 // Show + session: 20.30 – 23.00 \nGet your tickets here: https://www.chipta.com/nl/tickets/event/26876/afrogrooves-cavolo-nero/event-info/ \nCavolo Nero:\nCavolo Nero (zwarte kool) is het ingrediënt voor gerechten als minestrone\, ribollita en allerlei Toscaanse specialiteiten\, maar Cavolo Nero is ook hét ingrediënt van deze inmiddels 7 koppige Afrobeat band\, oorspronkelijk afkomstig van de Herman Brood Academie. Geïnspireerd door bands als Altin Gün en Jungle By Night\, spelen zij moderne Afrobeat\, gemixt met psychedelica en synthesizers. Verwacht vooral veel energie en de drang om mee te dansen op tropische grooves. De band bestaat uit: Chris Walthaus (basgitaar)\, Jelle Crooijmans (gitaar)\, Sjors Derks (gitaar)\, Boudewijn Snijders (keys)\, Daan van de Ven (drums)\, Mischa Tombal (percussie)\, Sem van der Peet (percussie).
URL:https://afrikalinks.nl/evenementen/afrogrooves-cavolo-nero/
LOCATION:Doka\, Wibautstraat 150\, Amsterdam\, 1091 GR\, NL
CATEGORIES:Concerten
ATTACH;FMTTYPE=image/jpeg:https://afrikalinks.nl/wp-content/uploads/2020/03/367393_image_83980174_616204772272287_701567639192862720_o.jpg
END:VEVENT
END:VCALENDAR