BEGIN:VCALENDAR
VERSION:2.0
PRODID:-//Afrikalinks - ECPv6.15.20//NONSGML v1.0//EN
CALSCALE:GREGORIAN
METHOD:PUBLISH
X-WR-CALNAME:Afrikalinks
X-ORIGINAL-URL:https://afrikalinks.nl
X-WR-CALDESC:Evenementen voor Afrikalinks
REFRESH-INTERVAL;VALUE=DURATION:PT1H
X-Robots-Tag:noindex
X-PUBLISHED-TTL:PT1H
BEGIN:VTIMEZONE
TZID:Europe/Amsterdam
BEGIN:DAYLIGHT
TZOFFSETFROM:+0100
TZOFFSETTO:+0200
TZNAME:CEST
DTSTART:20190331T010000
END:DAYLIGHT
BEGIN:STANDARD
TZOFFSETFROM:+0200
TZOFFSETTO:+0100
TZNAME:CET
DTSTART:20191027T010000
END:STANDARD
BEGIN:DAYLIGHT
TZOFFSETFROM:+0100
TZOFFSETTO:+0200
TZNAME:CEST
DTSTART:20200329T010000
END:DAYLIGHT
BEGIN:STANDARD
TZOFFSETFROM:+0200
TZOFFSETTO:+0100
TZNAME:CET
DTSTART:20201025T010000
END:STANDARD
BEGIN:DAYLIGHT
TZOFFSETFROM:+0100
TZOFFSETTO:+0200
TZNAME:CEST
DTSTART:20210328T010000
END:DAYLIGHT
BEGIN:STANDARD
TZOFFSETFROM:+0200
TZOFFSETTO:+0100
TZNAME:CET
DTSTART:20211031T010000
END:STANDARD
END:VTIMEZONE
BEGIN:VEVENT
DTSTART;TZID=Europe/Amsterdam:20200320T220000
DTEND;TZID=Europe/Amsterdam:20200321T030000
DTSTAMP:20260422T030942
CREATED:20200207T101133Z
LAST-MODIFIED:20200207T101133Z
UID:2970-1584741600-1584759600@afrikalinks.nl
SUMMARY:MC Yallah + Debmaster (concert)
DESCRIPTION:Stellar rap in Swahili and Luganda\, set to crazy beats. \nMC Yallah hails from Kenya\, lives and works in Kampala\, Uganda\, and is signed with the brand-new label Hakuna Kulala\, a sub-label of the renowned Nyege Nyege Tapes – organisers of the Nyege Nyege Festival\, which takes place a stone’s throw from the source of the Nile. MC Yallah recorded her debut record at Nyege Nyege’s Boutiq Studio together with the French producer Debmaster\, renowned for his crazy beats.  \nThe combo of Debmaster’s beats and MC Yallah’s baaanging vocals – a mix of Luganda and Swahili – results in sonic fireworks: Resident Advisor called the duo’s intense live performance at Unsound in Poland “one of the five most important performances of the year”. Now they’re touring Europe and will soon be bringing their brand of powerful\, futuristic rap to our rooftop. Prepare for fire!  \ntickets\n€14/€11 (presale)\nbit.ly/MC_Yallah \nfind out more\nEN beursschouwburg.be/en/events/mc-yallah/\nNL beursschouwburg.be/nl/events/mc-yallah/\nFR beursschouwburg.be/fr/events/mc-yallah/
URL:https://afrikalinks.nl/evenementen/mc-yallah-debmaster-concert/
LOCATION:Beursschouwburg\, Auguste Ortsstraat 20 -28\, Brussels\, 1000\, BE
CATEGORIES:Concerten
ATTACH;FMTTYPE=image/jpeg:https://afrikalinks.nl/wp-content/uploads/2020/02/2970_image_82091990_10157734005850782_4862973220497653760_o.jpg
END:VEVENT
BEGIN:VEVENT
DTSTART;TZID=Europe/Amsterdam:20200321T203000
DTEND;TZID=Europe/Amsterdam:20200321T233000
DTSTAMP:20260422T030942
CREATED:20200218T231336Z
LAST-MODIFIED:20200218T231336Z
UID:4285-1584822600-1584833400@afrikalinks.nl
SUMMARY:3MA ft. Ballaké Sissoko\, Driss El Maloumi\, Rajery | Bimhuis
DESCRIPTION:Enchanting string playing by three fantastic musicians from different cultures: Mali\, Morocco and Madagascar.\n______________________________________________________\nBallaké Sissoko has won the hearts of fans all over the world with his magical playing of the kora\, the African harp. The musician from Mali\, the cousin of the famous Toumani Diabaté\,  has played the BIMHUIS several times in various ensembles. Never before has he appeared here with Moroccan oud player Driss El Maloumi\, and Rajery\, master of the valiha\, the Malagasy zither. The three are living far apart\, but that doesn’t show on stage. By entangling sounds and traditions they create music of an unprecedented beauty. Since their first encounter in 2006 their reunions have been highly anticipated. Don’t miss them this time around! \n‘Sparkling beauty … these three musicians bring out the best in each other with their plucked instruments\, which can whisper or shout\, and are able bring the listener into a pleasant state of tranquility’ (MixedWorldMusic). \nBallaké Sissoko kora\, Driss El Maloumi oud\, Rajery valiha.\n______________________________________________________\nTickets: €18 (standing) €21 (seated)\nMore info: bit.ly/3ma2103 \nIn collaboration with Institut français des Pays-Bas
URL:https://afrikalinks.nl/evenementen/3ma-ft-ballake-sissoko-driss-el-maloumi-rajery-bimhuis/
LOCATION:Bimhuis\, Piet Heinkade 3\, Amsterdam\, 1019 BR\, NL
CATEGORIES:Concerten
ATTACH;FMTTYPE=image/jpeg:https://afrikalinks.nl/wp-content/uploads/2020/02/4285_image_80564382_10162665311125402_3508586039964860416_o.jpg
END:VEVENT
BEGIN:VEVENT
DTSTART;TZID=Europe/Amsterdam:20200321T230000
DTEND;TZID=Europe/Amsterdam:20200322T050000
DTSTAMP:20260422T030942
CREATED:20200229T022543Z
LAST-MODIFIED:20200229T022543Z
UID:367067-1584831600-1584853200@afrikalinks.nl
SUMMARY:Eerbetoon Aan Jorge Neto
DESCRIPTION:Eerbetoon aan Jorge Neto\nDe Kaapverdische showbusiness heeft op 20 februari 2020 één van haar grootste entertainers verloren: JORGE NETO.\nEen klasse artiest die vanaf zijn intrede zijn artistieke signatuur heeft achtergelaten met zijn muziek\, stem\, composities\, moves en podiumact.\nOp zaterdag 21 maart 2020 zal\, als eerbetoon aan Jorge Neto\, een concert worden georganiseerd door Kings Productions (Manuel da Silva) en\nCarlos dos Santos Veiga (Calu). Vele collega’s: artiesten\, muzikanten\, dj’s en vrienden zullen ieder hun bijdrage leveren.\nDe volledige opbrengst van het concert gaat naar de familie van Neto die het de afgelopen periode moeilijk hebben gehad én nog steeds hebben nu met zijn plotselinge overlijden.\nKom en geef ook jouw steun. Koop een kaartje voor het concert ter nagedachtenis van Jorge Neto. Neem je familie\, vrienden en kennissen mee en laten we stil staan bij de legacy die Jorge Neto ons voor eeuwig heeft nagelaten\, maar vooral om samen het leven te vieren. \nMet een dik line up aan Artiesten:\nGrace Evora. Gil Semedo. Beto Dias. Ze Delgado Xtrem. Johnny Ramos\, Ata Djudja. Dina Medina . Nhone Lima . Yuka. Jacqueline Fortes. Celestino . Chando Graciosa. Ze Carlos. Tha Real Vibe. Eddy Fortes. Melissa Fortes. Iolass Pires. Luis Monteiro Xtrem.. Nenny Silva. Marizia do Rosario. Djenio Semedo. Sam Fortes. Luis Fortes . Beto Alves. Lily Spencer. Luis Tavares. Lena Evora. Marlena Fonseca. Linete Lopes. Marlena Fortes \nDjs: Nos Manera. Fantastic. La Cruz. Tchida. Boni \nEntree €20.-\nVoorverkoop Adressen: \nRotterdam Noord\n*J&A Kapsalon – Benthuizerstraat 68-B\nTel 010 2651558 \nRotterdam Centrum\n*Tina Kapsalon – 1e Middellandstraat 49-B\nTel 010 477 7700\n*Original Beautysalon – Korte Bajonetstraat 70\nTel 010 2762540\n*Kapsalon Ana Paula – Middellandplein 28-A\nTel 010 4774727\n*Barbershop Tchida – Grote Visserijstraat 86\nTel 010 3141412\n*Dulce Kapsalon – Nieuwe Binnenweg 379\nTel 010 2447311\n*Kapsalon Lovely Hair Cut – Gijsinstraat 3\nTel 010 2308900\n*Haarstijl Stijl Westside Nieuwe Binnenweg 106\nTel 010 4368194\n*Kapsalon Othello – 1e Middelandstraat 92-B Rotterdam 010 203 6567\n*VI VA VI Hair Beauty Fashion Salon – Nieuwe Binnenweg 416-A Tel 010 2108276 (Gigi) \nRotterdam Zuid\n*Kapsalon Victoria – Groene Hilledijk 247\nTel 010 237 3567
URL:https://afrikalinks.nl/evenementen/eerbetoon-aan-jorge-neto/
LOCATION:Maassilo Rotterdam\, Rotterdam\, NL
CATEGORIES:Concerten
ATTACH;FMTTYPE=image/jpeg:https://afrikalinks.nl/wp-content/uploads/2020/02/367067_image_87606637_10206923892292862_2518228497755799552_n.jpg
END:VEVENT
END:VCALENDAR