BEGIN:VCALENDAR
VERSION:2.0
PRODID:-//Afrikalinks - ECPv6.15.20//NONSGML v1.0//EN
CALSCALE:GREGORIAN
METHOD:PUBLISH
X-ORIGINAL-URL:https://afrikalinks.nl
X-WR-CALDESC:Evenementen voor Afrikalinks
REFRESH-INTERVAL;VALUE=DURATION:PT1H
X-Robots-Tag:noindex
X-PUBLISHED-TTL:PT1H
BEGIN:VTIMEZONE
TZID:Europe/Amsterdam
BEGIN:DAYLIGHT
TZOFFSETFROM:+0100
TZOFFSETTO:+0200
TZNAME:CEST
DTSTART:20190331T010000
END:DAYLIGHT
BEGIN:STANDARD
TZOFFSETFROM:+0200
TZOFFSETTO:+0100
TZNAME:CET
DTSTART:20191027T010000
END:STANDARD
BEGIN:DAYLIGHT
TZOFFSETFROM:+0100
TZOFFSETTO:+0200
TZNAME:CEST
DTSTART:20200329T010000
END:DAYLIGHT
BEGIN:STANDARD
TZOFFSETFROM:+0200
TZOFFSETTO:+0100
TZNAME:CET
DTSTART:20201025T010000
END:STANDARD
BEGIN:DAYLIGHT
TZOFFSETFROM:+0100
TZOFFSETTO:+0200
TZNAME:CEST
DTSTART:20210328T010000
END:DAYLIGHT
BEGIN:STANDARD
TZOFFSETFROM:+0200
TZOFFSETTO:+0100
TZNAME:CET
DTSTART:20211031T010000
END:STANDARD
END:VTIMEZONE
BEGIN:VEVENT
DTSTART;TZID=Europe/Amsterdam:20200320T200000
DTEND;TZID=Europe/Amsterdam:20200320T203000
DTSTAMP:20260422T025821
CREATED:20200217T013412Z
LAST-MODIFIED:20200217T013412Z
UID:4272-1584734400-1584736200@afrikalinks.nl
SUMMARY:North African Grooves: Samira's Blues + Kush Collective | EKKO
DESCRIPTION:De Voorkamer: North African Grooves \nDe Voorkamer is an open space in Utrecht where people come together to meet other cultures. By working with peoples’ creativity and talents\, we connect diverse cultural backgrounds on a personal level. In our collaboration with EKKO we thrive to provide a professional stage for the talents of our community. The first edition of the collaboration will be all about the music of the desert. This night KUSH Collective from Sudan and Samira’s Blues from Morocco will meet and connect through traditional North African Gnawa music. \nSamira’s Blues\nSamira’s Blues brings North African spirituals and originals with Arabic\, Berber and African roots\, under the inspiring leadership of singer and songwriter Samira Dainan. Since the EP release in Paradiso\, her spiritual ‘desert blues’ has conquered the public from Amsterdam to the Sahel. \nKUSH Collective (KUSH BAND)\nKUSH is the old name of Sudan\, formerly known as the Kingdom of Kush. With their music they bring people together and share the beauty of traditional Sudanese music. KUSH Collective will ensure you to dance all night on their danceable African reggae! \nEKKO = Pin Only\nTickets: http://bit.ly/africanmusicnight
URL:https://afrikalinks.nl/evenementen/north-african-grooves-samiras-blues-kush-collective-ekko/
LOCATION:EKKO\, Utrecht\, NL
CATEGORIES:Concerten
ATTACH;FMTTYPE=image/jpeg:https://afrikalinks.nl/wp-content/uploads/2020/02/4272_image_86179944_3078170088902124_70926862292877312_o.jpg
END:VEVENT
BEGIN:VEVENT
DTSTART;TZID=Europe/Amsterdam:20200320T203000
DTEND;TZID=Europe/Amsterdam:20200320T230000
DTSTAMP:20260422T025821
CREATED:20200207T101130Z
LAST-MODIFIED:20200207T101130Z
UID:2964-1584736200-1584745200@afrikalinks.nl
SUMMARY:Club Doelen: 3MA | Ballaké Sissoko\, Driss El Maloumi & Rajery
DESCRIPTION:Het trio 3MA is een muzikale driesprong waarop het uiterste oosten van Afrika\, het hoge noorden en het westen elkaar treffen. Hun poëtische muziek bevat warmte\, een boodschap van vriendschap en vrede\, maar zit ook vol passie\, ritme en wonderschone versieringen. \nDe Malagassiër Rajery (“the Prince of Valiha”)\, de Marokkaan Driss El Maloumi en de Malinees Ballaké Sissoko bespelen alle drie een snaarinstrument uit de levendige muziektradities van hun land. \nRajery speelt valiha\, het nationale instrument van Madagaskar: een besnaarde bamboe buis die ook wel de harp van Oost-Afrika genoemd wordt. \nDriss El Maloumi (die onder meer met Paolo Fresu en Jordi Saval speelde) is een van de meesters van de Mahgreb en het Midden-Oosten op de melancholische oud. Het instrument van Ballaké Sissoko (bekend van zijn samenwerkingen met o.a. Ludovico Einaudi en Boubacar Traoré) is de kora\, een twaalfsnarige harpluit gemaakt van een kalebas\, waar de Malinese griotten al eeuwenlang hun traditionele en poëtische muziek op maken. \nDe drie muzikanten kwamen elkaar tegen op een muziekfestival in Agadir\, Marokko\, en het vonkte tussen hen. Samen besloten ze een muziektaal te ontwikkelen waarbij de melodieën en harmonieën uit hun landen elkaar aftasten\, versterken en omarmen. En dat levert iets unieks op.
URL:https://afrikalinks.nl/evenementen/club-doelen-3ma-ballake-sissoko-driss-el-maloumi-rajery/
LOCATION:de Doelen\, Schouwburgplein 50\, Rotterdam\, 3012 CL\, NL
CATEGORIES:Concerten
ATTACH;FMTTYPE=image/jpeg:https://afrikalinks.nl/wp-content/uploads/2020/02/2964_image_80363315_10157307983774998_4907440245273788416_o.jpg
END:VEVENT
BEGIN:VEVENT
DTSTART;TZID=Europe/Amsterdam:20200320T220000
DTEND;TZID=Europe/Amsterdam:20200321T030000
DTSTAMP:20260422T025821
CREATED:20200207T101133Z
LAST-MODIFIED:20200207T101133Z
UID:2970-1584741600-1584759600@afrikalinks.nl
SUMMARY:MC Yallah + Debmaster (concert)
DESCRIPTION:Stellar rap in Swahili and Luganda\, set to crazy beats. \nMC Yallah hails from Kenya\, lives and works in Kampala\, Uganda\, and is signed with the brand-new label Hakuna Kulala\, a sub-label of the renowned Nyege Nyege Tapes – organisers of the Nyege Nyege Festival\, which takes place a stone’s throw from the source of the Nile. MC Yallah recorded her debut record at Nyege Nyege’s Boutiq Studio together with the French producer Debmaster\, renowned for his crazy beats.  \nThe combo of Debmaster’s beats and MC Yallah’s baaanging vocals – a mix of Luganda and Swahili – results in sonic fireworks: Resident Advisor called the duo’s intense live performance at Unsound in Poland “one of the five most important performances of the year”. Now they’re touring Europe and will soon be bringing their brand of powerful\, futuristic rap to our rooftop. Prepare for fire!  \ntickets\n€14/€11 (presale)\nbit.ly/MC_Yallah \nfind out more\nEN beursschouwburg.be/en/events/mc-yallah/\nNL beursschouwburg.be/nl/events/mc-yallah/\nFR beursschouwburg.be/fr/events/mc-yallah/
URL:https://afrikalinks.nl/evenementen/mc-yallah-debmaster-concert/
LOCATION:Beursschouwburg\, Auguste Ortsstraat 20 -28\, Brussels\, 1000\, BE
CATEGORIES:Concerten
ATTACH;FMTTYPE=image/jpeg:https://afrikalinks.nl/wp-content/uploads/2020/02/2970_image_82091990_10157734005850782_4862973220497653760_o.jpg
END:VEVENT
BEGIN:VEVENT
DTSTART;TZID=Europe/Amsterdam:20200320T223000
DTEND;TZID=Europe/Amsterdam:20200321T000000
DTSTAMP:20260422T025821
CREATED:20200207T101132Z
LAST-MODIFIED:20200207T101132Z
UID:2967-1584743400-1584748800@afrikalinks.nl
SUMMARY:AFF20 - Slotconcert Dikwan
DESCRIPTION:Door de muzikale stijl van Dikwan (Erickson) kan men de warmte van de zon\, de gezelligheid en de feestelijke geest van zijn land (Congo) voelen.  De diversiteit en de mix van zijn muziek is terug te vinden in de rumba-rock maar ook in de latino-wereldmuziek en traditionele afro-muziek. Zijn passie en professionaliteit kan een publiek drie tot vier uur lang op het puntje van hun stoel houden of laten dansen …
URL:https://afrikalinks.nl/evenementen/aff20-slotconcert-dikwan/
LOCATION:De Centrale\, Kraankindersstraat 2\, Ghent\, 9000\, BE
CATEGORIES:Concerten
ATTACH;FMTTYPE=image/jpeg:https://afrikalinks.nl/wp-content/uploads/2020/02/2967_image_83882302_10159190537329348_405849279618351104_o.jpg
END:VEVENT
END:VCALENDAR