BEGIN:VCALENDAR
VERSION:2.0
PRODID:-//Afrikalinks - ECPv6.15.20//NONSGML v1.0//EN
CALSCALE:GREGORIAN
METHOD:PUBLISH
X-WR-CALNAME:Afrikalinks
X-ORIGINAL-URL:https://afrikalinks.nl
X-WR-CALDESC:Evenementen voor Afrikalinks
REFRESH-INTERVAL;VALUE=DURATION:PT1H
X-Robots-Tag:noindex
X-PUBLISHED-TTL:PT1H
BEGIN:VTIMEZONE
TZID:Europe/Amsterdam
BEGIN:DAYLIGHT
TZOFFSETFROM:+0100
TZOFFSETTO:+0200
TZNAME:CEST
DTSTART:20190331T010000
END:DAYLIGHT
BEGIN:STANDARD
TZOFFSETFROM:+0200
TZOFFSETTO:+0100
TZNAME:CET
DTSTART:20191027T010000
END:STANDARD
BEGIN:DAYLIGHT
TZOFFSETFROM:+0100
TZOFFSETTO:+0200
TZNAME:CEST
DTSTART:20200329T010000
END:DAYLIGHT
BEGIN:STANDARD
TZOFFSETFROM:+0200
TZOFFSETTO:+0100
TZNAME:CET
DTSTART:20201025T010000
END:STANDARD
BEGIN:DAYLIGHT
TZOFFSETFROM:+0100
TZOFFSETTO:+0200
TZNAME:CEST
DTSTART:20210328T010000
END:DAYLIGHT
BEGIN:STANDARD
TZOFFSETFROM:+0200
TZOFFSETTO:+0100
TZNAME:CET
DTSTART:20211031T010000
END:STANDARD
END:VTIMEZONE
BEGIN:VEVENT
DTSTART;TZID=Europe/Amsterdam:20200318T203000
DTEND;TZID=Europe/Amsterdam:20200318T220000
DTSTAMP:20260422T025715
CREATED:20200210T161237Z
LAST-MODIFIED:20200210T161237Z
UID:3865-1584563400-1584568800@afrikalinks.nl
SUMMARY:Bassekou Kouyate & Ngoni Ba | LantarenVenster
DESCRIPTION:Bassekou Kouyaté is one of the true masters of the ngoni\, an ancient traditional lute found throughout West Africa. His new CD “Miri” is #1 in the world music charts Europe in February and March 2019 and has be voted as “Best Album of the Year” by Songlines magazine.\n____________________________ \nBassekou Kouyaté en zijn band Ngoni Ba\, een van de beste livebands van West-Afrika\, komen terug naar LantarenVenster om de muziek van hun album Miri voor te stellen. Miri gaat over liefde\, vriendschap\, familie en de dingen die er echt toe doen in tijden van crisis. Het is een muzikale reis naar Bassekous geboortedorp Garana in Mali\, aan de oevers van de Niger. Miri voerde begin 2019 twee maanden lang de World Music Charts Europe aan\, en werd onlangs door het gezaghebbende wereldmuziekblad Songlines verkozen tot beste album van 2019! \nBassekou is een grootmeester van de ngoni\, een oude traditionele luit die in heel West-Afrika wordt bespeeld. Door dit snaarinstrument elektrisch te versterken en te gebruiken in pop\, blues en rockmuziek zorgde de Malinese muzikant er eigenhandig voor dat de ngoni de hele wereld veroverde. Kouyate’s wat ongewone bandsamenstelling bestaat uit drie ngoni-gitaristen\, twee percussionisten\, en de fantastische zangeres Amy Sacko. De groep gaf optredens op toonaangevende festivals over de geheld wereld\, zoals Glastonbury\, Roskilde\, Fuji Rock\, North Sea Jazz en WOMAD en werkte samen met Ali Farka Touré\, Toumani Diabaté\, Taj Mahal\, Joachim Kühn en Damon Alban. \n“…wat Kouyaté doet is eigenlijk altijd goed. Zo ook zijn nieuwe album Miri. Zijn hele carrière en ook zijn familieband Ngoni Ba draait om de ngoni\, de kleine viersnarige luit. Toch speelt die op dit album een kleinere rol\, hij ranselt het gitaartje niet in zijn bekende Hendrix-achtige stijl. Belangrijker is de kalme swing van de band die hij heerlijk kan opvoeren tot een stomende groove.” – NRC Handelsblad\, Leendert van der Valk \nBEZETTING\nBassekou Kouyaté – ngoni\nAminata Sacko – zang\nMamadou Kouyaté – bas ngoni\nMahamadou Tounkara – yabara\, tama\nAbou Sissoko – medium ngoni\nMoctar Kouyaté – kalebas\n____________________________ \nINFO\nWoensdag 18 maart\nAanvang: 20:15\nPrijs: € 20\nTickets en meer info: http://bit.ly/BassekouKouyate-NgoniBa
URL:https://afrikalinks.nl/evenementen/bassekou-kouyate-ngoni-ba-lantarenvenster/
LOCATION:LantarenVenster\, Otto Reuchlinweg 996\, Rotterdam\, 3072 MD\, NL
CATEGORIES:Concerten
ATTACH;FMTTYPE=image/jpeg:https://afrikalinks.nl/wp-content/uploads/2020/02/3865_image_84134312_2843931698963618_2222958610076401664_o.jpg
END:VEVENT
END:VCALENDAR